Workbook

Sheet Hemmamatcher
A1: Hemmamatcher och bemanning i kiosk/fika/sekretariat/matchvärd/film • Sundsvalls IBF F12 Södermalm 2026/2027
A2: Endast hemmamatcher • långpannekaka, kiosk, film, sekretariat och matchvärdar
A4: Datum | B4: Dag | C4: Tid | D4: Serie/DM | E4: Motståndare | F4: Hall | G4: Långpannekaka | H4: Kioskansvar | I4: Filmansvar | J4: Sekretariat 1 | K4: Sekretariat 2 | L4: Matchvärd 1 | M4: Matchvärd 2
A5: 46319 | B5: Lördag | C5: 0.42708333 | D5: Serie 2A | E5: Örnsköldsvik IBK F12 Svart | F5: Åkersvikhallen | G5: Ella Hallberg – Långpannekaka | H5: Angelina Spurins | I5: Astrid Petersson | J5: Elin Hallin | K5: Tilda Backlund | L5: Ester Sahlin | M5: Selma Persson
A6: 46347 | B6: Lördag | C6: 0.53125 | D6: Serie 1B | E6: Sundsvalls IBF F11-12 Haga 1 | F6: Höglunda | G6: Nora Gustavsson – Långpannekaka | H6: Ester Sahlin | I6: Selma Persson | J6: Miranda Rauch Lindberg | K6: Nova Strid | L6: Saga Lundgren | M6: Evelina Daif
A7: 46368 | B7: Lördag | C7: 0.53125 | D7: Serie 2A | E7: Moälvens IBK U F13 | F7: Höglunda | G7: Märta Saltin – Långpannekaka | H7: Vilma Forssmark | I7: Nova Strid | J7: Evelina Daif | K7: Tuva Sellin | L7: Signe Jonsson Lundberg | M7: Miranda Rauch Lindberg
A8: 46404 | B8: Söndag | C8: 0.4375 | D8: Serie 2A | E8: G/K IBS F11-F12 | F8: Höglunda | G8: Ella Hallberg – Långpannekaka | H8: Tuva Sellin | I8: Ester Sahlin | J8: Elin Hallin | K8: Saga Lundgren | L8: Angelina Spurins | M8: Signe Jonsson Lundberg
A9: 46404 | B9: Söndag | C9: 0.51041667 | D9: Serie 1B | E9: Jäbo IK F12 Vit | F9: Höglunda | G9: Tilda Andersson – Långpannekaka | H9: Saga Lundgren | I9: Holly Rigedal | J9: Angelina Spurins | K9: Astrid Petersson | L9: Vilma Forssmark | M9: Greta Thalen
A10: 46446 | B10: Söndag | C10: 0.44791667 | D10: Serie 2A | E10: IBK Härnösand Ungdom F11-13 | F10: Höglunda | G10: Ellie Persson – Långpannekaka | H10: Evelina Daif | I10: Astrid Petersson | J10: Holly Rigedal | K10: Miranda Rauch Lindberg | L10: Signe Jonsson Lundberg | M10: Elin Hallin
A11: 46453 | B11: Söndag | C11: 0.63541667 | D11: Serie 2A | E11: Moälvens IBK Ungdom F11-12 Svart | F11: Höglunda | G11: Tilda Strandh – Långpannekaka | H11: Tuva Sellin | I11: Selma Persson | J11: Greta Thalen | K11: Holly Rigedal | L11: Nova Strid | M11: Tilda Backlund
A12: • Varje hemmamatch har en långpannekaka.
A13: • Tränarnas barn fördelas endast på uppgiften långpannekaka.
A14: • Varje hemmamatch har en kioskansvarig, en filmansvarig, två personer i sekretariatet och två matchvärdar.
A15: • Vid förhinder ansvarar vi själva för att byta med en annan förälder.

Sheet Fördelning per spelare
A1: Fördelning av aktiviteter per spelare
A2: Antal tilldelningar i bemanningsschemat för hemmamatcher 2026/2027
A4: Spelare | B4: Kaka | C4: Kiosk | D4: Film | E4: Sekretariat 1 | F4: Sekretariat 2 | G4: Matchvärd 1 | H4: Matchvärd 2 | I4: Totalt antal aktiviteter
A5: Angelina Spurins | B5: =COUNTIF(Hemmamatcher!$G$5:$G$11,A5&"*") -> 0 | C5: =COUNTIF(Hemmamatcher!$H$5:$H$11,A5) -> 1 | D5: =COUNTIF(Hemmamatcher!$I$5:$I$11,A5) -> 0 | E5: =COUNTIF(Hemmamatcher!$J$5:$J$11,A5) -> 1 | F5: =COUNTIF(Hemmamatcher!$K$5:$K$11,A5) -> 0 | G5: =COUNTIF(Hemmamatcher!$L$5:$L$11,A5) -> 1 | H5: =COUNTIF(Hemmamatcher!$M$5:$M$11,A5) -> 0 | I5: =SUM(B5:H5) -> 3
A6: Astrid Petersson | B6: =COUNTIF(Hemmamatcher!$G$5:$G$11,A6&"*") -> 0 | C6: =COUNTIF(Hemmamatcher!$H$5:$H$11,A6) -> 0 | D6: =COUNTIF(Hemmamatcher!$I$5:$I$11,A6) -> 2 | E6: =COUNTIF(Hemmamatcher!$J$5:$J$11,A6) -> 0 | F6: =COUNTIF(Hemmamatcher!$K$5:$K$11,A6) -> 1 | G6: =COUNTIF(Hemmamatcher!$L$5:$L$11,A6) -> 0 | H6: =COUNTIF(Hemmamatcher!$M$5:$M$11,A6) -> 0 | I6: =SUM(B6:H6) -> 3
A7: Elin Hallin | B7: =COUNTIF(Hemmamatcher!$G$5:$G$11,A7&"*") -> 0 | C7: =COUNTIF(Hemmamatcher!$H$5:$H$11,A7) -> 0 | D7: =COUNTIF(Hemmamatcher!$I$5:$I$11,A7) -> 0 | E7: =COUNTIF(Hemmamatcher!$J$5:$J$11,A7) -> 2 | F7: =COUNTIF(Hemmamatcher!$K$5:$K$11,A7) -> 0 | G7: =COUNTIF(Hemmamatcher!$L$5:$L$11,A7) -> 0 | H7: =COUNTIF(Hemmamatcher!$M$5:$M$11,A7) -> 1 | I7: =SUM(B7:H7) -> 3
A8: Ella Hallberg | B8: =COUNTIF(Hemmamatcher!$G$5:$G$11,A8&"*") -> 2 | C8: =COUNTIF(Hemmamatcher!$H$5:$H$11,A8) -> 0 | D8: =COUNTIF(Hemmamatcher!$I$5:$I$11,A8) -> 0 | E8: =COUNTIF(Hemmamatcher!$J$5:$J$11,A8) -> 0 | F8: =COUNTIF(Hemmamatcher!$K$5:$K$11,A8) -> 0 | G8: =COUNTIF(Hemmamatcher!$L$5:$L$11,A8) -> 0 | H8: =COUNTIF(Hemmamatcher!$M$5:$M$11,A8) -> 0 | I8: =SUM(B8:H8) -> 2
A9: Ellie Persson | B9: =COUNTIF(Hemmamatcher!$G$5:$G$11,A9&"*") -> 1 | C9: =COUNTIF(Hemmamatcher!$H$5:$H$11,A9) -> 0 | D9: =COUNTIF(Hemmamatcher!$I$5:$I$11,A9) -> 0 | E9: =COUNTIF(Hemmamatcher!$J$5:$J$11,A9) -> 0 | F9: =COUNTIF(Hemmamatcher!$K$5:$K$11,A9) -> 0 | G9: =COUNTIF(Hemmamatcher!$L$5:$L$11,A9) -> 0 | H9: =COUNTIF(Hemmamatcher!$M$5:$M$11,A9) -> 0 | I9: =SUM(B9:H9) -> 1
A10: Ester Sahlin | B10: =COUNTIF(Hemmamatcher!$G$5:$G$11,A10&"*") -> 0 | C10: =COUNTIF(Hemmamatcher!$H$5:$H$11,A10) -> 1 | D10: =COUNTIF(Hemmamatcher!$I$5:$I$11,A10) -> 1 | E10: =COUNTIF(Hemmamatcher!$J$5:$J$11,A10) -> 0 | F10: =COUNTIF(Hemmamatcher!$K$5:$K$11,A10) -> 0 | G10: =COUNTIF(Hemmamatcher!$L$5:$L$11,A10) -> 1 | H10: =COUNTIF(Hemmamatcher!$M$5:$M$11,A10) -> 0 | I10: =SUM(B10:H10) -> 3
A11: Evelina Daif | B11: =COUNTIF(Hemmamatcher!$G$5:$G$11,A11&"*") -> 0 | C11: =COUNTIF(Hemmamatcher!$H$5:$H$11,A11) -> 1 | D11: =COUNTIF(Hemmamatcher!$I$5:$I$11,A11) -> 0 | E11: =COUNTIF(Hemmamatcher!$J$5:$J$11,A11) -> 1 | F11: =COUNTIF(Hemmamatcher!$K$5:$K$11,A11) -> 0 | G11: =COUNTIF(Hemmamatcher!$L$5:$L$11,A11) -> 0 | H11: =COUNTIF(Hemmamatcher!$M$5:$M$11,A11) -> 1 | I11: =SUM(B11:H11) -> 3
A12: Greta Thalen | B12: =COUNTIF(Hemmamatcher!$G$5:$G$11,A12&"*") -> 0 | C12: =COUNTIF(Hemmamatcher!$H$5:$H$11,A12) -> 0 | D12: =COUNTIF(Hemmamatcher!$I$5:$I$11,A12) -> 0 | E12: =COUNTIF(Hemmamatcher!$J$5:$J$11,A12) -> 1 | F12: =COUNTIF(Hemmamatcher!$K$5:$K$11,A12) -> 0 | G12: =COUNTIF(Hemmamatcher!$L$5:$L$11,A12) -> 0 | H12: =COUNTIF(Hemmamatcher!$M$5:$M$11,A12) -> 1 | I12: =SUM(B12:H12) -> 2
A13: Holly Rigedal | B13: =COUNTIF(Hemmamatcher!$G$5:$G$11,A13&"*") -> 0 | C13: =COUNTIF(Hemmamatcher!$H$5:$H$11,A13) -> 0 | D13: =COUNTIF(Hemmamatcher!$I$5:$I$11,A13) -> 1 | E13: =COUNTIF(Hemmamatcher!$J$5:$J$11,A13) -> 1 | F13: =COUNTIF(Hemmamatcher!$K$5:$K$11,A13) -> 1 | G13: =COUNTIF(Hemmamatcher!$L$5:$L$11,A13) -> 0 | H13: =COUNTIF(Hemmamatcher!$M$5:$M$11,A13) -> 0 | I13: =SUM(B13:H13) -> 3
A14: Miranda Rauch Lindberg | B14: =COUNTIF(Hemmamatcher!$G$5:$G$11,A14&"*") -> 0 | C14: =COUNTIF(Hemmamatcher!$H$5:$H$11,A14) -> 0 | D14: =COUNTIF(Hemmamatcher!$I$5:$I$11,A14) -> 0 | E14: =COUNTIF(Hemmamatcher!$J$5:$J$11,A14) -> 1 | F14: =COUNTIF(Hemmamatcher!$K$5:$K$11,A14) -> 1 | G14: =COUNTIF(Hemmamatcher!$L$5:$L$11,A14) -> 0 | H14: =COUNTIF(Hemmamatcher!$M$5:$M$11,A14) -> 1 | I14: =SUM(B14:H14) -> 3
A15: Märta Saltin | B15: =COUNTIF(Hemmamatcher!$G$5:$G$11,A15&"*") -> 1 | C15: =COUNTIF(Hemmamatcher!$H$5:$H$11,A15) -> 0 | D15: =COUNTIF(Hemmamatcher!$I$5:$I$11,A15) -> 0 | E15: =COUNTIF(Hemmamatcher!$J$5:$J$11,A15) -> 0 | F15: =COUNTIF(Hemmamatcher!$K$5:$K$11,A15) -> 0 | G15: =COUNTIF(Hemmamatcher!$L$5:$L$11,A15) -> 0 | H15: =COUNTIF(Hemmamatcher!$M$5:$M$11,A15) -> 0 | I15: =SUM(B15:H15) -> 1
A16: Nora Gustavsson | B16: =COUNTIF(Hemmamatcher!$G$5:$G$11,A16&"*") -> 1 | C16: =COUNTIF(Hemmamatcher!$H$5:$H$11,A16) -> 0 | D16: =COUNTIF(Hemmamatcher!$I$5:$I$11,A16) -> 0 | E16: =COUNTIF(Hemmamatcher!$J$5:$J$11,A16) -> 0 | F16: =COUNTIF(Hemmamatcher!$K$5:$K$11,A16) -> 0 | G16: =COUNTIF(Hemmamatcher!$L$5:$L$11,A16) -> 0 | H16: =COUNTIF(Hemmamatcher!$M$5:$M$11,A16) -> 0 | I16: =SUM(B16:H16) -> 1
... A25: Vilma Forssmark | B25: =COUNTIF(Hemmamatcher!$G$5:$G$11,A25&"*") -> 0 | C25: =COUNTIF(Hemmamatcher!$H$5:$H$11,A25) -> 1 | D25: =COUNTIF(Hemmamatcher!$I$5:$I$11,A25) -> 0 | E25: =COUNTIF(Hemmamatcher!$J$5:$J$11,A25) -> 0 | F25: =COUNTIF(Hemmamatcher!$K$5:$K$11,A25) -> 0 | G25: =COUNTIF(Hemmamatcher!$L$5:$L$11,A25) -> 1 | H25: =COUNTIF(Hemmamatcher!$M$5:$M$11,A25) -> 0 | I25: =SUM(B25:H25) -> 2
A26: Totalt | B26: =SUM(B5:B25) -> 7 | C26: =SUM(C5:C25) -> 7 | D26: =SUM(D5:D25) -> 7 | E26: =SUM(E5:E25) -> 7 | F26: =SUM(F5:F25) -> 7 | G26: =SUM(G5:G25) -> 7 | H26: =SUM(H5:H25) -> 7 | I26: =SUM(I5:I25) -> 49
A28: Tränarnas barn är endast fördelade på kaka: Ellie Persson, Ella Hallberg, Märta Saltin, Nora Gustavsson, Tilda Andersson och Tilda Strandh.
