Workbook

Sheet Placering Singeltävling
D1: Poäng | K1: Placering
A2: Placering | B2: Namn | C2: Golfklubb | D2: Säter14/6 | E2: Hofors 28/6 | F2: Hedemora 8/8 | G2: Säter 16/8 | H2: Summa tre bästa | I2: Snitt | K2: Säter14/6 | L2: Hofors 28/6 | M2: Hedemora 8/8 | N2: Säter 16/8 | P2: Summa | Q2: Bästa | R2: Summa | S2: Bästa | T2: Total placering tre bästa
B3: Engblom Börje | C3: 490614-029 | D3: =SUM('Säter 14Jun'!D4) -> 91 | E3: =SUM('Hofors 28 Juni'!D4) -> 84 | F3: =SUM('Hedemora 8 Aug'!D4) -> 100 | G3: =SUM('Säter 16 Aug'!D4) -> 96 | H3: =SUM(D3:G3) -> 371 | I3: =SUM(H3)/3 -> 123.66667 | J3: Engblom Börje | K3: =SUM('Säter 14Jun'!E4) -> 20 | L3: =SUM('Hofors 28 Juni'!E4) -> 17 | M3: =SUM('Hedemora 8 Aug'!E4) -> 20 | N3: =SUM('Säter 16 Aug'!E4) -> 18 | P3: =SUM(K3:N3) -> 75 | Q3: =MIN(D3:H3,1) -> 1 | R3: =SUM(K3:O3) -> 75 | S3: =SMALL(K3:N3,1) -> 17 | T3: =SUM(K3:N3) -> 75
B4: Fernström Tommy | C4: 640129-046 | D4: =SUM('Säter 14Jun'!D5) -> 0 | E4: =SUM('Hofors 28 Juni'!D5) -> 81 | F4: =SUM('Hedemora 8 Aug'!D5) -> 82 | G4: =SUM('Säter 16 Aug'!D5) -> 85 | H4: =SUM(D4:G4) -> 248 | I4: =SUM(H4)/3 -> 82.666667 | J4: Fernström Tommy | K4: =SUM('Säter 14Jun'!E5) -> 23 | L4: =SUM('Hofors 28 Juni'!E5) -> 15 | M4: =SUM('Hedemora 8 Aug'!E5) -> 13 | N4: =SUM('Säter 16 Aug'!E5) -> 14 | P4: =SUM(K4:N4) -> 65 | Q4: =MIN(D4:H4,1) -> 0 | R4: =SUM(K4:O4) -> 65 | S4: =SMALL(K4:N4,1) -> 13 | T4: =SUM(K4:N4) -> 65
B5: Furhof Henrik | C5: 680711-048 | D5: =SUM('Säter 14Jun'!D6) -> 83 | E5: =SUM('Hofors 28 Juni'!D6) -> 68 | F5: =SUM('Hedemora 8 Aug'!D6) -> 72 | G5: =SUM('Säter 16 Aug'!D6) -> 81 | H5: =SUM(D5:G5) -> 304 | I5: =SUM(H5)/3 -> 101.33333 | J5: Furhof Henrik | K5: =SUM('Säter 14Jun'!E6) -> 14 | L5: =SUM('Hofors 28 Juni'!E6) -> 2 | M5: =SUM('Hedemora 8 Aug'!E6) -> 4 | N5: =SUM('Säter 16 Aug'!E6) -> 12 | P5: =SUM(K5:N5) -> 32 | Q5: =MIN(D5:H5,1) -> 1 | R5: =SUM(K5:O5) -> 32 | S5: =SMALL(K5:N5,1) -> 2 | T5: =SUM(K5:N5) -> 32
B6: Jansson Mats | C6: 540524-030 | D6: =SUM('Säter 14Jun'!D7) -> 90 | E6: =SUM('Hofors 28 Juni'!D7) -> 0 | F6: =SUM('Hedemora 8 Aug'!D7) -> 0 | G6: =SUM('Säter 16 Aug'!D7) -> 0 | H6: =SUM(D6:G6) -> 90 | I6: =SUM(H6)/3 -> 30 | J6: Jansson Mats | K6: =SUM('Säter 14Jun'!E7) -> 19 | L6: =SUM('Hofors 28 Juni'!E7) -> 23 | M6: =SUM('Hedemora 8 Aug'!E7) -> 23 | N6: =SUM('Säter 16 Aug'!E7) -> 23 | P6: =SUM(K6:N6) -> 88 | Q6: =MIN(D6:H6,1) -> 0 | R6: =SUM(K6:O6) -> 88 | S6: =SMALL(K6:N6,1) -> 19 | T6: =SUM(K6:N6) -> 88
B7: Larsson Ove | C7: 440720-014 | D7: =SUM('Säter 14Jun'!D8) -> 85 | E7: =SUM('Hofors 28 Juni'!D8) -> 74 | F7: =SUM('Hedemora 8 Aug'!D8) -> 82 | G7: =SUM('Säter 16 Aug'!D8) -> 74 | H7: =SUM(D7:G7) -> 315 | I7: =SUM(H7)/3 -> 105 | J7: Larsson Ove | K7: =SUM('Säter 14Jun'!E8) -> 15 | L7: =SUM('Hofors 28 Juni'!E8) -> 10 | M7: =SUM('Hedemora 8 Aug'!E8) -> 12 | N7: =SUM('Säter 16 Aug'!E8) -> 7 | P7: =SUM(K7:N7) -> 44 | Q7: =MIN(D7:H7,1) -> 1 | R7: =SUM(K7:O7) -> 44 | S7: =SMALL(K7:N7,1) -> 7 | T7: =SUM(K7:N7) -> 44
B8: Lundgren Lennart | C8: 610315-042 | D8: =SUM('Säter 14Jun'!D9) -> 74 | E8: =SUM('Hofors 28 Juni'!D9) -> 72 | F8: =SUM('Hedemora 8 Aug'!D9) -> 77 | G8: =SUM('Säter 16 Aug'!D9) -> 76 | H8: =SUM(D8:G8) -> 299 | I8: =SUM(H8)/3 -> 99.666667 | J8: Lundgren Lennart | K8: =SUM('Säter 14Jun'!E9) -> 6 | L8: =SUM('Hofors 28 Juni'!E9) -> 5 | M8: =SUM('Hedemora 8 Aug'!E9) -> 8 | N8: =SUM('Säter 16 Aug'!E9) -> 9 | P8: =SUM(K8:N8) -> 28 | Q8: =MIN(D8:H8,1) -> 1 | R8: =SUM(K8:O8) -> 28 | S8: =SMALL(K8:N8,1) -> 5 | T8: =SUM(K8:N8) -> 28
B9: Michaelsson Peter | C9: 650912-022 | D9: =SUM('Säter 14Jun'!D10) -> 90 | E9: =SUM('Hofors 28 Juni'!D10) -> 85 | F9: =SUM('Hedemora 8 Aug'!D10) -> 81 | G9: =SUM('Säter 16 Aug'!D10) -> 92 | H9: =SUM(D9:G9) -> 348 | I9: =SUM(H9)/3 -> 116 | J9: Michaelsson Peter | K9: =SUM('Säter 14Jun'!E10) -> 18 | L9: =SUM('Hofors 28 Juni'!E10) -> 18 | M9: =SUM('Hedemora 8 Aug'!E10) -> 11 | N9: =SUM('Säter 16 Aug'!E10) -> 17 | P9: =SUM(K9:N9) -> 64 | Q9: =MIN(D9:H9,1) -> 1 | R9: =SUM(K9:O9) -> 64 | S9: =SMALL(K9:N9,1) -> 11 | T9: =SUM(K9:N9) -> 64
B10: Morelius Jan-Olov | C10: 490621-031 | D10: =SUM('Säter 14Jun'!D11) -> 79 | E10: =SUM('Hofors 28 Juni'!D11) -> 74 | F10: =SUM('Hedemora 8 Aug'!D11) -> 79 | G10: =SUM('Säter 16 Aug'!D11) -> 70 | H10: =SUM(D10:G10) -> 302 | I10: =SUM(H10)/3 -> 100.66667 | J10: Morelius Jan-Olov | K10: =SUM('Säter 14Jun'!E11) -> 10 | L10: =SUM('Hofors 28 Juni'!E11) -> 9 | M10: =SUM('Hedemora 8 Aug'!E11) -> 10 | N10: =SUM('Säter 16 Aug'!E11) -> 4 | P10: =SUM(K10:N10) -> 33 | Q10: =MIN(D10:H10,1) -> 1 | R10: =SUM(K10:O10) -> 33 | S10: =SMALL(K10:N10,1) -> 4 | T10: =SUM(K10:N10) -> 33
B11: Nord Sören | C11: 610607-017 | D11: =SUM('Säter 14Jun'!D12) -> 86 | E11: =SUM('Hofors 28 Juni'!D12) -> 73 | F11: =SUM('Hedemora 8 Aug'!D12) -> 71 | G11: =SUM('Säter 16 Aug'!D12) -> 73 | H11: =SUM(D11:G11) -> 303 | I11: =SUM(H11)/3 -> 101 | J11: Nord Sören | K11: =SUM('Säter 14Jun'!E12) -> 16 | L11: =SUM('Hofors 28 Juni'!E12) -> 8 | M11: =SUM('Hedemora 8 Aug'!E12) -> 2 | N11: =SUM('Säter 16 Aug'!E12) -> 6 | P11: =SUM(K11:N11) -> 32 | Q11: =MIN(D11:H11,1) -> 1 | R11: =SUM(K11:O11) -> 32 | S11: =SMALL(K11:N11,1) -> 2 | T11: =SUM(K11:N11) -> 32
B12: Pers Nils | C12: 601114-035 | D12: =SUM('Säter 14Jun'!D13) -> 71 | E12: =SUM('Hofors 28 Juni'!D13) -> 73 | F12: =SUM('Hedemora 8 Aug'!D13) -> 83 | G12: =SUM('Säter 16 Aug'!D13) -> 76 | H12: =SUM(D12:G12) -> 303 | I12: =SUM(H12)/3 -> 101 | J12: Pers Nils | K12: =SUM('Säter 14Jun'!E13) -> 1 | L12: =SUM('Hofors 28 Juni'!E13) -> 6 | M12: =SUM('Hedemora 8 Aug'!E13) -> 14 | N12: =SUM('Säter 16 Aug'!E13) -> 8 | P12: =SUM(K12:N12) -> 29 | Q12: =MIN(D12:H12,1) -> 1 | R12: =SUM(K12:O12) -> 29 | S12: =SMALL(K12:N12,1) -> 1 | T12: =SUM(K12:N12) -> 29
B13: Pers Olle | C13: 630522-031 | D13: =SUM('Säter 14Jun'!D14) -> 79 | E13: =SUM('Hofors 28 Juni'!D14) -> 72 | F13: =SUM('Hedemora 8 Aug'!D14) -> 70 | G13: =SUM('Säter 16 Aug'!D14) -> 69 | H13: =SUM(D13:G13) -> 290 | I13: =SUM(H13)/3 -> 96.666667 | J13: Pers Olle | K13: =SUM('Säter 14Jun'!E14) -> 9 | L13: =SUM('Hofors 28 Juni'!E14) -> 4 | M13: =SUM('Hedemora 8 Aug'!E14) -> 1 | N13: =SUM('Säter 16 Aug'!E14) -> 2 | P13: =SUM(K13:N13) -> 16 | Q13: =MIN(D13:H13,1) -> 1 | R13: =SUM(K13:O13) -> 16 | S13: =SMALL(K13:N13,1) -> 1 | T13: =SUM(K13:N13) -> 16
B14: Persson Mikael | C14: 670622-062 | D14: =SUM('Säter 14Jun'!D15) -> 74 | E14: =SUM('Hofors 28 Juni'!D15) -> 67 | F14: =SUM('Hedemora 8 Aug'!D15) -> 84 | G14: =SUM('Säter 16 Aug'!D15) -> 70 | H14: =SUM(D14:G14) -> 295 | I14: =SUM(H14)/3 -> 98.333333 | J14: Persson Mikael | K14: =SUM('Säter 14Jun'!E15) -> 5 | L14: =SUM('Hofors 28 Juni'!E15) -> 1 | M14: =SUM('Hedemora 8 Aug'!E15) -> 15 | N14: =SUM('Säter 16 Aug'!E15) -> 3 | P14: =SUM(K14:N14) -> 24 | Q14: =MIN(D14:H14,1) -> 1 | R14: =SUM(K14:O14) -> 24 | S14: =SMALL(K14:N14,1) -> 1 | T14: =SUM(K14:N14) -> 24
B15: Persson Peter | C15: 611106-016 | D15: =SUM('Säter 14Jun'!D16) -> 77 | E15: =SUM('Hofors 28 Juni'!D16) -> 71 | F15: =SUM('Hedemora 8 Aug'!D16) -> 85 | G15: =SUM('Säter 16 Aug'!D16) -> 69 | H15: =SUM(D15:G15) -> 302 | I15: =SUM(H15)/3 -> 100.66667 | J15: Persson Peter | K15: =SUM('Säter 14Jun'!E16) -> 8 | L15: =SUM('Hofors 28 Juni'!E16) -> 3 | M15: =SUM('Hedemora 8 Aug'!E16) -> 16 | N15: =SUM('Säter 16 Aug'!E16) -> 1 | P15: =SUM(K15:N15) -> 28 | Q15: =MIN(D15:H15,1) -> 1 | R15: =SUM(K15:O15) -> 28 | S15: =SMALL(K15:N15,1) -> 1 | T15: =SUM(K15:N15) -> 28
B16: Persson Stefan | C16: 700304-054 | D16: =SUM('Säter 14Jun'!D17) -> 83 | E16: =SUM('Hofors 28 Juni'!D17) -> 76 | F16: =SUM('Hedemora 8 Aug'!D17) -> 73 | G16: =SUM('Säter 16 Aug'!D17) -> 79 | H16: =SUM(D16:G16) -> 311 | I16: =SUM(H16)/2 -> 155.5 | J16: Persson Stefan | K16: =SUM('Säter 14Jun'!E17) -> 13 | L16: =SUM('Hofors 28 Juni'!E17) -> 13 | M16: =SUM('Hedemora 8 Aug'!E17) -> 5 | N16: =SUM('Säter 16 Aug'!E17) -> 11 | P16: =SUM(K16:N16) -> 42 | Q16: =MIN(D16:H16,1) -> 1 | R16: =SUM(K16:O16) -> 42 | S16: =SMALL(K16:N16,1) -> 5 | T16: =SUM(K16:N16) -> 42
B17: Remsu Vesa | C17: 591002-027 | D17: =SUM('Säter 14Jun'!D18) -> 72 | E17: =SUM('Hofors 28 Juni'!D18) -> 75 | F17: =SUM('Hedemora 8 Aug'!D18) -> 72 | G17: =SUM('Säter 16 Aug'!D18) -> 77 | H17: =SUM(D17:G17) -> 296 | I17: =SUM(H17)/3 -> 98.666667 | J17: Remsu Vesa | K17: =SUM('Säter 14Jun'!E18) -> 2 | L17: =SUM('Hofors 28 Juni'!E18) -> 12 | M17: =SUM('Hedemora 8 Aug'!E18) -> 3 | N17: =SUM('Säter 16 Aug'!E18) -> 10 | P17: =SUM(K17:N17) -> 27 | Q17: =MIN(D17:H17,1) -> 1 | R17: =SUM(K17:O17) -> 27 | S17: =SMALL(K17:N17,1) -> 2 | T17: =SUM(K17:N17) -> 27
B18: Sundlöf Peter | C18: 671126-049 | D18: =SUM('Säter 14Jun'!D19) -> 73 | E18: =SUM('Hofors 28 Juni'!D19) -> 73 | F18: =SUM('Hedemora 8 Aug'!D19) -> 0 | G18: =SUM('Säter 16 Aug'!D19) -> 84 | H18: =SUM(D18:G18) -> 230 | I18: =SUM(H18)/3 -> 76.666667 | J18: Sundlöf Peter | K18: =SUM('Säter 14Jun'!E19) -> 3 | L18: =SUM('Hofors 28 Juni'!E19) -> 7 | M18: =SUM('Hedemora 8 Aug'!E19) -> 23 | N18: =SUM('Säter 16 Aug'!E19) -> 13 | P18: =SUM(K18:N18) -> 46 | Q18: =MIN(D18:H18,1) -> 0 | R18: =SUM(K18:O18) -> 46 | S18: =SMALL(K18:N18,1) -> 3 | T18: =SUM(K18:N18) -> 46
B19: Vikström Adrian | C19: 941218-025 | D19: =SUM('Säter 14Jun'!D20) -> 79 | E19: =SUM('Hofors 28 Juni'!D20) -> 83 | F19: =SUM('Hedemora 8 Aug'!D20) -> 100 | G19: =SUM('Säter 16 Aug'!D20) -> 0 | H19: =SUM(D19:G19) -> 262 | I19: =SUM(H19)/3 -> 87.333333 | J19: Vikström Adrian | K19: =SUM('Säter 14Jun'!E20) -> 11 | L19: =SUM('Hofors 28 Juni'!E20) -> 16 | M19: =SUM('Hedemora 8 Aug'!E20) -> 19 | N19: =SUM('Säter 16 Aug'!E20) -> 23 | P19: =SUM(K19:N19) -> 69 | Q19: =MIN(D19:H19,1) -> 0 | R19: =SUM(K19:O19) -> 69 | S19: =SMALL(K19:N19,1) -> 11 | T19: =SUM(K19:N19) -> 69
B20: Vikström Per | C20: 610528-022 | D20: =SUM('Säter 14Jun'!D21) -> 74 | E20: =SUM('Hofors 28 Juni'!D21) -> 86 | F20: =SUM('Hedemora 8 Aug'!D21) -> 75 | G20: =SUM('Säter 16 Aug'!D21) -> 89 | H20: =SUM(D20:G20) -> 324 | I20: =SUM(H20)/2 -> 162 | J20: Vikström Per | K20: =SUM('Säter 14Jun'!E21) -> 4 | L20: =SUM('Hofors 28 Juni'!E21) -> 19 | M20: =SUM('Hedemora 8 Aug'!E21) -> 6 | N20: =SUM('Säter 16 Aug'!E21) -> 15 | P20: =SUM(K20:N20) -> 44 | Q20: =MIN(D20:H20,1) -> 1 | R20: =SUM(K20:O20) -> 44 | S20: =SMALL(K20:N20,1) -> 4 | T20: =SUM(K20:N20) -> 44
B21: Wallén Magnus | C21: 720812-027 | D21: =SUM('Säter 14Jun'!D22) -> 87 | E21: =SUM('Hofors 28 Juni'!D22) -> 0 | F21: =SUM('Hedemora 8 Aug'!D22) -> 87 | G21: =SUM('Säter 16 Aug'!D22) -> 0 | H21: =SUM(D21:G21) -> 174 | I21: =SUM(H21)/3 -> 58 | J21: Wallén Magnus | K21: =SUM('Säter 14Jun'!E22) -> 17 | L21: =SUM('Hofors 28 Juni'!E22) -> 23 | M21: =SUM('Hedemora 8 Aug'!E22) -> 17 | N21: =SUM('Säter 16 Aug'!E22) -> 23 | P21: =SUM(K21:N21) -> 80 | Q21: =MIN(D21:H21,1) -> 0 | R21: =SUM(K21:O21) -> 80 | S21: =SMALL(K21:N21,1) -> 17 | T21: =SUM(K21:N21) -> 80
B22: Westerberg Bengt | C22: 581101-018 | D22: =SUM('Säter 14Jun'!D23) -> 0 | E22: =SUM('Hofors 28 Juni'!D23) -> 94 | F22: =SUM('Hedemora 8 Aug'!D23) -> 94 | G22: =SUM('Säter 16 Aug'!D23) -> 91 | H22: =SUM(D22:G22) -> 279 | I22: =SUM(H22)/3 -> 93 | J22: Westerberg Bengt | K22: =SUM('Säter 14Jun'!E23) -> 23 | L22: =SUM('Hofors 28 Juni'!E23) -> 20 | M22: =SUM('Hedemora 8 Aug'!E23) -> 18 | N22: =SUM('Säter 16 Aug'!E23) -> 16 | P22: =SUM(K22:N22) -> 77 | Q22: =MIN(D22:H22,1) -> 0 | R22: =SUM(K22:O22) -> 77 | S22: =SMALL(K22:N22,1) -> 16 | T22: =SUM(K22:N22) -> 77
B23: Westman Anders | C23: 531225-016 | D23: =SUM('Säter 14Jun'!D24) -> 80 | E23: =SUM('Hofors 28 Juni'!D24) -> 80 | F23: =SUM('Hedemora 8 Aug'!D24) -> 78 | G23: =SUM('Säter 16 Aug'!D24) -> 0 | H23: =SUM(D23:G23) -> 238 | I23: =SUM(H23)/3 -> 79.333333 | J23: Westman Anders | K23: =SUM('Säter 14Jun'!E24) -> 12 | L23: =SUM('Hofors 28 Juni'!E24) -> 14 | M23: =SUM('Hedemora 8 Aug'!E24) -> 9 | N23: =SUM('Säter 16 Aug'!E24) -> 23 | P23: =SUM(K23:N23) -> 58 | Q23: =MIN(D23:H23,1) -> 0 | R23: =SUM(K23:O23) -> 58 | S23: =SMALL(K23:N23,1) -> 9 | T23: =SUM(K23:N23) -> 58
B24: Wickberg Sten | C24: 571016-031 | D24: =SUM('Säter 14Jun'!D25) -> 74 | E24: =SUM('Hofors 28 Juni'!D25) -> 75 | F24: =SUM('Hedemora 8 Aug'!D25) -> 75 | G24: =SUM('Säter 16 Aug'!D25) -> 71 | H24: =SUM(D24:G24) -> 295 | J24: Wickberg Sten | K24: =SUM('Säter 14Jun'!E25) -> 7 | L24: =SUM('Hofors 28 Juni'!E25) -> 11 | M24: =SUM('Hedemora 8 Aug'!E25) -> 7 | N24: =SUM('Säter 16 Aug'!E25) -> 5 | P24: =SUM(K24:N24) -> 30 | Q24: =MIN(D24:H24,1) -> 1 | R24: =SUM(K24:O24) -> 30 | S24: =SMALL(K24:N24,1) -> 5 | T24: =SUM(K24:N24) -> 30
A25: Long Driving | D25: Per Vikström | E25: Peter Sundlöf | F25: Sten Vickberg | G25: Mikael Persson
A26: Närmast Hål | D26: Anders Westman | E26: Sten Wickberg | F26: Peter Persson | G26: Peter Sundlöf

Sheet Säter 14Jun
A1: Säter 14 juni
B3: Namn | C3: Golf-ID | D3: Resultat | E3: Placering | F3: LD | G3: NH | H3: Poäng
B4: Engblom Börje | C4: 490614-029 | D4: 91 | E4: 20
B5: Fernström Tommy | C5: 640129-046 | D5: N/A | E5: 23
B6: Furhof Henrik | C6: 680711-048 | D6: 83 | E6: 14
B7: Jansson Mats | C7: 540524-030 | D7: 90 | E7: 19
B8: Larsson Ove | C8: 440720-014 | D8: 85 | E8: 15
B9: Lundgren Lennart | C9: 610315-042 | D9: 74 | E9: 6
B10: Michaelsson Peter | C10: 650912-022 | D10: 90 | E10: 18
B11: Morelius Jan-Olov | C11: 490621-031 | D11: 79 | E11: 10
B12: Nord Sören | C12: 610607-017 | D12: 86 | E12: 16
B13: Pers Nils | C13: 601114-035 | D13: 71 | E13: 1
B14: Pers Olle | C14: 630522-031 | D14: 79 | E14: 9
B15: Persson Mikael | C15: 670622-062 | D15: 74 | E15: 5
B16: Persson Peter | C16: 611106-016 | D16: 77 | E16: 8
B17: Persson Stefan | C17: 700304-054 | D17: 83 | E17: 13
... B20: Vikström Adrian | C20: 941218-025 | D20: 79 | E20: 11
B21: Vikström Per | C21: 610528-022 | D21: 74 | E21: 4 | F21: X
B22: Wallén Magnus | C22: 720812-027 | D22: 87 | E22: 17
B23: Westerberg Bengt | C23: 581101-018 | D23: N/A | E23: 23
B24: Westman Anders | C24: 531225-016 | D24: 80 | E24: 12 | G24: X
B25: Wickberg Sten | C25: 571016-031 | D25: 74 | E25: 7

Sheet Hofors 28 Juni
A1: Hofors 28 Juni
B3: Namn | C3: Golf-ID | D3: Resultat | E3: Placering | F3: LD | G3: NH | H3: Poäng
B4: Engblom Börje | C4: 490614-029 | D4: 84 | E4: 17
B5: Fernström Tommy | C5: 640129-046 | D5: 81 | E5: 15
B6: Furhof Henrik | C6: 680711-048 | D6: 68 | E6: 2
B7: Jansson Mats | C7: 540524-030 | D7: N/A | E7: 23
B8: Larsson Ove | C8: 440720-014 | D8: 74 | E8: 10
B9: Lundgren Lennart | C9: 610315-042 | D9: 72 | E9: 5
B10: Michaelsson Peter | C10: 650912-022 | D10: 85 | E10: 18
B11: Morelius Jan-Olov | C11: 490621-031 | D11: 74 | E11: 9
B12: Nord Sören | C12: 610607-017 | D12: 73 | E12: 8
B13: Pers Nils | C13: 601114-035 | D13: 73 | E13: 6
B14: Pers Olle | C14: 630522-031 | D14: 72 | E14: 4
B15: Persson Mikael | C15: 670622-062 | D15: 67 | E15: 1
B16: Persson Peter | C16: 611106-016 | D16: 71 | E16: 3
B17: Persson Stefan | C17: 700304-054 | D17: 76 | E17: 13
B18: Remsu Vesa | C18: 591002-027 | D18: 75 | E18: 12
B19: Sundlöf Peter | C19: 671126-049 | D19: 73 | E19: 7 | F19: X
B20: Vikström Adrian | C20: 941218-025 | D20: 83 | E20: 16
B21: Vikström Per | C21: 610528-022 | D21: 86 | E21: 19
B22: Wallén Magnus | C22: 720812-027 | D22: N/A | E22: 23
B23: Westerberg Bengt | C23: 581101-018 | D23: 94 | E23: 20
B24: Westman Anders | C24: 531225-016 | D24: 80 | E24: 14
B25: Wickberg Sten | C25: 571016-031 | D25: 75 | E25: 11 | G25: X

Sheet Hedemora 8 Aug
A1: Hedemora 8 Aug
B3: Namn | C3: Golf-ID | D3: Resultat | E3: Placering | F3: LD | G3: NH | H3: Poäng
B4: Engblom Börje | C4: 490614-029 | D4: 100 | E4: 20
B5: Fernström Tommy | C5: 640129-046 | D5: 82 | E5: 13
B6: Furhof Henrik | C6: 680711-048 | D6: 72 | E6: 4
B7: Jansson Mats | C7: 540524-030 | D7: N/A | E7: 23
B8: Larsson Ove | C8: 440720-014 | D8: 82 | E8: 12
B9: Lundgren Lennart | C9: 610315-042 | D9: 77 | E9: 8
B10: Michaelsson Peter | C10: 650912-022 | D10: 81 | E10: 11
B11: Morelius Jan-Olov | C11: 490621-031 | D11: 79 | E11: 10
B12: Nord Sören | C12: 610607-017 | D12: 71 | E12: 2
B13: Pers Nils | C13: 601114-035 | D13: 83 | E13: 14
B14: Pers Olle | C14: 630522-031 | D14: 70 | E14: 1
B15: Persson Mikael | C15: 670622-062 | D15: 84 | E15: 15
B16: Persson Peter | C16: 611106-016 | D16: 85 | E16: 16 | G16: X
B17: Persson Stefan | C17: 700304-054 | D17: 73 | E17: 5
B18: Remsu Vesa | C18: 591002-027 | D18: 72 | E18: 3
B19: Sundlöf Peter | C19: 671126-049 | D19: N/A | E19: 23
B20: Vikström Adrian | C20: 941218-025 | D20: 100 | E20: 19
B21: Vikström Per | C21: 610528-022 | D21: 75 | E21: 6
B22: Wallén Magnus | C22: 720812-027 | D22: 87 | E22: 17
B23: Westerberg Bengt | C23: 581101-018 | D23: 94 | E23: 18
B24: Westman Anders | C24: 531225-016 | D24: 78 | E24: 9
B25: Wickberg Sten | C25: 571016-031 | D25: 75 | E25: 7 | F25: X

Sheet Säter 16 Aug
A1: Säter 16 Aug
B3: Namn | C3: Golf-ID | D3: Resultat | E3: Placering | F3: LD | G3: NH | H3: Poäng
B4: Engblom Börje | C4: 490614-029 | D4: 96 | E4: 18
B5: Fernström Tommy | C5: 640129-046 | D5: 85 | E5: 14
B6: Furhof Henrik | C6: 680711-048 | D6: 81 | E6: 12
B7: Jansson Mats | C7: 540524-030 | D7: DNS | E7: 23
B8: Larsson Ove | C8: 440720-014 | D8: 74 | E8: 7
B9: Lundgren Lennart | C9: 610315-042 | D9: 76 | E9: 9
B10: Michaelsson Peter | C10: 650912-022 | D10: 92 | E10: 17
B11: Morelius Jan-Olov | C11: 490621-031 | D11: 70 | E11: 4
B12: Nord Sören | C12: 610607-017 | D12: 73 | E12: 6
B13: Pers Nils | C13: 601114-035 | D13: 76 | E13: 8
B14: Pers Olle | C14: 630522-031 | D14: 69 | E14: 2
B15: Persson Mikael | C15: 670622-062 | D15: 70 | E15: 3 | F15: X
B16: Persson Peter | C16: 611106-016 | D16: 69 | E16: 1
B17: Persson Stefan | C17: 700304-054 | D17: 79 | E17: 11
B18: Remsu Vesa | C18: 591002-027 | D18: 77 | E18: 10
B19: Sundlöf Peter | C19: 671126-049 | D19: 84 | E19: 13 | G19: X
B20: Vikström Adrian | C20: 941218-025 | D20: DNS | E20: 23
B21: Vikström Per | C21: 610528-022 | D21: 89 | E21: 15
B22: Wallén Magnus | C22: 720812-027 | D22: DNS | E22: 23
B23: Westerberg Bengt | C23: 581101-018 | D23: 91 | E23: 16
B24: Westman Anders | C24: 531225-016 | D24: DNS | E24: 23
B25: Wickberg Sten | C25: 571016-031 | D25: 71 | E25: 5

Sheet Gävle 7 Sept
A2: Startlista
A3: Boll | B3: Namn | C3: Golf-ID | D3: Lag | F3: Lag 1
A4: 1 | B4: Remsu Vesa | C4: 591002-027 | D4: 1 | F4: Remsu Vesa | G4: 591002-027
A5: 1 | B5: Wickberg Sten | C5: 571016-031 | D5: 1 | F5: Engblom Börje | G5: 490614-029
A6: 1 | B6: Pers Nils | C6: 601114-035 | D6: 2 | F6: Wickberg Sten | G6: 571016-031
A7: 1 | B7: Persson Peter | C7: 611106-016 | D7: 2 | F7: vakant
F8: Persson Mikael | G8: 670622-062
A9: 2 | B9: Persson Mikael | C9: 670622-062 | D9: 1 | F9: Wahlberg Lars | G9: 580204-017
A10: 2 | B10: Larsson Ove | C10: 440720-014 | D10: 1 | F10: Larsson Ove | G10: 440720-014
A11: 2 | B11: Lundgren Lennart | C11: 610315-042 | D11: 2 | F11: Wallén Magnus | G11: 720812-027
A12: 2 | B12: Morelius Jan-Olov | C12: 490621-031 | D12: 2
A14: 3 | B14: Wallén Magnus | C14: 720812-027 | D14: 1 | F14: Lag 2
A15: 3 | B15: Wahlberg Lars | C15: 580204-017 | D15: 1 | F15: Pers Nils | G15: 601114-035
A16: 3 | B16: Limer Mikael | C16: 610123-011 | D16: 2 | F16: Westman Anders | G16: 531225-016
A17: 3 | B17: Nord Sören | C17: 610607-017 | D17: 2 | F17: Persson Peter | G17: 611106-016
F18: Michaelsson Peter | G18: 650912-022
A19: 4 | B19: vakant | D19: 1 | F19: Lundgren Lennart | G19: 610315-042
A20: 4 | B20: Engblom Börje | C20: 490614-029 | D20: 1 | F20: Nord Sören | G20: 610607-017
A21: 4 | B21: Michaelsson Peter | C21: 650912-022 | D21: 2 | F21: Morelius Jan-Olov | G21: 490621-031
A22: 4 | B22: Westman Anders | C22: 531225-016 | D22: 2 | F22: Limer Mikael | G22: 610123-011

Sheet Totalt
B1: Namn | C1: ID | D1: Plac Säter 16/6 | E1: Plac Hofors 29/6 | F1: Plac Hedemora 18/8 | G1: Plac Säter 31/8 | J1: Totalt | K1: 3 bästa
A2: 1 | B2: Pers Olle | C2: 630522-031 | D2: ='Säter 14Jun'!E14 -> 9 | E2: =SUM('Hofors 28 Juni'!E14) -> 4 | F2: =SUM('Hedemora 8 Aug'!E14) -> 1 | G2: =SUM('Säter 16 Aug'!E14) -> 2 | J2: =SUM(D2:G2) -> 16 | K2: =SUM(G2,F2,E2) -> 7
A3: 2 | B3: Persson Mikael | C3: 670622-062 | D3: ='Säter 14Jun'!E15 -> 5 | E3: =SUM('Hofors 28 Juni'!E15) -> 1 | F3: =SUM('Hedemora 8 Aug'!E15) -> 15 | G3: =SUM('Säter 16 Aug'!E15) -> 3 | J3: =SUM(D3:G3) -> 24 | K3: =SUM(G3,D3:E3) -> 9
A4: 3 | B4: Persson Peter | C4: 611106-016 | D4: ='Säter 14Jun'!E16 -> 8 | E4: =SUM('Hofors 28 Juni'!E16) -> 3 | F4: =SUM('Hedemora 8 Aug'!E16) -> 16 | G4: =SUM('Säter 16 Aug'!E16) -> 1 | J4: =SUM(D4:G4) -> 28 | K4: =SUM(D4,E4,G4) -> 12
A5: 4 | B5: Pers Nils | C5: 601114-035 | D5: ='Säter 14Jun'!E13 -> 1 | E5: =SUM('Hofors 28 Juni'!E13) -> 6 | F5: =SUM('Hedemora 8 Aug'!E13) -> 14 | G5: =SUM('Säter 16 Aug'!E13) -> 8 | J5: =SUM(D5:G5) -> 29 | K5: =SUM(D5,E5,G5) -> 15
A6: 5 | B6: Remsu Vesa | C6: 591002-027 | D6: ='Säter 14Jun'!E18 -> 2 | E6: =SUM('Hofors 28 Juni'!E18) -> 12 | F6: =SUM('Hedemora 8 Aug'!E18) -> 3 | G6: =SUM('Säter 16 Aug'!E18) -> 10 | J6: =SUM(D6:G6) -> 27 | K6: =SUM(G6,F6,D6) -> 15
A7: 6 | B7: Furhof Henrik | C7: 680711-048 | D7: ='Säter 14Jun'!E6 -> 14 | E7: =SUM('Hofors 28 Juni'!E6) -> 2 | F7: =SUM('Hedemora 8 Aug'!E6) -> 4 | G7: =SUM('Säter 16 Aug'!E6) -> 12 | J7: =SUM(D7:G7) -> 32 | K7: =SUM(G7,F7,E7) -> 18
A8: 7 | B8: Nord Sören | C8: 610607-017 | D8: ='Säter 14Jun'!E12 -> 16 | E8: =SUM('Hofors 28 Juni'!E12) -> 8 | F8: =SUM('Hedemora 8 Aug'!E12) -> 2 | G8: =SUM('Säter 16 Aug'!E12) -> 6 | J8: =SUM(D8:G8) -> 32 | K8: =SUM(D10,F10,G10) -> 19
A9: 8 | B9: Lundgren Lennart | C9: 610315-042 | D9: ='Säter 14Jun'!E9 -> 6 | E9: =SUM('Hofors 28 Juni'!E9) -> 5 | F9: =SUM('Hedemora 8 Aug'!E9) -> 8 | G9: =SUM('Säter 16 Aug'!E9) -> 9 | J9: =SUM(D9:G9) -> 28 | K9: =SUM(F9,D9:E9) -> 19
A10: 9 | B10: Wickberg Sten | C10: 571016-031 | D10: ='Säter 14Jun'!E25 -> 7 | E10: =SUM('Hofors 28 Juni'!E25) -> 11 | F10: =SUM('Hedemora 8 Aug'!E25) -> 7 | G10: =SUM('Säter 16 Aug'!E25) -> 5 | J10: =SUM(D10:G10) -> 30 | K10: =SUM(G10,F10,D10) -> 19
A11: 10 | B11: Sundlöf Peter | C11: 671126-049 | D11: ='Säter 14Jun'!E19 -> 3 | E11: =SUM('Hofors 28 Juni'!E19) -> 7 | F11: =SUM('Hedemora 8 Aug'!E19) -> 23 | G11: =SUM('Säter 16 Aug'!E19) -> 13 | J11: =SUM(D11:G11) -> 46 | K11: =SUM(D11,E11,G11) -> 23
A12: 11 | B12: Morelius Jan-Olov | C12: 490621-031 | D12: ='Säter 14Jun'!E11 -> 10 | E12: =SUM('Hofors 28 Juni'!E11) -> 9 | F12: =SUM('Hedemora 8 Aug'!E11) -> 10 | G12: =SUM('Säter 16 Aug'!E11) -> 4 | J12: =SUM(D12:G12) -> 33 | K12: =SUM(E12:G12) -> 23
A13: 12 | B13: Vikström Per | C13: 610528-022 | D13: ='Säter 14Jun'!E21 -> 4 | E13: =SUM('Hofors 28 Juni'!E21) -> 19 | F13: =SUM('Hedemora 8 Aug'!E21) -> 6 | G13: =SUM('Säter 16 Aug'!E21) -> 15 | J13: =SUM(D13:G13) -> 44 | K13: =SUM(D13,F13,G13) -> 25
A14: 13 | B14: Persson Stefan | C14: 700304-054 | D14: ='Säter 14Jun'!E17 -> 13 | E14: =SUM('Hofors 28 Juni'!E17) -> 13 | F14: =SUM('Hedemora 8 Aug'!E17) -> 5 | G14: =SUM('Säter 16 Aug'!E17) -> 11 | J14: =SUM(D14:G14) -> 42 | K14: =SUM(E14:G14) -> 29
A15: 14 | B15: Larsson Ove | C15: 440720-014 | D15: ='Säter 14Jun'!E8 -> 15 | E15: =SUM('Hofors 28 Juni'!E8) -> 10 | F15: =SUM('Hedemora 8 Aug'!E8) -> 12 | G15: =SUM('Säter 16 Aug'!E8) -> 7 | J15: =SUM(D15:G15) -> 44 | K15: =SUM(E15:G15) -> 29
A16: 15 | B16: Westman Anders | C16: 531225-016 | D16: ='Säter 14Jun'!E24 -> 12 | E16: =SUM('Hofors 28 Juni'!E24) -> 14 | F16: =SUM('Hedemora 8 Aug'!E24) -> 9 | G16: =SUM('Säter 16 Aug'!E24) -> 23 | J16: =SUM(D16:G16) -> 58 | K16: =SUM(D16:F16) -> 35
A17: 16 | B17: Fernström Tommy | C17: 640129-046 | D17: ='Säter 14Jun'!E5 -> 23 | E17: =SUM('Hofors 28 Juni'!E5) -> 15 | F17: =SUM('Hedemora 8 Aug'!E5) -> 13 | G17: =SUM('Säter 16 Aug'!E5) -> 14 | J17: =SUM(D17:G17) -> 65 | K17: =SUM(E17:G17) -> 42
A18: 17 | B18: Vikström Adrian | C18: 941218-025 | D18: ='Säter 14Jun'!E20 -> 11 | E18: =SUM('Hofors 28 Juni'!E20) -> 16 | F18: =SUM('Hedemora 8 Aug'!E20) -> 19 | G18: =SUM('Säter 16 Aug'!E20) -> 23 | J18: =SUM(D18:G18) -> 69 | K18: =SUM(D18:F18) -> 46
A19: 18 | B19: Michaelsson Peter | C19: 650912-022 | D19: ='Säter 14Jun'!E10 -> 18 | E19: =SUM('Hofors 28 Juni'!E10) -> 18 | F19: =SUM('Hedemora 8 Aug'!E10) -> 11 | G19: =SUM('Säter 16 Aug'!E10) -> 17 | J19: =SUM(D19:G19) -> 64 | K19: =SUM(E19:G19) -> 46
A20: 19 | B20: Westerberg Bengt | C20: 581101-018 | D20: ='Säter 14Jun'!E23 -> 23 | E20: =SUM('Hofors 28 Juni'!E23) -> 20 | F20: =SUM('Hedemora 8 Aug'!E23) -> 18 | G20: =SUM('Säter 16 Aug'!E23) -> 16 | J20: =SUM(D20:G20) -> 77 | K20: =SUM(E20:G20) -> 54
A21: 20 | B21: Engblom Börje | C21: 490614-029 | D21: ='Säter 14Jun'!E4 -> 20 | E21: =SUM('Hofors 28 Juni'!E4) -> 17 | F21: =SUM('Hedemora 8 Aug'!E4) -> 20 | G21: =SUM('Säter 16 Aug'!E4) -> 18 | J21: =SUM(D21:G21) -> 75 | K21: =SUM(E21:G21) -> 55
A22: 21 | B22: Wallén Magnus | C22: 720812-027 | D22: ='Säter 14Jun'!E22 -> 17 | E22: =SUM('Hofors 28 Juni'!E22) -> 23 | F22: =SUM('Hedemora 8 Aug'!E22) -> 17 | G22: =SUM('Säter 16 Aug'!E22) -> 23 | J22: =SUM(D22:G22) -> 80 | K22: =SUM(D22:F22) -> 57
A23: 22 | B23: Jansson Mats | C23: 540524-030 | D23: ='Säter 14Jun'!E7 -> 19 | E23: =SUM('Hofors 28 Juni'!E7) -> 23 | F23: =SUM('Hedemora 8 Aug'!E7) -> 23 | G23: =SUM('Säter 16 Aug'!E7) -> 23 | J23: =SUM(D23:G23) -> 88 | K23: =SUM(D23:F23) -> 65
