Workbook

Sheet HCP
B2: Klubbmästerskap MAC 2025-2026 | G2: HCP | P2: Strike | Q2: Spärr | R2: Miss | S2: Hål
B3: ESKILSTUNA | K3: Rent | M3: hcp tot | O3: med HCP | P3: X | Q3: / | R3: - | S3: O
A4: 1 | B4: Kristoffer | C4: Eriksson | E4: 279 | F4: 226 | G4: 182 | H4: 247 | I4: 199 | J4: 234 | K4: =SUM(E4:J4) -> 1367 | M4: 108 | O4: =SUM(K4:M4) -> 1475 | P4: 44 | Q4: 19 | R4: 0 | S4: 3
A5: 2 | B5: Leon | C5: Lundell | E5: 237 | F5: 226 | G5: 257 | H5: 214 | I5: 214 | J5: 245 | K5: =SUM(E5:J5) -> 1393 | M5: 42 | O5: =SUM(K5:M5) -> 1435 | P5: 43 | Q5: 18 | R5: 1 | S5: 4
A6: 3 | B6: Jimmy | C6: Eriksson | E6: 211 | F6: 204 | G6: 216 | H6: 222 | I6: 278 | J6: 232 | K6: =SUM(E6:J6) -> 1363 | M6: 18 | O6: =SUM(K6:M6) -> 1381 | P6: 40 | Q6: 21 | R6: 2 | S6: 1
A7: 4 | B7: Rasmus | C7: Carlsson | E7: 185 | F7: 277 | G7: 216 | H7: 197 | I7: 249 | J7: 214 | K7: =SUM(E7:J7) -> 1338 | M7: 36 | O7: =SUM(K7:M7) -> 1374 | P7: 41 | Q7: 21 | R7: 0 | S7: 4
A8: 5 | B8: Anders | C8: Hagberg | E8: 224 | F8: 193 | G8: 237 | H8: 194 | I8: 246 | J8: 227 | K8: =SUM(E8:J8) -> 1321 | M8: 48 | O8: =SUM(K8:M8) -> 1369 | P8: 42 | Q8: 20 | R8: 5 | S8: 0
A9: 6 | B9: Ted | C9: Bermell | E9: 245 | F9: 235 | G9: 184 | H9: 202 | I9: 246 | J9: 255 | K9: =SUM(E9:J9) -> 1367 | M9: 0 | O9: =SUM(K9:M9) -> 1367 | P9: 40 | Q9: 22 | R9: 0 | S9: 2
A10: 7 | B10: Jan-Erik | C10: Hagen | E10: 202 | F10: 147 | G10: 226 | H10: 176 | I10: 214 | J10: 191 | K10: =SUM(E10:J10) -> 1156 | M10: 204 | O10: =SUM(K10:M10) -> 1360 | P10: 33 | Q10: 15 | R10: 9 | S10: 5
A11: 8 | B11: Martin | C11: Björk | E11: 182 | F11: 172 | G11: 175 | H11: 224 | I11: 210 | J11: 164 | K11: =SUM(E11:J11) -> 1127 | M11: 204 | O11: =SUM(K11:M11) -> 1331 | P11: 26 | Q11: 29 | R11: 3 | S11: 5
A12: 9 | B12: Rickard | C12: Lundström | E12: 167 | F12: 235 | G12: 225 | H12: 227 | I12: 214 | J12: 193 | K12: =SUM(E12:J12) -> 1261 | M12: 54 | O12: =SUM(K12:M12) -> 1315 | P12: 35 | Q12: 23 | R12: 2 | S12: 4
A13: 10 | B13: Peter | C13: Sipos | E13: 141 | F13: 155 | G13: 167 | H13: 254 | I13: 225 | J13: 181 | K13: =SUM(E13:J13) -> 1123 | M13: 180 | O13: =SUM(K13:M13) -> 1303 | P13: 29 | Q13: 25 | R13: 5 | S13: 9
A14: 11 | B14: Kurt | C14: Söderström | E14: 172 | F14: 192 | G14: 193 | H14: 194 | I14: 225 | J14: 205 | K14: =SUM(E14:J14) -> 1181 | M14: 102 | O14: =SUM(K14:M14) -> 1283 | P14: 36 | Q14: 17 | R14: 8 | S14: 5
A15: 12 | B15: Klas | C15: Karlsson | E15: 235 | F15: 212 | G15: 169 | H15: 182 | I15: 179 | J15: 180 | K15: =SUM(E15:J15) -> 1157 | M15: 84 | O15: =SUM(K15:M15) -> 1241 | P15: 29 | Q15: 19 | R15: 10 | S15: 3
... A23: 20 | B23: Hans | C23: Andersson | E23: 124 | F23: 135 | G23: 165 | H23: 165 | I23: 142 | J23: 156 | K23: =SUM(E23:J23) -> 887 | M23: 210 | O23: =SUM(K23:M23) -> 1097 | P23: 17 | Q23: 17 | R23: 18 | S23: 8
B35: Nyköping
B36: Jan-Erik | C36: Hagen | E36: 225 | F36: 187 | G36: 194 | H36: 200 | I36: 204 | J36: 210 | K36: =SUM(E36:J36) -> 1220 | M36: =6*33 -> 198 | O36: =SUM(K36:M36) -> 1418 | P36: 37 | Q36: 18 | R36: 7 | S36: 4
B37: Leon | C37: Lundell | E37: 236 | F37: 258 | G37: 204 | H37: 227 | I37: 195 | J37: 246 | K37: =SUM(E37:J37) -> 1366 | M37: =3*6 -> 18 | O37: =SUM(K37:M37) -> 1384 | P37: 43 | Q37: 20 | R37: 1 | S37: 2
B38: Kristoffer | C38: Eriksson | E38: 236 | F38: 214 | G38: 239 | H38: 223 | I38: 194 | J38: 200 | K38: =SUM(E38:J38) -> 1306 | M38: =6*12 -> 72 | O38: =SUM(K38:M38) -> 1378 | P38: 36 | Q38: 29 | R38: 1 | S38: 1
B39: Jimmy | C39: Eriksson | E39: 223 | F39: 223 | G39: 279 | H39: 202 | I39: 231 | J39: 192 | K39: =SUM(E39:J39) -> 1350 | M39: =6*3 -> 18 | O39: =SUM(K39:M39) -> 1368 | P39: 42 | Q39: 17 | R39: 1 | S39: 5
B40: Fredrik | C40: Haglund | E40: 173 | F40: 205 | G40: 176 | H40: 204 | I40: 138 | J40: 232 | K40: =SUM(E40:J40) -> 1128 | M40: =6*35 -> 210 | O40: =SUM(K40:M40) -> 1338 | P40: 27 | Q40: 23 | R40: 9 | S40: 5
B41: Emil | C41: Boden | E41: 192 | F41: 222 | G41: 236 | H41: 189 | I41: 220 | J41: 216 | K41: =SUM(E41:J41) -> 1275 | M41: =6*8 -> 48 | O41: =SUM(K41:M41) -> 1323 | P41: 38 | Q41: 13 | R41: 7 | S41: 5
B42: Gustav | C42: Axelsson | E42: 159 | F42: 212 | G42: 174 | H42: 138 | I42: 200 | J42: 167 | K42: =SUM(E42:J42) -> 1050 | M42: =6*35 -> 210 | O42: =SUM(K42:M42) -> 1260 | P42: 24 | Q42: 18 | R42: 16 | S42: 4
B43: Håkan | C43: Åberg | E43: 193 | F43: 155 | G43: 216 | H43: 198 | I43: 174 | J43: 227 | K43: =SUM(E43:J43) -> 1163 | M43: =6*13 -> 78 | O43: =SUM(K43:M43) -> 1241 | P43: 25 | Q43: 31 | R43: 4 | S43: 5
B44: Peter | C44: Sipos | E44: 200 | F44: 191 | G44: 138 | H44: 183 | I44: 167 | J44: 181 | K44: =SUM(E44:J44) -> 1060 | M44: =6*29 -> 174 | O44: =SUM(K44:M44) -> 1234 | P44: 26 | Q44: 23 | R44: 6 | S44: 12
B45: Tony | C45: Carlsson | E45: 224 | F45: 164 | G45: 159 | H45: 206 | I45: 190 | J45: 196 | K45: =SUM(E45:J45) -> 1139 | M45: =6*14 -> 84 | O45: =SUM(K45:M45) -> 1223 | P45: 27 | Q45: 24 | R45: 9 | S45: 5
B46: Gunnar | C46: Westerberg | E46: 133 | F46: 185 | G46: 142 | H46: 216 | I46: 149 | J46: 186 | K46: =SUM(E46:J46) -> 1011 | M46: =6*35 -> 210 | O46: =SUM(K46:M46) -> 1221 | P46: 22 | Q46: 19 | R46: 13 | S46: 9
B47: Tobias | C47: Andersson | E47: 224 | F47: 189 | G47: 166 | H47: 171 | I47: 196 | J47: 181 | K47: =SUM(E47:J47) -> 1127 | M47: =6*15 -> 90 | O47: =SUM(K47:M47) -> 1217 | P47: 33 | Q47: 14 | R47: 15 | S47: 3
B48: Håkan | C48: Sundberg | E48: 233 | F48: 156 | G48: 202 | H48: 172 | I48: 203 | J48: 202 | K48: =SUM(E48:J48) -> 1168 | M48: =6*8 -> 48 | O48: =SUM(K48:M48) -> 1216 | P48: 29 | Q48: 26 | R48: 9 | S48: 0
B49: Kjell | C49: Eriksson | E49: 161 | F49: 150 | G49: 202 | H49: 176 | I49: 152 | J49: 213 | K49: =SUM(E49:J49) -> 1054 | M49: =6*21 -> 126 | O49: =SUM(K49:M49) -> 1180 | P49: 20 | Q49: 31 | R49: 6 | S49: 10
B50: Joakim | C50: Lundberg | E50: 208 | F50: 124 | G50: 203 | H50: 165 | I50: 159 | J50: 201 | K50: =SUM(E50:J50) -> 1060 | M50: =6*19 -> 114 | O50: =SUM(K50:M50) -> 1174 | P50: 24 | Q50: 23 | R50: 15 | S50: 4
B51: Hans | C51: Andersson | E51: 151 | F51: 148 | G51: 148 | H51: 186 | I51: 182 | J51: 132 | K51: =SUM(E51:J51) -> 947 | M51: 210 | O51: =SUM(K51:M51) -> 1157 | P51: 16 | Q51: 26 | R51: 13 | S51: 7
B52: Tommy | C52: Andersson | E52: 141 | F52: 160 | G52: 161 | H52: 247 | I52: 142 | J52: 120 | K52: =SUM(E52:J52) -> 971 | M52: =6*30 -> 180 | O52: =SUM(K52:M52) -> 1151 | P52: 18 | Q52: 21 | R52: 14 | S52: 9
B53: Kurt | C53: Söderström | E53: 189 | F53: 184 | G53: 140 | H53: 169 | I53: 202 | J53: 158 | K53: =SUM(E53:J53) -> 1042 | M53: =6*17 -> 102 | O53: =SUM(K53:M53) -> 1144 | P53: 23 | Q53: 23 | R53: 13 | S53: 5
B54: Marcus | C54: Rosen | E54: 179 | F54: 174 | G54: 147 | H54: 147 | I54: 158 | J54: 207 | K54: =SUM(E54:J54) -> 1012 | M54: =6*21 -> 126 | O54: =SUM(K54:M54) -> 1138 | P54: 24 | Q54: 15 | R54: 16 | S54: 8
B55: Jan | C55: Ågren | E55: 146 | F55: 162 | G55: 161 | H55: 181 | I55: 184 | J55: 193 | K55: =SUM(E55:J55) -> 1027 | M55: =6*6 -> 36 | O55: =SUM(K55:M55) -> 1063 | P55: 18 | Q55: 32 | R55: 9 | S55: 6
E64: hcp
B65: Leon | C65: Lundell | D65: =Scratch!L4+Scratch!L29 -> 2759 | E65: =M5+M37 -> 60 | F65: =SUM(D65:E65) -> 2819
B66: Jimmy | C66: Eriksson | D66: =Scratch!L7+Scratch!L30 -> 2713 | E66: =M6+M39 -> 36 | F66: =SUM(D66:E66) -> 2749
B67: Kristoffer | C67: Eriksson | D67: =Scratch!L5+Scratch!L31 -> 2673 | E67: =M4+M38 -> 180 | F67: =SUM(D67:E67) -> 2853
B68: Jan-Erik | C68: Hagen | D68: =Scratch!L13+Scratch!L33 -> 2376 | E68: =M10+M36 -> 402 | F68: =SUM(D68:E68) -> 2778
B69: Tobias | C69: Andersson | D69: =Scratch!L14+Scratch!L38 -> 2265 | E69: =M16+M47 -> 174 | F69: =SUM(D69:E69) -> 2439
B70: Tony | C70: Carlsson | D70: =Scratch!L17+Scratch!L36 -> 2224 | E70: =M19+M45 -> 186 | F70: =SUM(D70:E70) -> 2410
B71: Kurt | C71: Söderström | D71: =Scratch!L11+Scratch!L43 -> 2223 | E71: =M14+M53 -> 204 | F71: =SUM(D71:E71) -> 2427
B72: Peter | C72: Sipos | D72: =Scratch!L16+Scratch!L40 -> 2183 | E72: =M13+M44 -> 354 | F72: =SUM(D72:E72) -> 2537
B73: Fredrik | C73: Haglund | D73: =Scratch!L22+Scratch!L37 -> 2068 | E73: =M21+M40 -> 420 | F73: =SUM(D73:E73) -> 2488
B74: Kjell | C74: Eriksson | D74: =Scratch!L19+Scratch!L41 -> 2056 | E74: =M22+M49 -> 246 | F74: =SUM(D74:E74) -> 2302
B75: Tommy | C75: Andersson | D75: =Scratch!L18+Scratch!L47 -> 2004 | E75: =M17+M52 -> 366 | F75: =SUM(D75:E75) -> 2370
B76: Gunnar | C76: Westerberg | D76: =Scratch!L20+Scratch!L46 -> 1999 | E76: =M18+M46 -> 420 | F76: =SUM(D76:E76) -> 2419
B77: Hans | C77: Andersson | D77: =Scratch!L23+Scratch!L48 -> 1834 | E77: =M23+M51 -> 420 | F77: =SUM(D77:E77) -> 2254
B78: Ted | C78: Bermell | D78: =Scratch!L6 -> 1367 | E78: =M9 -> 0 | F78: =SUM(D78:E78) -> 1367
B79: Rasmus | C79: Carlsson | D79: =Scratch!L8 -> 1338 | E79: =M7 -> 36 | F79: =SUM(D79:E79) -> 1374
B80: Anders | C80: Hagberg | D80: =Scratch!L9 -> 1321 | E80: =M8 -> 48 | F80: =SUM(D80:E80) -> 1369
B81: Emil | C81: Boden | D81: =Scratch!L32 -> 1275 | E81: =M41 -> 48 | F81: =SUM(D81:E81) -> 1323
B82: Rickard | C82: Lundström | D82: =Scratch!L10 -> 1261 | E82: =M12 -> 54 | F82: =SUM(D82:E82) -> 1315
B83: Håkan | C83: Sundberg | D83: =Scratch!L34 -> 1168 | E83: =M48 -> 48 | F83: =SUM(D83:E83) -> 1216
B84: Håkan | C84: Åberg | D84: =Scratch!L35 -> 1163 | E84: =M43 -> 78 | F84: =SUM(D84:E84) -> 1241
B85: Klas | C85: Karlsson | D85: =Scratch!L12 -> 1157 | E85: =M15 -> 84 | F85: =SUM(D85:E85) -> 1241
B86: Martin | C86: Björk | D86: =Scratch!L15 -> 1127 | E86: =M11 -> 204 | F86: =SUM(D86:E86) -> 1331
B87: Joakim | C87: Lundberg | D87: =Scratch!L39 -> 1060 | E87: =M50 -> 114 | F87: =SUM(D87:E87) -> 1174
B88: Gustav | C88: Axelsson | D88: =Scratch!L42 -> 1050 | E88: =M42 -> 210 | F88: =SUM(D88:E88) -> 1260
B89: Jan | C89: Ågren | D89: =Scratch!L44 -> 1027 | E89: =M55 -> 36 | F89: =SUM(D89:E89) -> 1063
B90: Marcus | C90: Rosen | D90: =Scratch!L45 -> 1012 | E90: =M54 -> 126 | F90: =SUM(D90:E90) -> 1138
B91: Gunnar | C91: Andersson | D91: =Scratch!L21 -> 943 | E91: =M20 -> 210 | F91: =SUM(D91:E91) -> 1153

Sheet Scratch
C2: Klubbmästerskap MAC 2025-2026 | H2: Scratch | Q2: Strike | R2: Spärr | S2: Miss | T2: Hål
C3: Eskilstuna | N3: hcp tot | Q3: X | R3: / | S3: - | T3: O
B4: 1 | C4: Leon | D4: Lundell | F4: 237 | G4: 226 | H4: 257 | I4: 214 | J4: 214 | K4: 245 | L4: =SUM(F4:K4) -> 1393 | N4: 42 | P4: =SUM(L4:N4) -> 1435 | Q4: 43 | R4: 18 | S4: 1 | T4: 4
B5: 2 | C5: Kristoffer | D5: Eriksson | F5: 279 | G5: 226 | H5: 182 | I5: 247 | J5: 199 | K5: 234 | L5: =SUM(F5:K5) -> 1367 | N5: 108 | P5: =SUM(L5:N5) -> 1475 | Q5: 44 | R5: 19 | S5: 0 | T5: 3
B6: 2 | C6: Ted | D6: Bermell | F6: 245 | G6: 235 | H6: 184 | I6: 202 | J6: 246 | K6: 255 | L6: =SUM(F6:K6) -> 1367 | N6: 0 | P6: =SUM(L6:N6) -> 1367 | Q6: 40 | R6: 22 | S6: 0 | T6: 2
B7: 4 | C7: Jimmy | D7: Eriksson | F7: 211 | G7: 204 | H7: 216 | I7: 222 | J7: 278 | K7: 232 | L7: =SUM(F7:K7) -> 1363 | N7: 18 | P7: =SUM(L7:N7) -> 1381 | Q7: 40 | R7: 21 | S7: 2 | T7: 1
B8: 5 | C8: Rasmus | D8: Carlsson | F8: 185 | G8: 277 | H8: 216 | I8: 197 | J8: 249 | K8: 214 | L8: =SUM(F8:K8) -> 1338 | N8: 36 | P8: =SUM(L8:N8) -> 1374 | Q8: 41 | R8: 21 | S8: 0 | T8: 4
B9: 6 | C9: Anders | D9: Hagberg | F9: 224 | G9: 193 | H9: 237 | I9: 194 | J9: 246 | K9: 227 | L9: =SUM(F9:K9) -> 1321 | N9: 48 | P9: =SUM(L9:N9) -> 1369 | Q9: 42 | R9: 20 | S9: 5 | T9: 0
B10: 7 | C10: Rickard | D10: Lundström | F10: 167 | G10: 235 | H10: 225 | I10: 227 | J10: 214 | K10: 193 | L10: =SUM(F10:K10) -> 1261 | N10: 54 | P10: =SUM(L10:N10) -> 1315 | Q10: 35 | R10: 23 | S10: 2 | T10: 4
B11: 8 | C11: Kurt | D11: Söderström | F11: 172 | G11: 192 | H11: 193 | I11: 194 | J11: 225 | K11: 205 | L11: =SUM(F11:K11) -> 1181 | N11: 102 | P11: =SUM(L11:N11) -> 1283 | Q11: 36 | R11: 17 | S11: 8 | T11: 5
B12: 9 | C12: Klas | D12: Karlsson | F12: 235 | G12: 212 | H12: 169 | I12: 182 | J12: 179 | K12: 180 | L12: =SUM(F12:K12) -> 1157 | N12: 84 | P12: =SUM(L12:N12) -> 1241 | Q12: 29 | R12: 19 | S12: 10 | T12: 3
B13: 10 | C13: Jan-Erik | D13: Hagen | F13: 202 | G13: 147 | H13: 226 | I13: 176 | J13: 214 | K13: 191 | L13: =SUM(F13:K13) -> 1156 | N13: 204 | P13: =SUM(L13:N13) -> 1360 | Q13: 33 | R13: 15 | S13: 9 | T13: 5
B14: 11 | C14: Tobias | D14: Andersson | F14: 171 | G14: 221 | H14: 203 | I14: 169 | J14: 202 | K14: 172 | L14: =SUM(F14:K14) -> 1138 | N14: 84 | P14: =SUM(L14:N14) -> 1222 | Q14: 30 | R14: 22 | S14: 7 | T14: 5
B15: 12 | C15: Martin | D15: Björk | F15: 182 | G15: 172 | H15: 175 | I15: 224 | J15: 210 | K15: 164 | L15: =SUM(F15:K15) -> 1127 | N15: 204 | P15: =SUM(L15:N15) -> 1331 | Q15: 26 | R15: 29 | S15: 3 | T15: 5
... B23: 20 | C23: Hans | D23: Andersson | F23: 124 | G23: 135 | H23: 165 | I23: 165 | J23: 142 | K23: 156 | L23: =SUM(F23:K23) -> 887 | N23: 210 | P23: =SUM(L23:N23) -> 1097 | Q23: 17 | R23: 17 | S23: 18 | T23: 8
C28: Nyköping
C29: Leon | D29: Lundell | F29: 236 | G29: 258 | H29: 204 | I29: 227 | J29: 195 | K29: 246 | L29: =SUM(F29:K29) -> 1366 | N29: =3*6 -> 18 | P29: =SUM(L29:N29) -> 1384 | Q29: 43 | R29: 20 | S29: 1 | T29: 2
C30: Jimmy | D30: Eriksson | F30: 223 | G30: 223 | H30: 279 | I30: 202 | J30: 231 | K30: 192 | L30: =SUM(F30:K30) -> 1350 | N30: =6*3 -> 18 | P30: =SUM(L30:N30) -> 1368 | Q30: 42 | R30: 17 | S30: 1 | T30: 5
C31: Kristoffer | D31: Eriksson | F31: 236 | G31: 214 | H31: 239 | I31: 223 | J31: 194 | K31: 200 | L31: =SUM(F31:K31) -> 1306 | N31: =6*12 -> 72 | P31: =SUM(L31:N31) -> 1378 | Q31: 36 | R31: 29 | S31: 1 | T31: 1
C32: Emil | D32: Boden | F32: 192 | G32: 222 | H32: 236 | I32: 189 | J32: 220 | K32: 216 | L32: =SUM(F32:K32) -> 1275 | N32: =6*8 -> 48 | P32: =SUM(L32:N32) -> 1323 | Q32: 38 | R32: 13 | S32: 7 | T32: 5
C33: Jan-Erik | D33: Hagen | F33: 225 | G33: 187 | H33: 194 | I33: 200 | J33: 204 | K33: 210 | L33: =SUM(F33:K33) -> 1220 | N33: =6*33 -> 198 | P33: =SUM(L33:N33) -> 1418 | Q33: 37 | R33: 18 | S33: 7 | T33: 4
C34: Håkan | D34: Sundberg | F34: 233 | G34: 156 | H34: 202 | I34: 172 | J34: 203 | K34: 202 | L34: =SUM(F34:K34) -> 1168 | N34: =6*8 -> 48 | P34: =SUM(L34:N34) -> 1216 | Q34: 29 | R34: 26 | S34: 9 | T34: 0
C35: Håkan | D35: Åberg | F35: 193 | G35: 155 | H35: 216 | I35: 198 | J35: 174 | K35: 227 | L35: =SUM(F35:K35) -> 1163 | N35: =6*13 -> 78 | P35: =SUM(L35:N35) -> 1241 | Q35: 25 | R35: 31 | S35: 4 | T35: 5
C36: Tony | D36: Carlsson | F36: 224 | G36: 164 | H36: 159 | I36: 206 | J36: 190 | K36: 196 | L36: =SUM(F36:K36) -> 1139 | N36: =6*14 -> 84 | P36: =SUM(L36:N36) -> 1223 | Q36: 27 | R36: 24 | S36: 9 | T36: 5
C37: Fredrik | D37: Haglund | F37: 173 | G37: 205 | H37: 176 | I37: 204 | J37: 138 | K37: 232 | L37: =SUM(F37:K37) -> 1128 | N37: =6*35 -> 210 | P37: =SUM(L37:N37) -> 1338 | Q37: 27 | R37: 23 | S37: 9 | T37: 5
C38: Tobias | D38: Andersson | F38: 224 | G38: 189 | H38: 166 | I38: 171 | J38: 196 | K38: 181 | L38: =SUM(F38:K38) -> 1127 | N38: =6*15 -> 90 | P38: =SUM(L38:N38) -> 1217 | Q38: 33 | R38: 14 | S38: 15 | T38: 3
C39: Joakim | D39: Lundberg | F39: 208 | G39: 124 | H39: 203 | I39: 165 | J39: 159 | K39: 201 | L39: =SUM(F39:K39) -> 1060 | N39: =6*19 -> 114 | P39: =SUM(L39:N39) -> 1174 | Q39: 24 | R39: 23 | S39: 15 | T39: 4
C40: Peter | D40: Sipos | F40: 200 | G40: 191 | H40: 138 | I40: 183 | J40: 167 | K40: 181 | L40: =SUM(F40:K40) -> 1060 | N40: =6*29 -> 174 | P40: =SUM(L40:N40) -> 1234 | Q40: 26 | R40: 23 | S40: 6 | T40: 12
C41: Kjell | D41: Eriksson | F41: 161 | G41: 150 | H41: 202 | I41: 176 | J41: 152 | K41: 213 | L41: =SUM(F41:K41) -> 1054 | N41: =6*21 -> 126 | P41: =SUM(L41:N41) -> 1180 | Q41: 20 | R41: 31 | S41: 6 | T41: 10
C42: Gustav | D42: Axelsson | F42: 159 | G42: 212 | H42: 174 | I42: 138 | J42: 200 | K42: 167 | L42: =SUM(F42:K42) -> 1050 | N42: =6*35 -> 210 | P42: =SUM(L42:N42) -> 1260 | Q42: 24 | R42: 18 | S42: 16 | T42: 4
C43: Kurt | D43: Söderström | F43: 189 | G43: 184 | H43: 140 | I43: 169 | J43: 202 | K43: 158 | L43: =SUM(F43:K43) -> 1042 | N43: =6*17 -> 102 | P43: =SUM(L43:N43) -> 1144 | Q43: 23 | R43: 23 | S43: 13 | T43: 5
C44: Jan | D44: Ågren | F44: 146 | G44: 162 | H44: 161 | I44: 181 | J44: 184 | K44: 193 | L44: =SUM(F44:K44) -> 1027 | N44: =6*6 -> 36 | P44: =SUM(L44:N44) -> 1063 | Q44: 18 | R44: 32 | S44: 9 | T44: 6
C45: Marcus | D45: Rosen | F45: 179 | G45: 174 | H45: 147 | I45: 147 | J45: 158 | K45: 207 | L45: =SUM(F45:K45) -> 1012 | N45: =6*21 -> 126 | P45: =SUM(L45:N45) -> 1138 | Q45: 24 | R45: 15 | S45: 16 | T45: 8
C46: Gunnar | D46: Westerberg | F46: 133 | G46: 185 | H46: 142 | I46: 216 | J46: 149 | K46: 186 | L46: =SUM(F46:K46) -> 1011 | N46: =6*35 -> 210 | P46: =SUM(L46:N46) -> 1221 | Q46: 22 | R46: 19 | S46: 13 | T46: 9
C47: Tommy | D47: Andersson | F47: 141 | G47: 160 | H47: 161 | I47: 247 | J47: 142 | K47: 120 | L47: =SUM(F47:K47) -> 971 | N47: =6*30 -> 180 | P47: =SUM(L47:N47) -> 1151 | Q47: 18 | R47: 21 | S47: 14 | T47: 9
C48: Hans | D48: Andersson | F48: 151 | G48: 148 | H48: 148 | I48: 186 | J48: 182 | K48: 132 | L48: =SUM(F48:K48) -> 947 | N48: 210 | P48: =SUM(L48:N48) -> 1157 | Q48: 16 | R48: 26 | S48: 13 | T48: 7
C57: TOTALT | E57: Scratch
