Workbook

Sheet Kioskschema
A1: Kioskschema – Linden Lag 14
A2: Ordinarie kioskveckor samt juniorernas vardagsmatch under V46
A3: Juniorvardagsmatch: kiosken öppnar 30 minuter före matchstart och bemannas tills sista perioden börjar, eller längst till kl. 21.00 vid sen matchstart. Dubbelkolla matchen i stats.swehockey.
A5: Vecka | B5: Datum | C5: Dag | D5: Pass | E5: Öppettid | F5: Typ | G5: Person 1 | H5: Person 2 | I5: Person 3 | J5: Person 4 | K5: Information/status
A6: V37 | B6: 46274 | C6: Onsdag | D6: Kväll | E6: 17.20–20.30 | F6: Ordinarie | G6: Sverre | H6: Edwin | K6: Ingen A-lagsmatch denna vecka
A7: V37 | B7: 46276 | C7: Fredag | D7: Kväll | E7: 17.20–20.30 | F7: Ordinarie | G7: Nils | H7: Loke | K7: Ingen A-lagsmatch denna vecka
A8: V37 | B8: 46277 | C8: Lördag | D8: Förmiddag | E8: 09.00–13.30 | F8: Ordinarie | G8: Natte | H8: Love | K8: Ingen A-lagsmatch denna vecka
A9: V37 | B9: 46277 | C9: Lördag | D9: Eftermiddag | E9: 13.30–18.00 | F9: Ordinarie | G9: Leon | H9: Vincent | K9: Ingen A-lagsmatch denna vecka
A10: V37 | B10: 46278 | C10: Söndag | D10: Förmiddag | E10: 09.00–13.30 | F10: Ordinarie | G10: Noah L | H10: Neo | K10: Ingen A-lagsmatch denna vecka
A11: V37 | B11: 46278 | C11: Söndag | D11: Eftermiddag | E11: 13.30–18.00 | F11: Ordinarie | G11: Emil | H11: Agnes | K11: Ingen A-lagsmatch denna vecka
A12: V46 | B12: 46337 | C12: Onsdag | D12: Kväll | E12: 17.20–20.30 | F12: Ordinarie | G12: Ebbe | H12: Jack | K12: A-lagsmatch på fredagen
A13: V46 | B13: 46338 | C13: Torsdag | D13: Juniormatch | E13: 19.00–senast 21.00 | F13: Junior vardagsmatch | G13: Wictor WB | H13: Gabbe | K13: Matchstart 19.30: Linden–Viggbyholms IK. Bemanning tills sista perioden börjar, dock senast 21.00
A14: V46 | B14: 46339 | C14: Fredag | D14: Kväll | E14: 17.20–20.30 | F14: A-lagsmatch | G14: Sverre | H14: Edwin | I14: Natte | J14: Love | K14: A-lagsmatch
A15: V46 | B15: 46340 | C15: Lördag | D15: Förmiddag | E15: 09.00–13.30 | F15: Ordinarie | G15: Leon | H15: Vincent | K15: A-lagsmatch på fredagen
A16: V46 | B16: 46340 | C16: Lördag | D16: Eftermiddag | E16: 13.30–18.00 | F16: Ordinarie | G16: Nils | H16: Loke | K16: A-lagsmatch på fredagen
A17: V46 | B17: 46341 | C17: Söndag | D17: Förmiddag | E17: 09.00–13.30 | F17: Ordinarie | G17: Emil | H17: Agnes | K17: A-lagsmatch på fredagen
A18: V46 | B18: 46341 | C18: Söndag | D18: Eftermiddag | E18: 13.30–18.00 | F18: Ordinarie | G18: Noah L | H18: Neo | K18: A-lagsmatch på fredagen
A19: V2 | B19: 46400 | C19: Onsdag | D19: Kväll | E19: 17.20–20.30 | F19: Ordinarie | G19: Noah L | H19: Neo | K19: A-lagsmatch på lördagen
A20: V2 | B20: 46402 | C20: Fredag | D20: Kväll | E20: 17.20–20.30 | F20: Ordinarie | G20: Emil | H20: Agnes | K20: A-lagsmatch på lördagen
A21: V2 | B21: 46403 | C21: Lördag | D21: Förmiddag | E21: 09.00–13.30 | F21: A-lagsmatch | G21: Nils | H21: Loke | K21: A-lagsmatch
A22: V2 | B22: 46403 | C22: Lördag | D22: Eftermiddag | E22: 13.30–18.00 | F22: A-lagsmatch | G22: Leon | H22: Vincent | I22: Ebbe | J22: Jack | K22: A-lagsmatch
A23: V2 | B23: 46404 | C23: Söndag | D23: Förmiddag | E23: 09.00–13.30 | F23: Ordinarie | G23: Sverre | H23: Edwin | K23: A-lagsmatch på lördagen
A24: V2 | B24: 46404 | C24: Söndag | D24: Eftermiddag | E24: 13.30–18.00 | F24: Ordinarie | G24: Natte | H24: Love | K24: A-lagsmatch på lördagen
A25: V9 | B25: 46449 | C25: Onsdag | D25: Kväll | E25: 17.20–20.30 | F25: Preliminärt | G25: Leon | H25: Noah L | K25: Oklart om det blir match; beror på hur det går för A-laget
A26: V9 | B26: 46451 | C26: Fredag | D26: Kväll | E26: 17.20–20.30 | F26: Preliminärt | G26: Nils | H26: Loke | K26: Oklart om det blir match; beror på hur det går för A-laget
A27: V9 | B27: 46452 | C27: Lördag | D27: Förmiddag | E27: 09.00–13.30 | F27: Preliminärt | G27: Sverre | H27: Edwin | K27: Oklart om det blir match; beror på hur det går för A-laget
A28: V9 | B28: 46452 | C28: Lördag | D28: Eftermiddag | E28: 13.30–18.00 | F28: Preliminärt | G28: Natte | H28: Love | K28: Oklart om det blir match; beror på hur det går för A-laget
A29: V9 | B29: 46453 | C29: Söndag | D29: Förmiddag | E29: 09.00–13.30 | F29: Preliminärt | G29: Ebbe | H29: Jack | K29: Oklart om det blir match; beror på hur det går för A-laget
A30: V9 | B30: 46453 | C30: Söndag | D30: Eftermiddag | E30: 13.30–18.00 | F30: Preliminärt | G30: Emil | H30: Agnes | K30: Oklart om det blir match; beror på hur det går för A-laget
A31: V9 | C31: Vid match | D31: Extra bemanning | E31: Enligt besked | F31: Villkorad förstärkning | G31: Neo | H31: Vincent | K31: Om det blir match under veckan fyller Neo och Vincent på

Sheet Fördelning
A1: Fördelning av kioskpass
A2: V9 är preliminär. Kolumnen 'Villkorade pass' visar Neo och Vincents extra bemanning om match blir av.
A4: Namn | B4: Schemalagda pass | C4: Villkorade pass | D4: Totalt om V9 blir av
A5: Agnes | B5: =COUNTIFS(Kioskschema!$G$6:$G$31,$A5,Kioskschema!$F$6:$F$31,"<>Villkorad förstärkning")+COUNTIFS(Kioskschema!$H$6:$H$31,$A5,Kioskschema!$F$6:$F$31,"<>Villkorad förstärkning")+COUNTIFS(Kioskschema!$I$6:$I$31,$A5,Kioskschema!$F$6:$F$31,"<>Villkorad förstärkning")+COUNTIFS(Kioskschema!$J$6:$J$31,$A5,Kioskschema!$F$6:$F$31,"<>Villkorad förstärkning") -> 4 | C5: =COUNTIFS(Kioskschema!$G$6:$G$31,$A5,Kioskschema!$F$6:$F$31,"Villkorad förstärkning")+COUNTIFS(Kioskschema!$H$6:$H$31,$A5,Kioskschema!$F$6:$F$31,"Villkorad förstärkning")+COUNTIFS(Kioskschema!$I$6:$I$31,$A5,Kioskschema!$F$6:$F$31,"Villkorad förstärkning")+COUNTIFS(Kioskschema!$J$6:$J$31,$A5,Kioskschema!$F$6:$F$31,"Villkorad förstärkning") -> 0 | D5: =B5+C5 -> 4
A6: Ebbe | B6: =COUNTIFS(Kioskschema!$G$6:$G$31,$A6,Kioskschema!$F$6:$F$31,"<>Villkorad förstärkning")+COUNTIFS(Kioskschema!$H$6:$H$31,$A6,Kioskschema!$F$6:$F$31,"<>Villkorad förstärkning")+COUNTIFS(Kioskschema!$I$6:$I$31,$A6,Kioskschema!$F$6:$F$31,"<>Villkorad förstärkning")+COUNTIFS(Kioskschema!$J$6:$J$31,$A6,Kioskschema!$F$6:$F$31,"<>Villkorad förstärkning") -> 3 | C6: =COUNTIFS(Kioskschema!$G$6:$G$31,$A6,Kioskschema!$F$6:$F$31,"Villkorad förstärkning")+COUNTIFS(Kioskschema!$H$6:$H$31,$A6,Kioskschema!$F$6:$F$31,"Villkorad förstärkning")+COUNTIFS(Kioskschema!$I$6:$I$31,$A6,Kioskschema!$F$6:$F$31,"Villkorad förstärkning")+COUNTIFS(Kioskschema!$J$6:$J$31,$A6,Kioskschema!$F$6:$F$31,"Villkorad förstärkning") -> 0 | D6: =B6+C6 -> 3
A7: Edwin | B7: =COUNTIFS(Kioskschema!$G$6:$G$31,$A7,Kioskschema!$F$6:$F$31,"<>Villkorad förstärkning")+COUNTIFS(Kioskschema!$H$6:$H$31,$A7,Kioskschema!$F$6:$F$31,"<>Villkorad förstärkning")+COUNTIFS(Kioskschema!$I$6:$I$31,$A7,Kioskschema!$F$6:$F$31,"<>Villkorad förstärkning")+COUNTIFS(Kioskschema!$J$6:$J$31,$A7,Kioskschema!$F$6:$F$31,"<>Villkorad förstärkning") -> 4 | C7: =COUNTIFS(Kioskschema!$G$6:$G$31,$A7,Kioskschema!$F$6:$F$31,"Villkorad förstärkning")+COUNTIFS(Kioskschema!$H$6:$H$31,$A7,Kioskschema!$F$6:$F$31,"Villkorad förstärkning")+COUNTIFS(Kioskschema!$I$6:$I$31,$A7,Kioskschema!$F$6:$F$31,"Villkorad förstärkning")+COUNTIFS(Kioskschema!$J$6:$J$31,$A7,Kioskschema!$F$6:$F$31,"Villkorad förstärkning") -> 0 | D7: =B7+C7 -> 4
A8: Emil | B8: =COUNTIFS(Kioskschema!$G$6:$G$31,$A8,Kioskschema!$F$6:$F$31,"<>Villkorad förstärkning")+COUNTIFS(Kioskschema!$H$6:$H$31,$A8,Kioskschema!$F$6:$F$31,"<>Villkorad förstärkning")+COUNTIFS(Kioskschema!$I$6:$I$31,$A8,Kioskschema!$F$6:$F$31,"<>Villkorad förstärkning")+COUNTIFS(Kioskschema!$J$6:$J$31,$A8,Kioskschema!$F$6:$F$31,"<>Villkorad förstärkning") -> 4 | C8: =COUNTIFS(Kioskschema!$G$6:$G$31,$A8,Kioskschema!$F$6:$F$31,"Villkorad förstärkning")+COUNTIFS(Kioskschema!$H$6:$H$31,$A8,Kioskschema!$F$6:$F$31,"Villkorad förstärkning")+COUNTIFS(Kioskschema!$I$6:$I$31,$A8,Kioskschema!$F$6:$F$31,"Villkorad förstärkning")+COUNTIFS(Kioskschema!$J$6:$J$31,$A8,Kioskschema!$F$6:$F$31,"Villkorad förstärkning") -> 0 | D8: =B8+C8 -> 4
A9: Gabbe | B9: =COUNTIFS(Kioskschema!$G$6:$G$31,$A9,Kioskschema!$F$6:$F$31,"<>Villkorad förstärkning")+COUNTIFS(Kioskschema!$H$6:$H$31,$A9,Kioskschema!$F$6:$F$31,"<>Villkorad förstärkning")+COUNTIFS(Kioskschema!$I$6:$I$31,$A9,Kioskschema!$F$6:$F$31,"<>Villkorad förstärkning")+COUNTIFS(Kioskschema!$J$6:$J$31,$A9,Kioskschema!$F$6:$F$31,"<>Villkorad förstärkning") -> 1 | C9: =COUNTIFS(Kioskschema!$G$6:$G$31,$A9,Kioskschema!$F$6:$F$31,"Villkorad förstärkning")+COUNTIFS(Kioskschema!$H$6:$H$31,$A9,Kioskschema!$F$6:$F$31,"Villkorad förstärkning")+COUNTIFS(Kioskschema!$I$6:$I$31,$A9,Kioskschema!$F$6:$F$31,"Villkorad förstärkning")+COUNTIFS(Kioskschema!$J$6:$J$31,$A9,Kioskschema!$F$6:$F$31,"Villkorad förstärkning") -> 0 | D9: =B9+C9 -> 1
A10: Jack | B10: =COUNTIFS(Kioskschema!$G$6:$G$31,$A10,Kioskschema!$F$6:$F$31,"<>Villkorad förstärkning")+COUNTIFS(Kioskschema!$H$6:$H$31,$A10,Kioskschema!$F$6:$F$31,"<>Villkorad förstärkning")+COUNTIFS(Kioskschema!$I$6:$I$31,$A10,Kioskschema!$F$6:$F$31,"<>Villkorad förstärkning")+COUNTIFS(Kioskschema!$J$6:$J$31,$A10,Kioskschema!$F$6:$F$31,"<>Villkorad förstärkning") -> 3 | C10: =COUNTIFS(Kioskschema!$G$6:$G$31,$A10,Kioskschema!$F$6:$F$31,"Villkorad förstärkning")+COUNTIFS(Kioskschema!$H$6:$H$31,$A10,Kioskschema!$F$6:$F$31,"Villkorad förstärkning")+COUNTIFS(Kioskschema!$I$6:$I$31,$A10,Kioskschema!$F$6:$F$31,"Villkorad förstärkning")+COUNTIFS(Kioskschema!$J$6:$J$31,$A10,Kioskschema!$F$6:$F$31,"Villkorad förstärkning") -> 0 | D10: =B10+C10 -> 3
A11: Leon | B11: =COUNTIFS(Kioskschema!$G$6:$G$31,$A11,Kioskschema!$F$6:$F$31,"<>Villkorad förstärkning")+COUNTIFS(Kioskschema!$H$6:$H$31,$A11,Kioskschema!$F$6:$F$31,"<>Villkorad förstärkning")+COUNTIFS(Kioskschema!$I$6:$I$31,$A11,Kioskschema!$F$6:$F$31,"<>Villkorad förstärkning")+COUNTIFS(Kioskschema!$J$6:$J$31,$A11,Kioskschema!$F$6:$F$31,"<>Villkorad förstärkning") -> 4 | C11: =COUNTIFS(Kioskschema!$G$6:$G$31,$A11,Kioskschema!$F$6:$F$31,"Villkorad förstärkning")+COUNTIFS(Kioskschema!$H$6:$H$31,$A11,Kioskschema!$F$6:$F$31,"Villkorad förstärkning")+COUNTIFS(Kioskschema!$I$6:$I$31,$A11,Kioskschema!$F$6:$F$31,"Villkorad förstärkning")+COUNTIFS(Kioskschema!$J$6:$J$31,$A11,Kioskschema!$F$6:$F$31,"Villkorad förstärkning") -> 0 | D11: =B11+C11 -> 4
A12: Loke | B12: =COUNTIFS(Kioskschema!$G$6:$G$31,$A12,Kioskschema!$F$6:$F$31,"<>Villkorad förstärkning")+COUNTIFS(Kioskschema!$H$6:$H$31,$A12,Kioskschema!$F$6:$F$31,"<>Villkorad förstärkning")+COUNTIFS(Kioskschema!$I$6:$I$31,$A12,Kioskschema!$F$6:$F$31,"<>Villkorad förstärkning")+COUNTIFS(Kioskschema!$J$6:$J$31,$A12,Kioskschema!$F$6:$F$31,"<>Villkorad förstärkning") -> 4 | C12: =COUNTIFS(Kioskschema!$G$6:$G$31,$A12,Kioskschema!$F$6:$F$31,"Villkorad förstärkning")+COUNTIFS(Kioskschema!$H$6:$H$31,$A12,Kioskschema!$F$6:$F$31,"Villkorad förstärkning")+COUNTIFS(Kioskschema!$I$6:$I$31,$A12,Kioskschema!$F$6:$F$31,"Villkorad förstärkning")+COUNTIFS(Kioskschema!$J$6:$J$31,$A12,Kioskschema!$F$6:$F$31,"Villkorad förstärkning") -> 0 | D12: =B12+C12 -> 4
A13: Love | B13: =COUNTIFS(Kioskschema!$G$6:$G$31,$A13,Kioskschema!$F$6:$F$31,"<>Villkorad förstärkning")+COUNTIFS(Kioskschema!$H$6:$H$31,$A13,Kioskschema!$F$6:$F$31,"<>Villkorad förstärkning")+COUNTIFS(Kioskschema!$I$6:$I$31,$A13,Kioskschema!$F$6:$F$31,"<>Villkorad förstärkning")+COUNTIFS(Kioskschema!$J$6:$J$31,$A13,Kioskschema!$F$6:$F$31,"<>Villkorad förstärkning") -> 4 | C13: =COUNTIFS(Kioskschema!$G$6:$G$31,$A13,Kioskschema!$F$6:$F$31,"Villkorad förstärkning")+COUNTIFS(Kioskschema!$H$6:$H$31,$A13,Kioskschema!$F$6:$F$31,"Villkorad förstärkning")+COUNTIFS(Kioskschema!$I$6:$I$31,$A13,Kioskschema!$F$6:$F$31,"Villkorad förstärkning")+COUNTIFS(Kioskschema!$J$6:$J$31,$A13,Kioskschema!$F$6:$F$31,"Villkorad förstärkning") -> 0 | D13: =B13+C13 -> 4
A14: Natte | B14: =COUNTIFS(Kioskschema!$G$6:$G$31,$A14,Kioskschema!$F$6:$F$31,"<>Villkorad förstärkning")+COUNTIFS(Kioskschema!$H$6:$H$31,$A14,Kioskschema!$F$6:$F$31,"<>Villkorad förstärkning")+COUNTIFS(Kioskschema!$I$6:$I$31,$A14,Kioskschema!$F$6:$F$31,"<>Villkorad förstärkning")+COUNTIFS(Kioskschema!$J$6:$J$31,$A14,Kioskschema!$F$6:$F$31,"<>Villkorad förstärkning") -> 4 | C14: =COUNTIFS(Kioskschema!$G$6:$G$31,$A14,Kioskschema!$F$6:$F$31,"Villkorad förstärkning")+COUNTIFS(Kioskschema!$H$6:$H$31,$A14,Kioskschema!$F$6:$F$31,"Villkorad förstärkning")+COUNTIFS(Kioskschema!$I$6:$I$31,$A14,Kioskschema!$F$6:$F$31,"Villkorad förstärkning")+COUNTIFS(Kioskschema!$J$6:$J$31,$A14,Kioskschema!$F$6:$F$31,"Villkorad förstärkning") -> 0 | D14: =B14+C14 -> 4
A15: Neo | B15: =COUNTIFS(Kioskschema!$G$6:$G$31,$A15,Kioskschema!$F$6:$F$31,"<>Villkorad förstärkning")+COUNTIFS(Kioskschema!$H$6:$H$31,$A15,Kioskschema!$F$6:$F$31,"<>Villkorad förstärkning")+COUNTIFS(Kioskschema!$I$6:$I$31,$A15,Kioskschema!$F$6:$F$31,"<>Villkorad förstärkning")+COUNTIFS(Kioskschema!$J$6:$J$31,$A15,Kioskschema!$F$6:$F$31,"<>Villkorad förstärkning") -> 3 | C15: =COUNTIFS(Kioskschema!$G$6:$G$31,$A15,Kioskschema!$F$6:$F$31,"Villkorad förstärkning")+COUNTIFS(Kioskschema!$H$6:$H$31,$A15,Kioskschema!$F$6:$F$31,"Villkorad förstärkning")+COUNTIFS(Kioskschema!$I$6:$I$31,$A15,Kioskschema!$F$6:$F$31,"Villkorad förstärkning")+COUNTIFS(Kioskschema!$J$6:$J$31,$A15,Kioskschema!$F$6:$F$31,"Villkorad förstärkning") -> 1 | D15: =B15+C15 -> 4
A16: Nils | B16: =COUNTIFS(Kioskschema!$G$6:$G$31,$A16,Kioskschema!$F$6:$F$31,"<>Villkorad förstärkning")+COUNTIFS(Kioskschema!$H$6:$H$31,$A16,Kioskschema!$F$6:$F$31,"<>Villkorad förstärkning")+COUNTIFS(Kioskschema!$I$6:$I$31,$A16,Kioskschema!$F$6:$F$31,"<>Villkorad förstärkning")+COUNTIFS(Kioskschema!$J$6:$J$31,$A16,Kioskschema!$F$6:$F$31,"<>Villkorad förstärkning") -> 4 | C16: =COUNTIFS(Kioskschema!$G$6:$G$31,$A16,Kioskschema!$F$6:$F$31,"Villkorad förstärkning")+COUNTIFS(Kioskschema!$H$6:$H$31,$A16,Kioskschema!$F$6:$F$31,"Villkorad förstärkning")+COUNTIFS(Kioskschema!$I$6:$I$31,$A16,Kioskschema!$F$6:$F$31,"Villkorad förstärkning")+COUNTIFS(Kioskschema!$J$6:$J$31,$A16,Kioskschema!$F$6:$F$31,"Villkorad förstärkning") -> 0 | D16: =B16+C16 -> 4
... A20: Wictor | B20: =COUNTIFS(Kioskschema!$G$6:$G$31,$A20,Kioskschema!$F$6:$F$31,"<>Villkorad förstärkning")+COUNTIFS(Kioskschema!$H$6:$H$31,$A20,Kioskschema!$F$6:$F$31,"<>Villkorad förstärkning")+COUNTIFS(Kioskschema!$I$6:$I$31,$A20,Kioskschema!$F$6:$F$31,"<>Villkorad förstärkning")+COUNTIFS(Kioskschema!$J$6:$J$31,$A20,Kioskschema!$F$6:$F$31,"<>Villkorad förstärkning") -> 0 | C20: =COUNTIFS(Kioskschema!$G$6:$G$31,$A20,Kioskschema!$F$6:$F$31,"Villkorad förstärkning")+COUNTIFS(Kioskschema!$H$6:$H$31,$A20,Kioskschema!$F$6:$F$31,"Villkorad förstärkning")+COUNTIFS(Kioskschema!$I$6:$I$31,$A20,Kioskschema!$F$6:$F$31,"Villkorad förstärkning")+COUNTIFS(Kioskschema!$J$6:$J$31,$A20,Kioskschema!$F$6:$F$31,"Villkorad förstärkning") -> 0 | D20: =B20+C20 -> 0
