Workbook

Sheet Översikt
A1: Cupens matchschema
A3: 12 september 2026 · Fyra matcher per lag · Lagscheman i separata klassflikar
A5: Spelförutsättningar | D5: LAG / MATCHER
A6: Matchtid (min) | B6: 20 | D6: =COUNTA(Lagöversikt!$B$6:$B$62) -> 57 | E6: =COUNTA(Matchlista!$A$6:$A$119) -> 114
A7: Ställtid (min) | B7: 5 | D7: lag | E7: matcher
A8: Planer, totalt | B8: 10
A10: Grupp | B10: Spelform | C10: Lag | D10: Matcher | E10: Första avspark | F10: Sista slut
A11: 2018 | B11: 5-manna | C11: 26 | D11: =C11*4/2 -> 52 | E11: =MIN(Matchlista!B6,Matchlista!B7,Matchlista!B8,Matchlista!B9,Matchlista!B10,Matchlista!B11,Matchlista!B12,Matchlista!B13,Matchlista!B14,Matchlista!B15,Matchlista!B16,Matchlista!B17,Matchlista!B18,Matchlista!B19,Matchlista!B20,Matchlista!B25,Matchlista!B27,Matchlista!B28,Matchlista!B29,Matchlista!B31,Matchlista!B32,Matchlista!B33,Matchlista!B34,Matchlista!B35,Matchlista!B36,Matchlista!B39,Matchlista!B42,Matchlista!B44,Matchlista!B45,Matchlista!B46,Matchlista!B53,Matchlista!B54,Matchlista!B55,Matchlista!B60,Matchlista!B61,Matchlista!B63,Matchlista!B64,Matchlista!B67,Matchlista!B69,Matchlista!B70,Matchlista!B71,Matchlista!B73,Matchlista!B76,Matchlista!B79,Matchlista!B80,Matchlista!B83,Matchlista!B87,Matchlista!B92,Matchlista!B93,Matchlista!B101,Matchlista!B102,Matchlista!B103) -> 0.375 | F11: =MAX(Matchlista!C6,Matchlista!C7,Matchlista!C8,Matchlista!C9,Matchlista!C10,Matchlista!C11,Matchlista!C12,Matchlista!C13,Matchlista!C14,Matchlista!C15,Matchlista!C16,Matchlista!C17,Matchlista!C18,Matchlista!C19,Matchlista!C20,Matchlista!C25,Matchlista!C27,Matchlista!C28,Matchlista!C29,Matchlista!C31,Matchlista!C32,Matchlista!C33,Matchlista!C34,Matchlista!C35,Matchlista!C36,Matchlista!C39,Matchlista!C42,Matchlista!C44,Matchlista!C45,Matchlista!C46,Matchlista!C53,Matchlista!C54,Matchlista!C55,Matchlista!C60,Matchlista!C61,Matchlista!C63,Matchlista!C64,Matchlista!C67,Matchlista!C69,Matchlista!C70,Matchlista!C71,Matchlista!C73,Matchlista!C76,Matchlista!C79,Matchlista!C80,Matchlista!C83,Matchlista!C87,Matchlista!C92,Matchlista!C93,Matchlista!C101,Matchlista!C102,Matchlista!C103) -> 0.59722222
A12: 2019 | B12: 5-manna | C12: 13 | D12: =C12*4/2 -> 26 | E12: =MIN(Matchlista!B22,Matchlista!B23,Matchlista!B24,Matchlista!B26,Matchlista!B30,Matchlista!B40,Matchlista!B41,Matchlista!B43,Matchlista!B50,Matchlista!B57,Matchlista!B59,Matchlista!B62,Matchlista!B74,Matchlista!B78,Matchlista!B81,Matchlista!B82,Matchlista!B86,Matchlista!B91,Matchlista!B98,Matchlista!B99,Matchlista!B100,Matchlista!B106,Matchlista!B107,Matchlista!B110,Matchlista!B112,Matchlista!B113) -> 0.42708333 | F12: =MAX(Matchlista!C22,Matchlista!C23,Matchlista!C24,Matchlista!C26,Matchlista!C30,Matchlista!C40,Matchlista!C41,Matchlista!C43,Matchlista!C50,Matchlista!C57,Matchlista!C59,Matchlista!C62,Matchlista!C74,Matchlista!C78,Matchlista!C81,Matchlista!C82,Matchlista!C86,Matchlista!C91,Matchlista!C98,Matchlista!C99,Matchlista!C100,Matchlista!C106,Matchlista!C107,Matchlista!C110,Matchlista!C112,Matchlista!C113) -> 0.61458333
A13: Flickor 2017 | B13: 5-manna | C13: 10 | D13: =C13*4/2 -> 20 | E13: =_xlfn.MINIFS(Matchlista!B:B,Matchlista!E:E,A13) -> 0.47916667 | F13: =_xlfn.MAXIFS(Matchlista!C:C,Matchlista!E:E,A13) -> 0.64930556
A14: Pojkar 2017 | B14: 7-manna | C14: 8 | D14: =C14*4/2 -> 16 | E14: =MIN(Matchlista!B21,Matchlista!B37,Matchlista!B38,Matchlista!B47,Matchlista!B48,Matchlista!B56,Matchlista!B65,Matchlista!B66,Matchlista!B75,Matchlista!B84,Matchlista!B85,Matchlista!B94,Matchlista!B95,Matchlista!B108,Matchlista!B109,Matchlista!B114) -> 0.41666667 | F14: =MAX(Matchlista!C21,Matchlista!C37,Matchlista!C38,Matchlista!C47,Matchlista!C48,Matchlista!C56,Matchlista!C65,Matchlista!C66,Matchlista!C75,Matchlista!C84,Matchlista!C85,Matchlista!C94,Matchlista!C95,Matchlista!C108,Matchlista!C109,Matchlista!C114) -> 0.62152778
A16: Klass | B16: Antal lag | C16: Matcher
A17: Flickor 2019 | B17: 5 | C17: =B17*4/2 -> 10
A18: Pojkar 2019 | B18: 8 | C18: =B18*4/2 -> 16
A19: Flickor 2018 | B19: 9 | C19: =B19*4/2 -> 18
A20: Pojkar 2018 | B20: 17 | C20: =B20*4/2 -> 34
A21: Flickor 2017 | B21: 10 | C21: =B21*4/2 -> 20
A22: Pojkar 2017 | B22: 8 | C22: =B22*4/2 -> 16

Sheet Matchlista
A1: Cupens matchschema
A3: 20 minuters match · 5 minuters ställtid · 8 planer för 5-manna och 2 planer för 7-manna
A5: Match | B5: Avspark | C5: Slut | D5: Plan | E5: Klass | F5: Lag 1 | G5: Lag 2 | H5: Spelform
A6: 1 | B6: 0.375 | C6: =B6+Översikt!$B$6/1440 -> 0.38888889 | D6: Ahlsell | E6: Pojkar 2018 | F6: Fårbo FF 1 | G6: Vimmerby IF 1 | H6: 5-manna
A7: 2 | B7: 0.375 | C7: =B7+Översikt!$B$6/1440 -> 0.38888889 | D7: Bilteknik | E7: Pojkar 2018 | F7: Oskarshamns AIK 1 | G7: IFK Västervik 2 | H7: 5-manna
A8: 3 | B8: 0.375 | C8: =B8+Översikt!$B$6/1440 -> 0.38888889 | D8: Ica Maxi | E8: Pojkar 2018 | F8: Västerviks FF 2 | G8: Ankarsrums IS | H8: 5-manna
A9: 4 | B9: 0.375 | C9: =B9+Översikt!$B$6/1440 -> 0.38888889 | D9: Jeansbolaget | E9: Pojkar 2018 | F9: IFK Västervik 4 | G9: Västerviks FF 1 | H9: 5-manna
A10: 5 | B10: 0.375 | C10: =B10+Översikt!$B$6/1440 -> 0.38888889 | D10: Jojjen | E10: Pojkar 2018 | F10: Fårbo FF 2 | G10: IFK Västervik 3 | H10: 5-manna
A11: 6 | B11: 0.375 | C11: =B11+Översikt!$B$6/1440 -> 0.38888889 | D11: Yta | E11: Pojkar 2018 | F11: Gunnebo IF | G11: Mönsterås GOIF 2 | H11: 5-manna
A12: 7 | B12: 0.39236111 | C12: =B12+Översikt!$B$6/1440 -> 0.40625 | D12: Yta | E12: Pojkar 2018 | F12: Oskarshamns AIK 2 | G12: Vimmerby IF 2 | H12: 5-manna
A13: 8 | B13: 0.40972222 | C13: =B13+Översikt!$B$6/1440 -> 0.42361111 | D13: Bilteknik | E13: Pojkar 2018 | F13: Ankarsrums IS | G13: IFK Västervik 2 | H13: 5-manna
A14: 9 | B14: 0.40972222 | C14: =B14+Översikt!$B$6/1440 -> 0.42361111 | D14: Ica Maxi | E14: Pojkar 2018 | F14: Västerviks FF 2 | G14: Fårbo FF 1 | H14: 5-manna
A15: 10 | B15: 0.40972222 | C15: =B15+Översikt!$B$6/1440 -> 0.42361111 | D15: Jeansbolaget | E15: Pojkar 2018 | F15: Västerviks FF 1 | G15: IFK Västervik 1 | H15: 5-manna
A16: 11 | B16: 0.40972222 | C16: =B16+Översikt!$B$6/1440 -> 0.42361111 | D16: Jojjen | E16: Pojkar 2018 | F16: IFK Västervik 3 | G16: Mönsterås GOIF 1 | H16: 5-manna
A17: 12 | B17: 0.40972222 | C17: =B17+Översikt!$B$6/1440 -> 0.42361111 | D17: Intersport | E17: Pojkar 2018 | F17: Vimmerby IF 1 | G17: Oskarshamns AIK 1 | H17: 5-manna
... A119: 116 | B119: 0.63541667 | C119: =B119+Översikt!$B$6/1440 -> 0.64930556 | D119: Intersport | E119: Flickor 2017 | F119: IFK Västervik 2 | G119: Rödsle Bk9 1 | H119: 5-manna

Sheet Lagöversikt
A1: Lagöversikt
A3: Alla lag · Första avspark och sista slutsignal
A5: Klass | B5: Lag | C5: Matcher | D5: Första avspark | E5: Sista slut
A6: Flickor 2019 | B6: Hultsfreds FK | C6: =COUNTIFS(Matchlista!$E$6:$E$119,A6,Matchlista!$F$6:$F$119,B6)+COUNTIFS(Matchlista!$E$6:$E$119,A6,Matchlista!$G$6:$G$119,B6) -> 4 | D6: =Matchlista!B22 -> 0.42708333 | E6: =Matchlista!C107 -> 0.57986111
A7: Flickor 2019 | B7: IF Eksjö Fotboll | C7: =COUNTIFS(Matchlista!$E$6:$E$119,A7,Matchlista!$F$6:$F$119,B7)+COUNTIFS(Matchlista!$E$6:$E$119,A7,Matchlista!$G$6:$G$119,B7) -> 4 | D7: =Matchlista!B26 -> 0.42708333 | E7: =Matchlista!C107 -> 0.57986111
A8: Flickor 2019 | B8: IFK Västervik | C8: =COUNTIFS(Matchlista!$E$6:$E$119,A8,Matchlista!$F$6:$F$119,B8)+COUNTIFS(Matchlista!$E$6:$E$119,A8,Matchlista!$G$6:$G$119,B8) -> 4 | D8: =Matchlista!B26 -> 0.42708333 | E8: =Matchlista!C106 -> 0.59722222
A9: Flickor 2019 | B9: Rödsle BK | C9: =COUNTIFS(Matchlista!$E$6:$E$119,A9,Matchlista!$F$6:$F$119,B9)+COUNTIFS(Matchlista!$E$6:$E$119,A9,Matchlista!$G$6:$G$119,B9) -> 4 | D9: =Matchlista!B22 -> 0.42708333 | E9: =Matchlista!C86 -> 0.5625
A10: Flickor 2019 | B10: Vimmerby IF | C10: =COUNTIFS(Matchlista!$E$6:$E$119,A10,Matchlista!$F$6:$F$119,B10)+COUNTIFS(Matchlista!$E$6:$E$119,A10,Matchlista!$G$6:$G$119,B10) -> 4 | D10: =Matchlista!B40 -> 0.46180556 | E10: =Matchlista!C106 -> 0.59722222
A11: Pojkar 2019 | B11: IFK Västervik 1 | C11: =COUNTIFS(Matchlista!$E$6:$E$119,A11,Matchlista!$F$6:$F$119,B11)+COUNTIFS(Matchlista!$E$6:$E$119,A11,Matchlista!$G$6:$G$119,B11) -> 4 | D11: =Matchlista!B24 -> 0.42708333 | E11: =Matchlista!C98 -> 0.57986111
A12: Pojkar 2019 | B12: IFK Västervik 2 | C12: =COUNTIFS(Matchlista!$E$6:$E$119,A12,Matchlista!$F$6:$F$119,B12)+COUNTIFS(Matchlista!$E$6:$E$119,A12,Matchlista!$G$6:$G$119,B12) -> 4 | D12: =Matchlista!B23 -> 0.42708333 | E12: =Matchlista!C100 -> 0.57986111
A13: Pojkar 2019 | B13: IFK Västervik 3 | C13: =COUNTIFS(Matchlista!$E$6:$E$119,A13,Matchlista!$F$6:$F$119,B13)+COUNTIFS(Matchlista!$E$6:$E$119,A13,Matchlista!$G$6:$G$119,B13) -> 4 | D13: =Matchlista!B23 -> 0.42708333 | E13: =Matchlista!C110 -> 0.61458333
A14: Pojkar 2019 | B14: Oskarshamns AIk 1 | C14: =COUNTIFS(Matchlista!$E$6:$E$119,A14,Matchlista!$F$6:$F$119,B14)+COUNTIFS(Matchlista!$E$6:$E$119,A14,Matchlista!$G$6:$G$119,B14) -> 4 | D14: =Matchlista!B30 -> 0.44444444 | E14: =Matchlista!C113 -> 0.61458333
A15: Pojkar 2019 | B15: Oskarshamns AIk 2 | C15: =COUNTIFS(Matchlista!$E$6:$E$119,A15,Matchlista!$F$6:$F$119,B15)+COUNTIFS(Matchlista!$E$6:$E$119,A15,Matchlista!$G$6:$G$119,B15) -> 4 | D15: =Matchlista!B41 -> 0.46180556 | E15: =Matchlista!C112 -> 0.61458333
A16: Pojkar 2019 | B16: Rimforsa IF | C16: =COUNTIFS(Matchlista!$E$6:$E$119,A16,Matchlista!$F$6:$F$119,B16)+COUNTIFS(Matchlista!$E$6:$E$119,A16,Matchlista!$G$6:$G$119,B16) -> 4 | D16: =Matchlista!B24 -> 0.42708333 | E16: =Matchlista!C112 -> 0.61458333
A17: Pojkar 2019 | B17: Söderköpings IK 1 | C17: =COUNTIFS(Matchlista!$E$6:$E$119,A17,Matchlista!$F$6:$F$119,B17)+COUNTIFS(Matchlista!$E$6:$E$119,A17,Matchlista!$G$6:$G$119,B17) -> 4 | D17: =Matchlista!B30 -> 0.44444444 | E17: =Matchlista!C110 -> 0.61458333
A18: Pojkar 2019 | B18: Söderköpings IK 2 | C18: =COUNTIFS(Matchlista!$E$6:$E$119,A18,Matchlista!$F$6:$F$119,B18)+COUNTIFS(Matchlista!$E$6:$E$119,A18,Matchlista!$G$6:$G$119,B18) -> 4 | D18: =Matchlista!B43 -> 0.46180556 | E18: =Matchlista!C113 -> 0.61458333
A19: Flickor 2018 | B19: Hultsfred FK | C19: =COUNTIFS(Matchlista!$E$6:$E$119,A19,Matchlista!$F$6:$F$119,B19)+COUNTIFS(Matchlista!$E$6:$E$119,A19,Matchlista!$G$6:$G$119,B19) -> 4 | D19: =Matchlista!B28 -> 0.43402778 | E19: =Matchlista!C103 -> 0.59722222
A20: Flickor 2018 | B20: IFK Västervik | C20: =COUNTIFS(Matchlista!$E$6:$E$119,A20,Matchlista!$F$6:$F$119,B20)+COUNTIFS(Matchlista!$E$6:$E$119,A20,Matchlista!$G$6:$G$119,B20) -> 4 | D20: =Matchlista!B27 -> 0.42708333 | E20: =Matchlista!C93 -> 0.56597222
A21: Flickor 2018 | B21: Tjust IF | C21: =COUNTIFS(Matchlista!$E$6:$E$119,A21,Matchlista!$F$6:$F$119,B21)+COUNTIFS(Matchlista!$E$6:$E$119,A21,Matchlista!$G$6:$G$119,B21) -> 4 | D21: =Matchlista!B34 -> 0.44444444 | E21: =Matchlista!C102 -> 0.58333333
A22: Flickor 2018 | B22: Tyresö strand FC 1 | C22: =COUNTIFS(Matchlista!$E$6:$E$119,A22,Matchlista!$F$6:$F$119,B22)+COUNTIFS(Matchlista!$E$6:$E$119,A22,Matchlista!$G$6:$G$119,B22) -> 4 | D22: =Matchlista!B20 -> 0.41666667 | E22: =Matchlista!C93 -> 0.56597222
A23: Flickor 2018 | B23: Tyresö strand FC 2 | C23: =COUNTIFS(Matchlista!$E$6:$E$119,A23,Matchlista!$F$6:$F$119,B23)+COUNTIFS(Matchlista!$E$6:$E$119,A23,Matchlista!$G$6:$G$119,B23) -> 4 | D23: =Matchlista!B28 -> 0.43402778 | E23: =Matchlista!C101 -> 0.58333333
A24: Flickor 2018 | B24: Vimmerby IF 1 | C24: =COUNTIFS(Matchlista!$E$6:$E$119,A24,Matchlista!$F$6:$F$119,B24)+COUNTIFS(Matchlista!$E$6:$E$119,A24,Matchlista!$G$6:$G$119,B24) -> 4 | D24: =Matchlista!B20 -> 0.41666667 | E24: =Matchlista!C92 -> 0.5625
A25: Flickor 2018 | B25: Vimmerby IF 2 | C25: =COUNTIFS(Matchlista!$E$6:$E$119,A25,Matchlista!$F$6:$F$119,B25)+COUNTIFS(Matchlista!$E$6:$E$119,A25,Matchlista!$G$6:$G$119,B25) -> 4 | D25: =Matchlista!B27 -> 0.42708333 | E25: =Matchlista!C102 -> 0.58333333
A26: Flickor 2018 | B26: Västerviks FF 1 | C26: =COUNTIFS(Matchlista!$E$6:$E$119,A26,Matchlista!$F$6:$F$119,B26)+COUNTIFS(Matchlista!$E$6:$E$119,A26,Matchlista!$G$6:$G$119,B26) -> 4 | D26: =Matchlista!B34 -> 0.44444444 | E26: =Matchlista!C101 -> 0.58333333
A27: Flickor 2018 | B27: Västerviks FF 2 | C27: =COUNTIFS(Matchlista!$E$6:$E$119,A27,Matchlista!$F$6:$F$119,B27)+COUNTIFS(Matchlista!$E$6:$E$119,A27,Matchlista!$G$6:$G$119,B27) -> 4 | D27: =Matchlista!B36 -> 0.45138889 | E27: =Matchlista!C103 -> 0.59722222
A28: Pojkar 2018 | B28: Ankarsrums IS | C28: =COUNTIFS(Matchlista!$E$6:$E$119,A28,Matchlista!$F$6:$F$119,B28)+COUNTIFS(Matchlista!$E$6:$E$119,A28,Matchlista!$G$6:$G$119,B28) -> 4 | D28: =Matchlista!B8 -> 0.375 | E28: =Matchlista!C61 -> 0.51041667
A29: Pojkar 2018 | B29: Fårbo FF 1 | C29: =COUNTIFS(Matchlista!$E$6:$E$119,A29,Matchlista!$F$6:$F$119,B29)+COUNTIFS(Matchlista!$E$6:$E$119,A29,Matchlista!$G$6:$G$119,B29) -> 4 | D29: =Matchlista!B6 -> 0.375 | E29: =Matchlista!C61 -> 0.51041667
A30: Pojkar 2018 | B30: Fårbo FF 2 | C30: =COUNTIFS(Matchlista!$E$6:$E$119,A30,Matchlista!$F$6:$F$119,B30)+COUNTIFS(Matchlista!$E$6:$E$119,A30,Matchlista!$G$6:$G$119,B30) -> 4 | D30: =Matchlista!B10 -> 0.375 | E30: =Matchlista!C71 -> 0.52777778
A31: Pojkar 2018 | B31: Gunnebo IF | C31: =COUNTIFS(Matchlista!$E$6:$E$119,A31,Matchlista!$F$6:$F$119,B31)+COUNTIFS(Matchlista!$E$6:$E$119,A31,Matchlista!$G$6:$G$119,B31) -> 4 | D31: =Matchlista!B11 -> 0.375 | E31: =Matchlista!C64 -> 0.51041667
A32: Pojkar 2018 | B32: IFK Västervik 1 | C32: =COUNTIFS(Matchlista!$E$6:$E$119,A32,Matchlista!$F$6:$F$119,B32)+COUNTIFS(Matchlista!$E$6:$E$119,A32,Matchlista!$G$6:$G$119,B32) -> 4 | D32: =Matchlista!B15 -> 0.40972222 | E32: =Matchlista!C80 -> 0.54513889
A33: Pojkar 2018 | B33: IFK Västervik 2 | C33: =COUNTIFS(Matchlista!$E$6:$E$119,A33,Matchlista!$F$6:$F$119,B33)+COUNTIFS(Matchlista!$E$6:$E$119,A33,Matchlista!$G$6:$G$119,B33) -> 4 | D33: =Matchlista!B7 -> 0.375 | E33: =Matchlista!C69 -> 0.52777778
A34: Pojkar 2018 | B34: IFK Västervik 3 | C34: =COUNTIFS(Matchlista!$E$6:$E$119,A34,Matchlista!$F$6:$F$119,B34)+COUNTIFS(Matchlista!$E$6:$E$119,A34,Matchlista!$G$6:$G$119,B34) -> 4 | D34: =Matchlista!B10 -> 0.375 | E34: =Matchlista!C70 -> 0.52777778
A35: Pojkar 2018 | B35: IFK Västervik 4 | C35: =COUNTIFS(Matchlista!$E$6:$E$119,A35,Matchlista!$F$6:$F$119,B35)+COUNTIFS(Matchlista!$E$6:$E$119,A35,Matchlista!$G$6:$G$119,B35) -> 4 | D35: =Matchlista!B9 -> 0.375 | E35: =Matchlista!C79 -> 0.54513889
A36: Pojkar 2018 | B36: Mönsterås GOIF 1 | C36: =COUNTIFS(Matchlista!$E$6:$E$119,A36,Matchlista!$F$6:$F$119,B36)+COUNTIFS(Matchlista!$E$6:$E$119,A36,Matchlista!$G$6:$G$119,B36) -> 4 | D36: =Matchlista!B16 -> 0.40972222 | E36: =Matchlista!C87 -> 0.5625
A37: Pojkar 2018 | B37: Mönsterås GOIF 2 | C37: =COUNTIFS(Matchlista!$E$6:$E$119,A37,Matchlista!$F$6:$F$119,B37)+COUNTIFS(Matchlista!$E$6:$E$119,A37,Matchlista!$G$6:$G$119,B37) -> 4 | D37: =Matchlista!B11 -> 0.375 | E37: =Matchlista!C80 -> 0.54513889
A38: Pojkar 2018 | B38: Oskarshamns AIK 1 | C38: =COUNTIFS(Matchlista!$E$6:$E$119,A38,Matchlista!$F$6:$F$119,B38)+COUNTIFS(Matchlista!$E$6:$E$119,A38,Matchlista!$G$6:$G$119,B38) -> 4 | D38: =Matchlista!B7 -> 0.375 | E38: =Matchlista!C73 -> 0.52777778
A39: Pojkar 2018 | B39: Oskarshamns AIK 2 | C39: =COUNTIFS(Matchlista!$E$6:$E$119,A39,Matchlista!$F$6:$F$119,B39)+COUNTIFS(Matchlista!$E$6:$E$119,A39,Matchlista!$G$6:$G$119,B39) -> 4 | D39: =Matchlista!B12 -> 0.39236111 | E39: =Matchlista!C70 -> 0.52777778
A40: Pojkar 2018 | B40: Oskarshamns AIK 3 | C40: =COUNTIFS(Matchlista!$E$6:$E$119,A40,Matchlista!$F$6:$F$119,B40)+COUNTIFS(Matchlista!$E$6:$E$119,A40,Matchlista!$G$6:$G$119,B40) -> 4 | D40: =Matchlista!B18 -> 0.40972222 | E40: =Matchlista!C79 -> 0.54513889
A41: Pojkar 2018 | B41: Vimmerby IF 1 | C41: =COUNTIFS(Matchlista!$E$6:$E$119,A41,Matchlista!$F$6:$F$119,B41)+COUNTIFS(Matchlista!$E$6:$E$119,A41,Matchlista!$G$6:$G$119,B41) -> 4 | D41: =Matchlista!B6 -> 0.375 | E41: =Matchlista!C69 -> 0.52777778
A42: Pojkar 2018 | B42: Vimmerby IF 2 | C42: =COUNTIFS(Matchlista!$E$6:$E$119,A42,Matchlista!$F$6:$F$119,B42)+COUNTIFS(Matchlista!$E$6:$E$119,A42,Matchlista!$G$6:$G$119,B42) -> 4 | D42: =Matchlista!B12 -> 0.39236111 | E42: =Matchlista!C87 -> 0.5625
A43: Pojkar 2018 | B43: Västerviks FF 1 | C43: =COUNTIFS(Matchlista!$E$6:$E$119,A43,Matchlista!$F$6:$F$119,B43)+COUNTIFS(Matchlista!$E$6:$E$119,A43,Matchlista!$G$6:$G$119,B43) -> 4 | D43: =Matchlista!B9 -> 0.375 | E43: =Matchlista!C64 -> 0.51041667
A44: Pojkar 2018 | B44: Västerviks FF 2 | C44: =COUNTIFS(Matchlista!$E$6:$E$119,A44,Matchlista!$F$6:$F$119,B44)+COUNTIFS(Matchlista!$E$6:$E$119,A44,Matchlista!$G$6:$G$119,B44) -> 4 | D44: =Matchlista!B8 -> 0.375 | E44: =Matchlista!C73 -> 0.52777778
A45: Flickor 2017 | B45: Hultsfred FK | C45: =COUNTIFS(Matchlista!$E$6:$E$119,A45,Matchlista!$F$6:$F$119,B45)+COUNTIFS(Matchlista!$E$6:$E$119,A45,Matchlista!$G$6:$G$119,B45) -> 4 | D45: =Matchlista!B51 -> 0.47916667 | E45: =Matchlista!C115 -> 0.63194444
A46: Flickor 2017 | B46: IFK Västervik | C46: =COUNTIFS(Matchlista!$E$6:$E$119,A46,Matchlista!$F$6:$F$119,B46)+COUNTIFS(Matchlista!$E$6:$E$119,A46,Matchlista!$G$6:$G$119,B46) -> 4 | D46: =Matchlista!B72 -> 0.51388889 | E46: =Matchlista!C118 -> 0.64930556
A47: Flickor 2017 | B47: IFK Västervik 2 | C47: =COUNTIFS(Matchlista!$E$6:$E$119,A47,Matchlista!$F$6:$F$119,B47)+COUNTIFS(Matchlista!$E$6:$E$119,A47,Matchlista!$G$6:$G$119,B47) -> 4 | D47: =Matchlista!B49 -> 0.47916667 | E47: =Matchlista!C119 -> 0.64930556
A48: Flickor 2017 | B48: Rosenfors IK | C48: =COUNTIFS(Matchlista!$E$6:$E$119,A48,Matchlista!$F$6:$F$119,B48)+COUNTIFS(Matchlista!$E$6:$E$119,A48,Matchlista!$G$6:$G$119,B48) -> 4 | D48: =Matchlista!B49 -> 0.47916667 | E48: =Matchlista!C117 -> 0.63194444
A49: Flickor 2017 | B49: Rödsle Bk9 1 | C49: =COUNTIFS(Matchlista!$E$6:$E$119,A49,Matchlista!$F$6:$F$119,B49)+COUNTIFS(Matchlista!$E$6:$E$119,A49,Matchlista!$G$6:$G$119,B49) -> 4 | D49: =Matchlista!B68 -> 0.51388889 | E49: =Matchlista!C119 -> 0.64930556
A50: Flickor 2017 | B50: Rödsle Bk9 2 | C50: =COUNTIFS(Matchlista!$E$6:$E$119,A50,Matchlista!$F$6:$F$119,B50)+COUNTIFS(Matchlista!$E$6:$E$119,A50,Matchlista!$G$6:$G$119,B50) -> 4 | D50: =Matchlista!B58 -> 0.49652778 | E50: =Matchlista!C115 -> 0.63194444
A51: Flickor 2017 | B51: Rödsle Bk9 3 | C51: =COUNTIFS(Matchlista!$E$6:$E$119,A51,Matchlista!$F$6:$F$119,B51)+COUNTIFS(Matchlista!$E$6:$E$119,A51,Matchlista!$G$6:$G$119,B51) -> 4 | D51: =Matchlista!B49 -> 0.47916667 | E51: =Matchlista!C116 -> 0.63194444
A52: Flickor 2017 | B52: Tjust IF | C52: =COUNTIFS(Matchlista!$E$6:$E$119,A52,Matchlista!$F$6:$F$119,B52)+COUNTIFS(Matchlista!$E$6:$E$119,A52,Matchlista!$G$6:$G$119,B52) -> 4 | D52: =Matchlista!B58 -> 0.49652778 | E52: =Matchlista!C118 -> 0.64930556
A53: Flickor 2017 | B53: Tyresö strand FC | C53: =COUNTIFS(Matchlista!$E$6:$E$119,A53,Matchlista!$F$6:$F$119,B53)+COUNTIFS(Matchlista!$E$6:$E$119,A53,Matchlista!$G$6:$G$119,B53) -> 4 | D53: =Matchlista!B52 -> 0.47916667 | E53: =Matchlista!C117 -> 0.63194444
A54: Flickor 2017 | B54: Västerviks FF | C54: =COUNTIFS(Matchlista!$E$6:$E$119,A54,Matchlista!$F$6:$F$119,B54)+COUNTIFS(Matchlista!$E$6:$E$119,A54,Matchlista!$G$6:$G$119,B54) -> 4 | D54: =Matchlista!B51 -> 0.47916667 | E54: =Matchlista!C116 -> 0.63194444
A55: Pojkar 2017 | B55: IFK Västervik 1 | C55: =COUNTIFS(Matchlista!$E$6:$E$119,A55,Matchlista!$F$6:$F$119,B55)+COUNTIFS(Matchlista!$E$6:$E$119,A55,Matchlista!$G$6:$G$119,B55) -> 4 | D55: =Matchlista!B48 -> 0.46875 | E55: =Matchlista!C109 -> 0.60416667
A56: Pojkar 2017 | B56: IFK Västervik 2 | C56: =COUNTIFS(Matchlista!$E$6:$E$119,A56,Matchlista!$F$6:$F$119,B56)+COUNTIFS(Matchlista!$E$6:$E$119,A56,Matchlista!$G$6:$G$119,B56) -> 4 | D56: =Matchlista!B38 -> 0.45138889 | E56: =Matchlista!C108 -> 0.60416667
A57: Pojkar 2017 | B57: Oskarshamns AIK Gul | C57: =COUNTIFS(Matchlista!$E$6:$E$119,A57,Matchlista!$F$6:$F$119,B57)+COUNTIFS(Matchlista!$E$6:$E$119,A57,Matchlista!$G$6:$G$119,B57) -> 4 | D57: =Matchlista!B48 -> 0.46875 | E57: =Matchlista!C114 -> 0.62152778
A58: Pojkar 2017 | B58: Oskarshamns AIK Svart | C58: =COUNTIFS(Matchlista!$E$6:$E$119,A58,Matchlista!$F$6:$F$119,B58)+COUNTIFS(Matchlista!$E$6:$E$119,A58,Matchlista!$G$6:$G$119,B58) -> 4 | D58: =Matchlista!B47 -> 0.46875 | E58: =Matchlista!C108 -> 0.60416667
A59: Pojkar 2017 | B59: Oskarshamns AIK Vit | C59: =COUNTIFS(Matchlista!$E$6:$E$119,A59,Matchlista!$F$6:$F$119,B59)+COUNTIFS(Matchlista!$E$6:$E$119,A59,Matchlista!$G$6:$G$119,B59) -> 4 | D59: =Matchlista!B21 -> 0.41666667 | E59: =Matchlista!C84 -> 0.55208333
A60: Pojkar 2017 | B60: Vimmerby if | C60: =COUNTIFS(Matchlista!$E$6:$E$119,A60,Matchlista!$F$6:$F$119,B60)+COUNTIFS(Matchlista!$E$6:$E$119,A60,Matchlista!$G$6:$G$119,B60) -> 4 | D60: =Matchlista!B47 -> 0.46875 | E60: =Matchlista!C109 -> 0.60416667
A61: Pojkar 2017 | B61: VästerviksFF 1 | C61: =COUNTIFS(Matchlista!$E$6:$E$119,A61,Matchlista!$F$6:$F$119,B61)+COUNTIFS(Matchlista!$E$6:$E$119,A61,Matchlista!$G$6:$G$119,B61) -> 4 | D61: =Matchlista!B21 -> 0.41666667 | E61: =Matchlista!C85 -> 0.55208333
A62: Pojkar 2017 | B62: VästerviksFF 2 | C62: =COUNTIFS(Matchlista!$E$6:$E$119,A62,Matchlista!$F$6:$F$119,B62)+COUNTIFS(Matchlista!$E$6:$E$119,A62,Matchlista!$G$6:$G$119,B62) -> 4 | D62: =Matchlista!B37 -> 0.45138889 | E62: =Matchlista!C114 -> 0.62152778

Sheet Planvis
A1: Matchschema per plan
A3: Alla namngivna planer · 5-manna och 7-manna
A4: Match | B4: Avspark | C4: Slut | D4: Klass | E4: Lag 1 | F4: Lag 2
A5: Ahlsell · 5-manna
A6: =Matchlista!A6 -> 1 | B6: =Matchlista!B6 -> 0.375 | C6: =Matchlista!C6 -> 0.38888889 | D6: =Matchlista!E6 -> Pojkar 2018 | E6: =Matchlista!F6 -> Fårbo FF 1 | F6: =Matchlista!G6 -> Vimmerby IF 1
A7: =Matchlista!A20 -> 15 | B7: =Matchlista!B20 -> 0.41666667 | C7: =Matchlista!C20 -> 0.43055556 | D7: =Matchlista!E20 -> Flickor 2018 | E7: =Matchlista!F20 -> Tyresö strand FC 1 | F7: =Matchlista!G20 -> Vimmerby IF 1
A8: =Matchlista!A28 -> 23 | B8: =Matchlista!B28 -> 0.43402778 | C8: =Matchlista!C28 -> 0.44791667 | D8: =Matchlista!E28 -> Flickor 2018 | E8: =Matchlista!F28 -> Hultsfred FK | F8: =Matchlista!G28 -> Tyresö strand FC 2
A9: =Matchlista!A36 -> 31 | B9: =Matchlista!B36 -> 0.45138889 | C9: =Matchlista!C36 -> 0.46527778 | D9: =Matchlista!E36 -> Flickor 2018 | E9: =Matchlista!F36 -> Tyresö strand FC 1 | F9: =Matchlista!G36 -> Västerviks FF 2
A10: =Matchlista!A46 -> 41 | B10: =Matchlista!B46 -> 0.46875 | C10: =Matchlista!C46 -> 0.48263889 | D10: =Matchlista!E46 -> Flickor 2018 | E10: =Matchlista!F46 -> Tyresö strand FC 2 | F10: =Matchlista!G46 -> Vimmerby IF 2
A11: =Matchlista!A57 -> 52 | B11: =Matchlista!B57 -> 0.49652778 | C11: =Matchlista!C57 -> 0.51041667 | D11: =Matchlista!E57 -> Pojkar 2019 | E11: =Matchlista!F57 -> Söderköpings IK 1 | F11: =Matchlista!G57 -> Rimforsa IF
A12: =Matchlista!A67 -> 62 | B12: =Matchlista!B67 -> 0.51388889 | C12: =Matchlista!C67 -> 0.52777778 | D12: =Matchlista!E67 -> Flickor 2018 | E12: =Matchlista!F67 -> Tjust IF | F12: =Matchlista!G67 -> Tyresö strand FC 1
A13: =Matchlista!A76 -> 71 | B13: =Matchlista!B76 -> 0.53125 | C13: =Matchlista!C76 -> 0.54513889 | D13: =Matchlista!E76 -> Flickor 2018 | E13: =Matchlista!F76 -> Västerviks FF 2 | F13: =Matchlista!G76 -> Tyresö strand FC 2
A14: =Matchlista!A93 -> 88 | B14: =Matchlista!B93 -> 0.55208333 | C14: =Matchlista!C93 -> 0.56597222 | D14: =Matchlista!E93 -> Flickor 2018 | E14: =Matchlista!F93 -> IFK Västervik | F14: =Matchlista!G93 -> Tyresö strand FC 1
A15: =Matchlista!A101 -> 96 | B15: =Matchlista!B101 -> 0.56944444 | C15: =Matchlista!C101 -> 0.58333333 | D15: =Matchlista!E101 -> Flickor 2018 | E15: =Matchlista!F101 -> Tyresö strand FC 2 | F15: =Matchlista!G101 -> Västerviks FF 1
A16: =Matchlista!A110 -> 106 | B16: =Matchlista!B110 -> 0.60069444 | C16: =Matchlista!C110 -> 0.61458333 | D16: =Matchlista!E110 -> Pojkar 2019 | E16: =Matchlista!F110 -> IFK Västervik 3 | F16: =Matchlista!G110 -> Söderköpings IK 1
A18: Bilteknik · 5-manna
A19: =Matchlista!A7 -> 2 | B19: =Matchlista!B7 -> 0.375 | C19: =Matchlista!C7 -> 0.38888889 | D19: =Matchlista!E7 -> Pojkar 2018 | E19: =Matchlista!F7 -> Oskarshamns AIK 1 | F19: =Matchlista!G7 -> IFK Västervik 2
A20: =Matchlista!A13 -> 8 | B20: =Matchlista!B13 -> 0.40972222 | C20: =Matchlista!C13 -> 0.42361111 | D20: =Matchlista!E13 -> Pojkar 2018 | E20: =Matchlista!F13 -> Ankarsrums IS | F20: =Matchlista!G13 -> IFK Västervik 2
A21: =Matchlista!A22 -> 17 | B21: =Matchlista!B22 -> 0.42708333 | C21: =Matchlista!C22 -> 0.44097222 | D21: =Matchlista!E22 -> Flickor 2019 | E21: =Matchlista!F22 -> Rödsle BK | F21: =Matchlista!G22 -> Hultsfreds FK
A22: =Matchlista!A29 -> 24 | B22: =Matchlista!B29 -> 0.44444444 | C22: =Matchlista!C29 -> 0.45833333 | D22: =Matchlista!E29 -> Pojkar 2018 | E22: =Matchlista!F29 -> Ankarsrums IS | F22: =Matchlista!G29 -> Oskarshamns AIK 1
A23: =Matchlista!A39 -> 34 | B23: =Matchlista!B39 -> 0.46180556 | C23: =Matchlista!C39 -> 0.47569444 | D23: =Matchlista!E39 -> Pojkar 2018 | E23: =Matchlista!F39 -> Vimmerby IF 1 | F23: =Matchlista!G39 -> Västerviks FF 2
A24: =Matchlista!A49 -> 44 | B24: =Matchlista!B49 -> 0.47916667 | C24: =Matchlista!C49 -> 0.49305556 | D24: =Matchlista!E49 -> Flickor 2017 | E24: =Matchlista!F49 -> IFK Västervik 2 | F24: =Matchlista!G49 -> Rosenfors IK
A25: =Matchlista!A58 -> 53 | B25: =Matchlista!B58 -> 0.49652778 | C25: =Matchlista!C58 -> 0.51041667 | D25: =Matchlista!E58 -> Flickor 2017 | E25: =Matchlista!F58 -> Tjust IF | F25: =Matchlista!G58 -> Rödsle Bk9 2
A26: =Matchlista!A68 -> 63 | B26: =Matchlista!B68 -> 0.51388889 | C26: =Matchlista!C68 -> 0.52777778 | D26: =Matchlista!E68 -> Flickor 2017 | E26: =Matchlista!F68 -> Tyresö strand FC | F26: =Matchlista!G68 -> Rödsle Bk9 1
A27: =Matchlista!A77 -> 72 | B27: =Matchlista!B77 -> 0.53125 | C27: =Matchlista!C77 -> 0.54513889 | D27: =Matchlista!E77 -> Flickor 2017 | E27: =Matchlista!F77 -> Rosenfors IK | F27: =Matchlista!G77 -> Rödsle Bk9 2
A28: =Matchlista!A86 -> 81 | B28: =Matchlista!B86 -> 0.54861111 | C28: =Matchlista!C86 -> 0.5625 | D28: =Matchlista!E86 -> Flickor 2019 | E28: =Matchlista!F86 -> Rödsle BK | F28: =Matchlista!G86 -> Vimmerby IF
A29: =Matchlista!A96 -> 91 | B29: =Matchlista!B96 -> 0.56597222 | C29: =Matchlista!C96 -> 0.57986111 | D29: =Matchlista!E96 -> Flickor 2017 | E29: =Matchlista!F96 -> IFK Västervik | F29: =Matchlista!G96 -> Rödsle Bk9 2
A30: =Matchlista!A103 -> 98 | B30: =Matchlista!B103 -> 0.58333333 | C30: =Matchlista!C103 -> 0.59722222 | D30: =Matchlista!E103 -> Flickor 2018 | E30: =Matchlista!F103 -> Västerviks FF 2 | F30: =Matchlista!G103 -> Hultsfred FK
A31: =Matchlista!A111 -> 107 | B31: =Matchlista!B111 -> 0.60069444 | C31: =Matchlista!C111 -> 0.61458333 | D31: =Matchlista!E111 -> Flickor 2017 | E31: =Matchlista!F111 -> Rödsle Bk9 1 | F31: =Matchlista!G111 -> IFK Västervik
A32: =Matchlista!A115 -> 112 | B32: =Matchlista!B115 -> 0.61805556 | C32: =Matchlista!C115 -> 0.63194444 | D32: =Matchlista!E115 -> Flickor 2017 | E32: =Matchlista!F115 -> Rödsle Bk9 2 | F32: =Matchlista!G115 -> Hultsfred FK
A34: Ica Maxi · 5-manna
A35: =Matchlista!A8 -> 3 | B35: =Matchlista!B8 -> 0.375 | C35: =Matchlista!C8 -> 0.38888889 | D35: =Matchlista!E8 -> Pojkar 2018 | E35: =Matchlista!F8 -> Västerviks FF 2 | F35: =Matchlista!G8 -> Ankarsrums IS
A36: =Matchlista!A14 -> 9 | B36: =Matchlista!B14 -> 0.40972222 | C36: =Matchlista!C14 -> 0.42361111 | D36: =Matchlista!E14 -> Pojkar 2018 | E36: =Matchlista!F14 -> Västerviks FF 2 | F36: =Matchlista!G14 -> Fårbo FF 1
A37: =Matchlista!A23 -> 18 | B37: =Matchlista!B23 -> 0.42708333 | C37: =Matchlista!C23 -> 0.44097222 | D37: =Matchlista!E23 -> Pojkar 2019 | E37: =Matchlista!F23 -> IFK Västervik 3 | F37: =Matchlista!G23 -> IFK Västervik 2
A38: =Matchlista!A30 -> 25 | B38: =Matchlista!B30 -> 0.44444444 | C38: =Matchlista!C30 -> 0.45833333 | D38: =Matchlista!E30 -> Pojkar 2019 | E38: =Matchlista!F30 -> Söderköpings IK 1 | F38: =Matchlista!G30 -> Oskarshamns AIk 1
A39: =Matchlista!A40 -> 35 | B39: =Matchlista!B40 -> 0.46180556 | C39: =Matchlista!C40 -> 0.47569444 | D39: =Matchlista!E40 -> Flickor 2019 | E39: =Matchlista!F40 -> Vimmerby IF | F39: =Matchlista!G40 -> IF Eksjö Fotboll
A40: =Matchlista!A50 -> 45 | B40: =Matchlista!B50 -> 0.47916667 | C40: =Matchlista!C50 -> 0.49305556 | D40: =Matchlista!E50 -> Flickor 2019 | E40: =Matchlista!F50 -> IFK Västervik | F40: =Matchlista!G50 -> Rödsle BK
A41: =Matchlista!A59 -> 54 | B41: =Matchlista!B59 -> 0.49652778 | C41: =Matchlista!C59 -> 0.51041667 | D41: =Matchlista!E59 -> Pojkar 2019 | E41: =Matchlista!F59 -> Oskarshamns AIk 1 | F41: =Matchlista!G59 -> IFK Västervik 3
A42: =Matchlista!A69 -> 64 | B42: =Matchlista!B69 -> 0.51388889 | C42: =Matchlista!C69 -> 0.52777778 | D42: =Matchlista!E69 -> Pojkar 2018 | E42: =Matchlista!F69 -> IFK Västervik 2 | F42: =Matchlista!G69 -> Vimmerby IF 1
A43: =Matchlista!A78 -> 73 | B43: =Matchlista!B78 -> 0.53125 | C43: =Matchlista!C78 -> 0.54513889 | D43: =Matchlista!E78 -> Pojkar 2019 | E43: =Matchlista!F78 -> IFK Västervik 2 | F43: =Matchlista!G78 -> Söderköpings IK 2
A44: =Matchlista!A87 -> 82 | B44: =Matchlista!B87 -> 0.54861111 | C44: =Matchlista!C87 -> 0.5625 | D44: =Matchlista!E87 -> Pojkar 2018 | E44: =Matchlista!F87 -> Mönsterås GOIF 1 | F44: =Matchlista!G87 -> Vimmerby IF 2
A45: =Matchlista!A97 -> 92 | B45: =Matchlista!B97 -> 0.56597222 | C45: =Matchlista!C97 -> 0.57986111 | D45: =Matchlista!E97 -> Flickor 2017 | E45: =Matchlista!F97 -> Rödsle Bk9 1 | F45: =Matchlista!G97 -> Rosenfors IK
A46: =Matchlista!A112 -> 108 | B46: =Matchlista!B112 -> 0.60069444 | C46: =Matchlista!C112 -> 0.61458333 | D46: =Matchlista!E112 -> Pojkar 2019 | E46: =Matchlista!F112 -> Oskarshamns AIk 2 | F46: =Matchlista!G112 -> Rimforsa IF
A48: Jeansbolaget · 5-manna
A49: =Matchlista!A9 -> 4 | B49: =Matchlista!B9 -> 0.375 | C49: =Matchlista!C9 -> 0.38888889 | D49: =Matchlista!E9 -> Pojkar 2018 | E49: =Matchlista!F9 -> IFK Västervik 4 | F49: =Matchlista!G9 -> Västerviks FF 1
A50: =Matchlista!A15 -> 10 | B50: =Matchlista!B15 -> 0.40972222 | C50: =Matchlista!C15 -> 0.42361111 | D50: =Matchlista!E15 -> Pojkar 2018 | E50: =Matchlista!F15 -> Västerviks FF 1 | F50: =Matchlista!G15 -> IFK Västervik 1
A51: =Matchlista!A24 -> 19 | B51: =Matchlista!B24 -> 0.42708333 | C51: =Matchlista!C24 -> 0.44097222 | D51: =Matchlista!E24 -> Pojkar 2019 | E51: =Matchlista!F24 -> Rimforsa IF | F51: =Matchlista!G24 -> IFK Västervik 1
A52: =Matchlista!A31 -> 26 | B52: =Matchlista!B31 -> 0.44444444 | C52: =Matchlista!C31 -> 0.45833333 | D52: =Matchlista!E31 -> Pojkar 2018 | E52: =Matchlista!F31 -> Oskarshamns AIK 3 | F52: =Matchlista!G31 -> Västerviks FF 1
A53: =Matchlista!A41 -> 36 | B53: =Matchlista!B41 -> 0.46180556 | C53: =Matchlista!C41 -> 0.47569444 | D53: =Matchlista!E41 -> Pojkar 2019 | E53: =Matchlista!F41 -> IFK Västervik 2 | F53: =Matchlista!G41 -> Oskarshamns AIk 2
A54: =Matchlista!A51 -> 46 | B54: =Matchlista!B51 -> 0.47916667 | C54: =Matchlista!C51 -> 0.49305556 | D54: =Matchlista!E51 -> Flickor 2017 | E54: =Matchlista!F51 -> Hultsfred FK | F54: =Matchlista!G51 -> Västerviks FF
A55: =Matchlista!A60 -> 55 | B55: =Matchlista!B60 -> 0.49652778 | C55: =Matchlista!C60 -> 0.51041667 | D55: =Matchlista!E60 -> Flickor 2018 | E55: =Matchlista!F60 -> Västerviks FF 1 | F55: =Matchlista!G60 -> IFK Västervik
A56: =Matchlista!A70 -> 65 | B56: =Matchlista!B70 -> 0.51388889 | C56: =Matchlista!C70 -> 0.52777778 | D56: =Matchlista!E70 -> Pojkar 2018 | E56: =Matchlista!F70 -> IFK Västervik 3 | F56: =Matchlista!G70 -> Oskarshamns AIK 2
A57: =Matchlista!A79 -> 74 | B57: =Matchlista!B79 -> 0.53125 | C57: =Matchlista!C79 -> 0.54513889 | D57: =Matchlista!E79 -> Pojkar 2018 | E57: =Matchlista!F79 -> IFK Västervik 4 | F57: =Matchlista!G79 -> Oskarshamns AIK 3
A58: =Matchlista!A88 -> 83 | B58: =Matchlista!B88 -> 0.54861111 | C58: =Matchlista!C88 -> 0.5625 | D58: =Matchlista!E88 -> Flickor 2017 | E58: =Matchlista!F88 -> Hultsfred FK | F58: =Matchlista!G88 -> IFK Västervik 2
A59: =Matchlista!A107 -> 103 | B59: =Matchlista!B107 -> 0.56597222 | C59: =Matchlista!C107 -> 0.57986111 | D59: =Matchlista!E107 -> Flickor 2019 | E59: =Matchlista!F107 -> IF Eksjö Fotboll | F59: =Matchlista!G107 -> Hultsfreds FK
A60: =Matchlista!A104 -> 100 | B60: =Matchlista!B104 -> 0.58333333 | C60: =Matchlista!C104 -> 0.59722222 | D60: =Matchlista!E104 -> Flickor 2017 | E60: =Matchlista!F104 -> Tjust IF | F60: =Matchlista!G104 -> Hultsfred FK
A61: =Matchlista!A118 -> 115 | B61: =Matchlista!B118 -> 0.63541667 | C61: =Matchlista!C118 -> 0.64930556 | D61: =Matchlista!E118 -> Flickor 2017 | E61: =Matchlista!F118 -> Tjust IF | F61: =Matchlista!G118 -> IFK Västervik
A63: Jojjen · 5-manna
A64: =Matchlista!A10 -> 5 | B64: =Matchlista!B10 -> 0.375 | C64: =Matchlista!C10 -> 0.38888889 | D64: =Matchlista!E10 -> Pojkar 2018 | E64: =Matchlista!F10 -> Fårbo FF 2 | F64: =Matchlista!G10 -> IFK Västervik 3
A65: =Matchlista!A16 -> 11 | B65: =Matchlista!B16 -> 0.40972222 | C65: =Matchlista!C16 -> 0.42361111 | D65: =Matchlista!E16 -> Pojkar 2018 | E65: =Matchlista!F16 -> IFK Västervik 3 | F65: =Matchlista!G16 -> Mönsterås GOIF 1
A66: =Matchlista!A32 -> 27 | B66: =Matchlista!B32 -> 0.44444444 | C66: =Matchlista!C32 -> 0.45833333 | D66: =Matchlista!E32 -> Pojkar 2018 | E66: =Matchlista!F32 -> Vimmerby IF 2 | F66: =Matchlista!G32 -> IFK Västervik 3
A67: =Matchlista!A42 -> 37 | B67: =Matchlista!B42 -> 0.46180556 | C67: =Matchlista!C42 -> 0.47569444 | D67: =Matchlista!E42 -> Pojkar 2018 | E67: =Matchlista!F42 -> Mönsterås GOIF 1 | F67: =Matchlista!G42 -> Oskarshamns AIK 2
A68: =Matchlista!A52 -> 47 | B68: =Matchlista!B52 -> 0.47916667 | C68: =Matchlista!C52 -> 0.49305556 | D68: =Matchlista!E52 -> Flickor 2017 | E68: =Matchlista!F52 -> Rödsle BK9 3 | F68: =Matchlista!G52 -> Tyresö Strand FC
A69: =Matchlista!A61 -> 56 | B69: =Matchlista!B61 -> 0.49652778 | C69: =Matchlista!C61 -> 0.51041667 | D69: =Matchlista!E61 -> Pojkar 2018 | E69: =Matchlista!F61 -> Fårbo FF 1 | F69: =Matchlista!G61 -> Ankarsrums IS
A70: =Matchlista!A71 -> 66 | B70: =Matchlista!B71 -> 0.51388889 | C70: =Matchlista!C71 -> 0.52777778 | D70: =Matchlista!E71 -> Pojkar 2018 | E70: =Matchlista!F71 -> Fårbo FF 2 | F70: =Matchlista!G71 -> Mönsterås GOIF 1
A71: =Matchlista!A80 -> 75 | B71: =Matchlista!B80 -> 0.53125 | C71: =Matchlista!C80 -> 0.54513889 | D71: =Matchlista!E80 -> Pojkar 2018 | E71: =Matchlista!F80 -> Mönsterås GOIF 2 | F71: =Matchlista!G80 -> IFK Västervik 1
A72: =Matchlista!A89 -> 84 | B72: =Matchlista!B89 -> 0.54861111 | C72: =Matchlista!C89 -> 0.5625 | D72: =Matchlista!E89 -> Flickor 2017 | E72: =Matchlista!F89 -> Västerviks FF | F72: =Matchlista!G89 -> Tyresö strand FC
A73: =Matchlista!A98 -> 93 | B73: =Matchlista!B98 -> 0.56597222 | C73: =Matchlista!C98 -> 0.57986111 | D73: =Matchlista!E98 -> Pojkar 2019 | E73: =Matchlista!F98 -> IFK Västervik 1 | F73: =Matchlista!G98 -> Söderköpings IK 1
A74: =Matchlista!A105 -> 101 | B74: =Matchlista!B105 -> 0.58333333 | C74: =Matchlista!C105 -> 0.59722222 | D74: =Matchlista!E105 -> Flickor 2017 | E74: =Matchlista!F105 -> IFK Västervik 2 | F74: =Matchlista!G105 -> Rödsle Bk9 3
A75: =Matchlista!A116 -> 113 | B75: =Matchlista!B116 -> 0.61805556 | C75: =Matchlista!C116 -> 0.63194444 | D75: =Matchlista!E116 -> Flickor 2017 | E75: =Matchlista!F116 -> Västerviks FF | F75: =Matchlista!G116 -> Rödsle Bk9 3
A77: Intersport · 5-manna
A78: =Matchlista!A17 -> 12 | B78: =Matchlista!B17 -> 0.40972222 | C78: =Matchlista!C17 -> 0.42361111 | D78: =Matchlista!E17 -> Pojkar 2018 | E78: =Matchlista!F17 -> Vimmerby IF 1 | F78: =Matchlista!G17 -> Oskarshamns AIK 1
A79: =Matchlista!A25 -> 20 | B79: =Matchlista!B25 -> 0.42708333 | C79: =Matchlista!C25 -> 0.44097222 | D79: =Matchlista!E25 -> Pojkar 2018 | E79: =Matchlista!F25 -> Oskarshamns AIK 2 | F79: =Matchlista!G25 -> Fårbo FF 2
A80: =Matchlista!A33 -> 28 | B80: =Matchlista!B33 -> 0.44444444 | C80: =Matchlista!C33 -> 0.45833333 | D80: =Matchlista!E33 -> Pojkar 2018 | E80: =Matchlista!F33 -> IFK Västervik 1 | F80: =Matchlista!G33 -> Gunnebo IF
A81: =Matchlista!A43 -> 38 | B81: =Matchlista!B43 -> 0.46180556 | C81: =Matchlista!C43 -> 0.47569444 | D81: =Matchlista!E43 -> Pojkar 2019 | E81: =Matchlista!F43 -> IFK Västervik 1 | F81: =Matchlista!G43 -> Söderköpings IK 2
A82: =Matchlista!A53 -> 48 | B82: =Matchlista!B53 -> 0.47916667 | C82: =Matchlista!C53 -> 0.49305556 | D82: =Matchlista!E53 -> Pojkar 2018 | E82: =Matchlista!F53 -> Vimmerby IF 2 | F82: =Matchlista!G53 -> Fårbo FF 2
A83: =Matchlista!A62 -> 57 | B83: =Matchlista!B62 -> 0.49652778 | C83: =Matchlista!C62 -> 0.51041667 | D83: =Matchlista!E62 -> Flickor 2019 | E83: =Matchlista!F62 -> Hultsfreds FK | F83: =Matchlista!G62 -> Vimmerby IF
A84: =Matchlista!A72 -> 67 | B84: =Matchlista!B72 -> 0.51388889 | C84: =Matchlista!C72 -> 0.52777778 | D84: =Matchlista!E72 -> Flickor 2017 | E84: =Matchlista!F72 -> IFK Västervik | F84: =Matchlista!G72 -> Västerviks FF
A85: =Matchlista!A81 -> 76 | B85: =Matchlista!B81 -> 0.53125 | C85: =Matchlista!C81 -> 0.54513889 | D85: =Matchlista!E81 -> Pojkar 2019 | E85: =Matchlista!F81 -> Oskarshamns AIk 2 | F85: =Matchlista!G81 -> IFK Västervik 1
A86: =Matchlista!A90 -> 85 | B86: =Matchlista!B90 -> 0.54861111 | C86: =Matchlista!C90 -> 0.5625 | D86: =Matchlista!E90 -> Flickor 2017 | E86: =Matchlista!F90 -> Tjust IF | F86: =Matchlista!G90 -> Rödsle Bk9 3
A87: =Matchlista!A99 -> 94 | B87: =Matchlista!B99 -> 0.56597222 | C87: =Matchlista!C99 -> 0.57986111 | D87: =Matchlista!E99 -> Pojkar 2019 | E87: =Matchlista!F99 -> Söderköpings IK 2 | F87: =Matchlista!G99 -> Oskarshamns AIk 2
A88: =Matchlista!A106 -> 102 | B88: =Matchlista!B106 -> 0.58333333 | C88: =Matchlista!C106 -> 0.59722222 | D88: =Matchlista!E106 -> Flickor 2019 | E88: =Matchlista!F106 -> Vimmerby IF | F88: =Matchlista!G106 -> IFK Västervik
A89: =Matchlista!A119 -> 116 | B89: =Matchlista!B119 -> 0.63541667 | C89: =Matchlista!C119 -> 0.64930556 | D89: =Matchlista!E119 -> Flickor 2017 | E89: =Matchlista!F119 -> IFK Västervik 2 | F89: =Matchlista!G119 -> Rödsle Bk9 1
A91: Sparbanken Spira · 5-manna
A92: =Matchlista!A18 -> 13 | B92: =Matchlista!B18 -> 0.40972222 | C92: =Matchlista!C18 -> 0.42361111 | D92: =Matchlista!E18 -> Pojkar 2018 | E92: =Matchlista!F18 -> Mönsterås GOIF 2 | F92: =Matchlista!G18 -> Oskarshamns AIK 3
A93: =Matchlista!A26 -> 21 | B93: =Matchlista!B26 -> 0.42708333 | C93: =Matchlista!C26 -> 0.44097222 | D93: =Matchlista!E26 -> Flickor 2019 | E93: =Matchlista!F26 -> IFK Västervik | F93: =Matchlista!G26 -> IF Eksjö Fotboll
A94: =Matchlista!A34 -> 29 | B94: =Matchlista!B34 -> 0.44444444 | C94: =Matchlista!C34 -> 0.45833333 | D94: =Matchlista!E34 -> Flickor 2018 | E94: =Matchlista!F34 -> Västerviks FF 1 | F94: =Matchlista!G34 -> Tjust IF
A95: =Matchlista!A44 -> 39 | B95: =Matchlista!B44 -> 0.46180556 | C95: =Matchlista!C44 -> 0.47569444 | D95: =Matchlista!E44 -> Flickor 2018 | E95: =Matchlista!F44 -> IFK Västervik | F95: =Matchlista!G44 -> Vimmerby IF 1
A96: =Matchlista!A54 -> 49 | B96: =Matchlista!B54 -> 0.47916667 | C96: =Matchlista!C54 -> 0.49305556 | D96: =Matchlista!E54 -> Pojkar 2018 | E96: =Matchlista!F54 -> IFK Västervik 1 | F96: =Matchlista!G54 -> Oskarshamns AIK 3
A97: =Matchlista!A63 -> 58 | B97: =Matchlista!B63 -> 0.49652778 | C97: =Matchlista!C63 -> 0.51041667 | D97: =Matchlista!E63 -> Flickor 2018 | E97: =Matchlista!F63 -> Vimmerby IF 1 | F97: =Matchlista!G63 -> Västerviks FF 2
A98: =Matchlista!A73 -> 68 | B98: =Matchlista!B73 -> 0.51388889 | C98: =Matchlista!C73 -> 0.52777778 | D98: =Matchlista!E73 -> Pojkar 2018 | E98: =Matchlista!F73 -> Oskarshamns AIK 1 | F98: =Matchlista!G73 -> Västerviks FF 2
A99: =Matchlista!A82 -> 77 | B99: =Matchlista!B82 -> 0.53125 | C99: =Matchlista!C82 -> 0.54513889 | D99: =Matchlista!E82 -> Flickor 2019 | E99: =Matchlista!F82 -> Hultsfreds FK | F99: =Matchlista!G82 -> IFK Västervik
A100: =Matchlista!A91 -> 86 | B100: =Matchlista!B91 -> 0.54861111 | C100: =Matchlista!C91 -> 0.5625 | D100: =Matchlista!E91 -> Pojkar 2019 | E100: =Matchlista!F91 -> Rimforsa IF | F100: =Matchlista!G91 -> IFK Västervik 3
A101: =Matchlista!A100 -> 95 | B101: =Matchlista!B100 -> 0.56597222 | C101: =Matchlista!C100 -> 0.57986111 | D101: =Matchlista!E100 -> Pojkar 2019 | E101: =Matchlista!F100 -> Oskarshamns AIk 1 | F101: =Matchlista!G100 -> IFK Västervik 2
A102: =Matchlista!A113 -> 110 | B102: =Matchlista!B113 -> 0.60069444 | C102: =Matchlista!C113 -> 0.61458333 | D102: =Matchlista!E113 -> Pojkar 2019 | E102: =Matchlista!F113 -> Söderköpings IK 2 | F102: =Matchlista!G113 -> Oskarshamns AIk 1
A104: Yta · 5-manna
A105: =Matchlista!A11 -> 6 | B105: =Matchlista!B11 -> 0.375 | C105: =Matchlista!C11 -> 0.38888889 | D105: =Matchlista!E11 -> Pojkar 2018 | E105: =Matchlista!F11 -> Gunnebo IF | F105: =Matchlista!G11 -> Mönsterås GOIF 2
A106: =Matchlista!A12 -> 7 | B106: =Matchlista!B12 -> 0.39236111 | C106: =Matchlista!C12 -> 0.40625 | D106: =Matchlista!E12 -> Pojkar 2018 | E106: =Matchlista!F12 -> Oskarshamns AIK 2 | F106: =Matchlista!G12 -> Vimmerby IF 2
A107: =Matchlista!A19 -> 14 | B107: =Matchlista!B19 -> 0.40972222 | C107: =Matchlista!C19 -> 0.42361111 | D107: =Matchlista!E19 -> Pojkar 2018 | E107: =Matchlista!F19 -> Gunnebo IF | F107: =Matchlista!G19 -> IFK Västervik 4
A108: =Matchlista!A27 -> 22 | B108: =Matchlista!B27 -> 0.42708333 | C108: =Matchlista!C27 -> 0.44097222 | D108: =Matchlista!E27 -> Flickor 2018 | E108: =Matchlista!F27 -> Vimmerby IF 2 | F108: =Matchlista!G27 -> IFK Västervik
...

Sheet P17
A1: P17 · Pojkar 2017
A3: 12 september 2026 · 7-manna · Tid avser avspark–slutsignal
A5: Pojkar 2017
A6: IFK Västervik 1
A7: Match | B7: Tid | C7: Plan
A8: =Matchlista!G48&" – "&Matchlista!F48 -> IFK Västervik 1 – Oskarshamns AIK Gul | B8: =TEXT(HOUR(Matchlista!B48),"00")&":"&TEXT(MINUTE(Matchlista!B48),"00")&"–"&TEXT(HOUR(Matchlista!C48),"00")&":"&TEXT(MINUTE(Matchlista!C48),"00") -> 11:15–11:35 | C8: =Matchlista!D48 -> Västerviks Måleri
A9: =Matchlista!F75&" – "&Matchlista!G75 -> IFK Västervik 1 – VästerviksFF 2 | B9: =TEXT(HOUR(Matchlista!B75),"00")&":"&TEXT(MINUTE(Matchlista!B75),"00")&"–"&TEXT(HOUR(Matchlista!C75),"00")&":"&TEXT(MINUTE(Matchlista!C75),"00") -> 12:30–12:50 | C9: =Matchlista!D75 -> Västerviks Måleri
A10: =Matchlista!G95&" – "&Matchlista!F95 -> IFK Västervik 1 – Oskarshamns AIK Svart | B10: =TEXT(HOUR(Matchlista!B95),"00")&":"&TEXT(MINUTE(Matchlista!B95),"00")&"–"&TEXT(HOUR(Matchlista!C95),"00")&":"&TEXT(MINUTE(Matchlista!C95),"00") -> 13:20–13:40 | C10: =Matchlista!D95 -> Västerviks Måleri
A11: =Matchlista!F109&" – "&Matchlista!G109 -> IFK Västervik 1 – Vimmerby if | B11: =TEXT(HOUR(Matchlista!B109),"00")&":"&TEXT(MINUTE(Matchlista!B109),"00")&"–"&TEXT(HOUR(Matchlista!C109),"00")&":"&TEXT(MINUTE(Matchlista!C109),"00") -> 14:10–14:30 | C11: =Matchlista!D109 -> Västerviks Måleri
A13: Pojkar 2017
A14: IFK Västervik 2
A15: Match | B15: Tid | C15: Plan
A16: =Matchlista!F38&" – "&Matchlista!G38 -> IFK Västervik 2 – VästerviksFF 1 | B16: =TEXT(HOUR(Matchlista!B38),"00")&":"&TEXT(MINUTE(Matchlista!B38),"00")&"–"&TEXT(HOUR(Matchlista!C38),"00")&":"&TEXT(MINUTE(Matchlista!C38),"00") -> 10:50–11:10 | C16: =Matchlista!D38 -> Västerviks Måleri
A17: =Matchlista!G56&" – "&Matchlista!F56 -> IFK Västervik 2 – Oskarshamns AIK Vit | B17: =TEXT(HOUR(Matchlista!B56),"00")&":"&TEXT(MINUTE(Matchlista!B56),"00")&"–"&TEXT(HOUR(Matchlista!C56),"00")&":"&TEXT(MINUTE(Matchlista!C56),"00") -> 11:40–12:00 | C17: =Matchlista!D56 -> Västerviks Måleri
A18: =Matchlista!F94&" – "&Matchlista!G94 -> IFK Västervik 2 – VästerviksFF 2 | B18: =TEXT(HOUR(Matchlista!B94),"00")&":"&TEXT(MINUTE(Matchlista!B94),"00")&"–"&TEXT(HOUR(Matchlista!C94),"00")&":"&TEXT(MINUTE(Matchlista!C94),"00") -> 13:20–13:40 | C18: =Matchlista!D94 -> Viktskivan
A19: =Matchlista!G108&" – "&Matchlista!F108 -> IFK Västervik 2 – Oskarshamns AIK Svart | B19: =TEXT(HOUR(Matchlista!B108),"00")&":"&TEXT(MINUTE(Matchlista!B108),"00")&"–"&TEXT(HOUR(Matchlista!C108),"00")&":"&TEXT(MINUTE(Matchlista!C108),"00") -> 14:10–14:30 | C19: =Matchlista!D108 -> Viktskivan
A21: Pojkar 2017
A22: Oskarshamns AIK Gul
A23: Match | B23: Tid | C23: Plan
A24: =Matchlista!F48&" – "&Matchlista!G48 -> Oskarshamns AIK Gul – IFK Västervik 1 | B24: =TEXT(HOUR(Matchlista!B48),"00")&":"&TEXT(MINUTE(Matchlista!B48),"00")&"–"&TEXT(HOUR(Matchlista!C48),"00")&":"&TEXT(MINUTE(Matchlista!C48),"00") -> 11:15–11:35 | C24: =Matchlista!D48 -> Västerviks Måleri
A25: =Matchlista!G66&" – "&Matchlista!F66 -> Oskarshamns AIK Gul – Vimmerby if | B25: =TEXT(HOUR(Matchlista!B66),"00")&":"&TEXT(MINUTE(Matchlista!B66),"00")&"–"&TEXT(HOUR(Matchlista!C66),"00")&":"&TEXT(MINUTE(Matchlista!C66),"00") -> 12:05–12:25 | C25: =Matchlista!D66 -> Västerviks Måleri
A26: =Matchlista!F84&" – "&Matchlista!G84 -> Oskarshamns AIK Gul – Oskarshamns AIK Vit | B26: =TEXT(HOUR(Matchlista!B84),"00")&":"&TEXT(MINUTE(Matchlista!B84),"00")&"–"&TEXT(HOUR(Matchlista!C84),"00")&":"&TEXT(MINUTE(Matchlista!C84),"00") -> 12:55–13:15 | C26: =Matchlista!D84 -> Viktskivan
A27: =Matchlista!G114&" – "&Matchlista!F114 -> Oskarshamns AIK Gul – VästerviksFF 2 | B27: =TEXT(HOUR(Matchlista!B114),"00")&":"&TEXT(MINUTE(Matchlista!B114),"00")&"–"&TEXT(HOUR(Matchlista!C114),"00")&":"&TEXT(MINUTE(Matchlista!C114),"00") -> 14:35–14:55 | C27: =Matchlista!D114 -> Västerviks Måleri
A29: Pojkar 2017
A30: Oskarshamns AIK Svart
A31: Match | B31: Tid | C31: Plan
A32: =Matchlista!G47&" – "&Matchlista!F47 -> Oskarshamns AIK Svart – Vimmerby if | B32: =TEXT(HOUR(Matchlista!B47),"00")&":"&TEXT(MINUTE(Matchlista!B47),"00")&"–"&TEXT(HOUR(Matchlista!C47),"00")&":"&TEXT(MINUTE(Matchlista!C47),"00") -> 11:15–11:35 | C32: =Matchlista!D47 -> Viktskivan
A33: =Matchlista!G65&" – "&Matchlista!F65 -> Oskarshamns AIK Svart – VästerviksFF 1 | B33: =TEXT(HOUR(Matchlista!B65),"00")&":"&TEXT(MINUTE(Matchlista!B65),"00")&"–"&TEXT(HOUR(Matchlista!C65),"00")&":"&TEXT(MINUTE(Matchlista!C65),"00") -> 12:05–12:25 | C33: =Matchlista!D65 -> Viktskivan
A34: =Matchlista!F95&" – "&Matchlista!G95 -> Oskarshamns AIK Svart – IFK Västervik 1 | B34: =TEXT(HOUR(Matchlista!B95),"00")&":"&TEXT(MINUTE(Matchlista!B95),"00")&"–"&TEXT(HOUR(Matchlista!C95),"00")&":"&TEXT(MINUTE(Matchlista!C95),"00") -> 13:20–13:40 | C34: =Matchlista!D95 -> Västerviks Måleri
A35: =Matchlista!F108&" – "&Matchlista!G108 -> Oskarshamns AIK Svart – IFK Västervik 2 | B35: =TEXT(HOUR(Matchlista!B108),"00")&":"&TEXT(MINUTE(Matchlista!B108),"00")&"–"&TEXT(HOUR(Matchlista!C108),"00")&":"&TEXT(MINUTE(Matchlista!C108),"00") -> 14:10–14:30 | C35: =Matchlista!D108 -> Viktskivan
A37: Pojkar 2017
A38: Oskarshamns AIK Vit
A39: Match | B39: Tid | C39: Plan
A40: =Matchlista!F21&" – "&Matchlista!G21 -> Oskarshamns AIK Vit – VästerviksFF 1 | B40: =TEXT(HOUR(Matchlista!B21),"00")&":"&TEXT(MINUTE(Matchlista!B21),"00")&"–"&TEXT(HOUR(Matchlista!C21),"00")&":"&TEXT(MINUTE(Matchlista!C21),"00") -> 10:00–10:20 | C40: =Matchlista!D21 -> Västerviks Måleri
A41: =Matchlista!G37&" – "&Matchlista!F37 -> Oskarshamns AIK Vit – VästerviksFF 2 | B41: =TEXT(HOUR(Matchlista!B37),"00")&":"&TEXT(MINUTE(Matchlista!B37),"00")&"–"&TEXT(HOUR(Matchlista!C37),"00")&":"&TEXT(MINUTE(Matchlista!C37),"00") -> 10:50–11:10 | C41: =Matchlista!D37 -> Viktskivan
A42: =Matchlista!F56&" – "&Matchlista!G56 -> Oskarshamns AIK Vit – IFK Västervik 2 | B42: =TEXT(HOUR(Matchlista!B56),"00")&":"&TEXT(MINUTE(Matchlista!B56),"00")&"–"&TEXT(HOUR(Matchlista!C56),"00")&":"&TEXT(MINUTE(Matchlista!C56),"00") -> 11:40–12:00 | C42: =Matchlista!D56 -> Västerviks Måleri
A43: =Matchlista!G84&" – "&Matchlista!F84 -> Oskarshamns AIK Vit – Oskarshamns AIK Gul | B43: =TEXT(HOUR(Matchlista!B84),"00")&":"&TEXT(MINUTE(Matchlista!B84),"00")&"–"&TEXT(HOUR(Matchlista!C84),"00")&":"&TEXT(MINUTE(Matchlista!C84),"00") -> 12:55–13:15 | C43: =Matchlista!D84 -> Viktskivan
A45: Pojkar 2017
A46: Vimmerby if
A47: Match | B47: Tid | C47: Plan
A48: =Matchlista!F47&" – "&Matchlista!G47 -> Vimmerby if – Oskarshamns AIK Svart | B48: =TEXT(HOUR(Matchlista!B47),"00")&":"&TEXT(MINUTE(Matchlista!B47),"00")&"–"&TEXT(HOUR(Matchlista!C47),"00")&":"&TEXT(MINUTE(Matchlista!C47),"00") -> 11:15–11:35 | C48: =Matchlista!D47 -> Viktskivan
A49: =Matchlista!F66&" – "&Matchlista!G66 -> Vimmerby if – Oskarshamns AIK Gul | B49: =TEXT(HOUR(Matchlista!B66),"00")&":"&TEXT(MINUTE(Matchlista!B66),"00")&"–"&TEXT(HOUR(Matchlista!C66),"00")&":"&TEXT(MINUTE(Matchlista!C66),"00") -> 12:05–12:25 | C49: =Matchlista!D66 -> Västerviks Måleri
A50: =Matchlista!G85&" – "&Matchlista!F85 -> Vimmerby if – VästerviksFF 1 | B50: =TEXT(HOUR(Matchlista!B85),"00")&":"&TEXT(MINUTE(Matchlista!B85),"00")&"–"&TEXT(HOUR(Matchlista!C85),"00")&":"&TEXT(MINUTE(Matchlista!C85),"00") -> 12:55–13:15 | C50: =Matchlista!D85 -> Västerviks Måleri
A51: =Matchlista!G109&" – "&Matchlista!F109 -> Vimmerby if – IFK Västervik 1 | B51: =TEXT(HOUR(Matchlista!B109),"00")&":"&TEXT(MINUTE(Matchlista!B109),"00")&"–"&TEXT(HOUR(Matchlista!C109),"00")&":"&TEXT(MINUTE(Matchlista!C109),"00") -> 14:10–14:30 | C51: =Matchlista!D109 -> Västerviks Måleri
A53: Pojkar 2017
A54: VästerviksFF 1
A55: Match | B55: Tid | C55: Plan
A56: =Matchlista!G21&" – "&Matchlista!F21 -> VästerviksFF 1 – Oskarshamns AIK Vit | B56: =TEXT(HOUR(Matchlista!B21),"00")&":"&TEXT(MINUTE(Matchlista!B21),"00")&"–"&TEXT(HOUR(Matchlista!C21),"00")&":"&TEXT(MINUTE(Matchlista!C21),"00") -> 10:00–10:20 | C56: =Matchlista!D21 -> Västerviks Måleri
A57: =Matchlista!G38&" – "&Matchlista!F38 -> VästerviksFF 1 – IFK Västervik 2 | B57: =TEXT(HOUR(Matchlista!B38),"00")&":"&TEXT(MINUTE(Matchlista!B38),"00")&"–"&TEXT(HOUR(Matchlista!C38),"00")&":"&TEXT(MINUTE(Matchlista!C38),"00") -> 10:50–11:10 | C57: =Matchlista!D38 -> Västerviks Måleri
A58: =Matchlista!F65&" – "&Matchlista!G65 -> VästerviksFF 1 – Oskarshamns AIK Svart | B58: =TEXT(HOUR(Matchlista!B65),"00")&":"&TEXT(MINUTE(Matchlista!B65),"00")&"–"&TEXT(HOUR(Matchlista!C65),"00")&":"&TEXT(MINUTE(Matchlista!C65),"00") -> 12:05–12:25 | C58: =Matchlista!D65 -> Viktskivan
A59: =Matchlista!F85&" – "&Matchlista!G85 -> VästerviksFF 1 – Vimmerby if | B59: =TEXT(HOUR(Matchlista!B85),"00")&":"&TEXT(MINUTE(Matchlista!B85),"00")&"–"&TEXT(HOUR(Matchlista!C85),"00")&":"&TEXT(MINUTE(Matchlista!C85),"00") -> 12:55–13:15 | C59: =Matchlista!D85 -> Västerviks Måleri
A61: Pojkar 2017
A62: VästerviksFF 2
A63: Match | B63: Tid | C63: Plan
A64: =Matchlista!F37&" – "&Matchlista!G37 -> VästerviksFF 2 – Oskarshamns AIK Vit | B64: =TEXT(HOUR(Matchlista!B37),"00")&":"&TEXT(MINUTE(Matchlista!B37),"00")&"–"&TEXT(HOUR(Matchlista!C37),"00")&":"&TEXT(MINUTE(Matchlista!C37),"00") -> 10:50–11:10 | C64: =Matchlista!D37 -> Viktskivan
A65: =Matchlista!G75&" – "&Matchlista!F75 -> VästerviksFF 2 – IFK Västervik 1 | B65: =TEXT(HOUR(Matchlista!B75),"00")&":"&TEXT(MINUTE(Matchlista!B75),"00")&"–"&TEXT(HOUR(Matchlista!C75),"00")&":"&TEXT(MINUTE(Matchlista!C75),"00") -> 12:30–12:50 | C65: =Matchlista!D75 -> Västerviks Måleri
A66: =Matchlista!G94&" – "&Matchlista!F94 -> VästerviksFF 2 – IFK Västervik 2 | B66: =TEXT(HOUR(Matchlista!B94),"00")&":"&TEXT(MINUTE(Matchlista!B94),"00")&"–"&TEXT(HOUR(Matchlista!C94),"00")&":"&TEXT(MINUTE(Matchlista!C94),"00") -> 13:20–13:40 | C66: =Matchlista!D94 -> Viktskivan
A67: =Matchlista!F114&" – "&Matchlista!G114 -> VästerviksFF 2 – Oskarshamns AIK Gul | B67: =TEXT(HOUR(Matchlista!B114),"00")&":"&TEXT(MINUTE(Matchlista!B114),"00")&"–"&TEXT(HOUR(Matchlista!C114),"00")&":"&TEXT(MINUTE(Matchlista!C114),"00") -> 14:35–14:55 | C67: =Matchlista!D114 -> Västerviks Måleri

Sheet F17
A1: F17 · Flickor 2017
A3: 12 september 2026 · 5-manna · Tid avser avspark–slutsignal
A5: Flickor 2017
A6: Hultsfred FK
A7: Match | B7: Tid | C7: Plan
A8: =Matchlista!F51&" – "&Matchlista!G51 -> Hultsfred FK – Västerviks FF | B8: =TEXT(HOUR(Matchlista!B51),"00")&":"&TEXT(MINUTE(Matchlista!B51),"00")&"–"&TEXT(HOUR(Matchlista!C51),"00")&":"&TEXT(MINUTE(Matchlista!C51),"00") -> 11:30–11:50 | C8: =Matchlista!D51 -> Jeansbolaget
A9: =Matchlista!F88&" – "&Matchlista!G88 -> Hultsfred FK – IFK Västervik 2 | B9: =TEXT(HOUR(Matchlista!B88),"00")&":"&TEXT(MINUTE(Matchlista!B88),"00")&"–"&TEXT(HOUR(Matchlista!C88),"00")&":"&TEXT(MINUTE(Matchlista!C88),"00") -> 13:10–13:30 | C9: =Matchlista!D88 -> Jeansbolaget
A10: =Matchlista!G104&" – "&Matchlista!F104 -> Hultsfred FK – Tjust IF | B10: =TEXT(HOUR(Matchlista!B104),"00")&":"&TEXT(MINUTE(Matchlista!B104),"00")&"–"&TEXT(HOUR(Matchlista!C104),"00")&":"&TEXT(MINUTE(Matchlista!C104),"00") -> 14:00–14:20 | C10: =Matchlista!D104 -> Jeansbolaget
A11: =Matchlista!G115&" – "&Matchlista!F115 -> Hultsfred FK – Rödsle Bk9 2 | B11: =TEXT(HOUR(Matchlista!B115),"00")&":"&TEXT(MINUTE(Matchlista!B115),"00")&"–"&TEXT(HOUR(Matchlista!C115),"00")&":"&TEXT(MINUTE(Matchlista!C115),"00") -> 14:50–15:10 | C11: =Matchlista!D115 -> Bilteknik
A13: Flickor 2017
A14: IFK Västervik
A15: Match | B15: Tid | C15: Plan
A16: =Matchlista!F72&" – "&Matchlista!G72 -> IFK Västervik – Västerviks FF | B16: =TEXT(HOUR(Matchlista!B72),"00")&":"&TEXT(MINUTE(Matchlista!B72),"00")&"–"&TEXT(HOUR(Matchlista!C72),"00")&":"&TEXT(MINUTE(Matchlista!C72),"00") -> 12:20–12:40 | C16: =Matchlista!D72 -> Intersport
A17: =Matchlista!F96&" – "&Matchlista!G96 -> IFK Västervik – Rödsle Bk9 2 | B17: =TEXT(HOUR(Matchlista!B96),"00")&":"&TEXT(MINUTE(Matchlista!B96),"00")&"–"&TEXT(HOUR(Matchlista!C96),"00")&":"&TEXT(MINUTE(Matchlista!C96),"00") -> 13:35–13:55 | C17: =Matchlista!D96 -> Bilteknik
A18: =Matchlista!G111&" – "&Matchlista!F111 -> IFK Västervik – Rödsle Bk9 1 | B18: =TEXT(HOUR(Matchlista!B111),"00")&":"&TEXT(MINUTE(Matchlista!B111),"00")&"–"&TEXT(HOUR(Matchlista!C111),"00")&":"&TEXT(MINUTE(Matchlista!C111),"00") -> 14:25–14:45 | C18: =Matchlista!D111 -> Bilteknik
A19: =Matchlista!G118&" – "&Matchlista!F118 -> IFK Västervik – Tjust IF | B19: =TEXT(HOUR(Matchlista!B118),"00")&":"&TEXT(MINUTE(Matchlista!B118),"00")&"–"&TEXT(HOUR(Matchlista!C118),"00")&":"&TEXT(MINUTE(Matchlista!C118),"00") -> 15:15–15:35 | C19: =Matchlista!D118 -> Jeansbolaget
A21: Flickor 2017
A22: IFK Västervik 2
A23: Match | B23: Tid | C23: Plan
A24: =Matchlista!F49&" – "&Matchlista!G49 -> IFK Västervik 2 – Rosenfors IK | B24: =TEXT(HOUR(Matchlista!B49),"00")&":"&TEXT(MINUTE(Matchlista!B49),"00")&"–"&TEXT(HOUR(Matchlista!C49),"00")&":"&TEXT(MINUTE(Matchlista!C49),"00") -> 11:30–11:50 | C24: =Matchlista!D49 -> Bilteknik
A25: =Matchlista!G88&" – "&Matchlista!F88 -> IFK Västervik 2 – Hultsfred FK | B25: =TEXT(HOUR(Matchlista!B88),"00")&":"&TEXT(MINUTE(Matchlista!B88),"00")&"–"&TEXT(HOUR(Matchlista!C88),"00")&":"&TEXT(MINUTE(Matchlista!C88),"00") -> 13:10–13:30 | C25: =Matchlista!D88 -> Jeansbolaget
A26: =Matchlista!F105&" – "&Matchlista!G105 -> IFK Västervik 2 – Rödsle Bk9 3 | B26: =TEXT(HOUR(Matchlista!B105),"00")&":"&TEXT(MINUTE(Matchlista!B105),"00")&"–"&TEXT(HOUR(Matchlista!C105),"00")&":"&TEXT(MINUTE(Matchlista!C105),"00") -> 14:00–14:20 | C26: =Matchlista!D105 -> Jojjen
A27: =Matchlista!G119&" – "&Matchlista!F119 -> Rödsle Bk9 1 – IFK Västervik 2 | B27: =TEXT(HOUR(Matchlista!B119),"00")&":"&TEXT(MINUTE(Matchlista!B119),"00")&"–"&TEXT(HOUR(Matchlista!C119),"00")&":"&TEXT(MINUTE(Matchlista!C119),"00") -> 15:15–15:35 | C27: =Matchlista!D119 -> Intersport
A29: Flickor 2017
A30: Rosenfors IK
A31: Match | B31: Tid | C31: Plan
A32: =Matchlista!G49&" – "&Matchlista!F49 -> Rosenfors IK – IFK Västervik 2 | B32: =TEXT(HOUR(Matchlista!B49),"00")&":"&TEXT(MINUTE(Matchlista!B49),"00")&"–"&TEXT(HOUR(Matchlista!C49),"00")&":"&TEXT(MINUTE(Matchlista!C49),"00") -> 11:30–11:50 | C32: =Matchlista!D49 -> Bilteknik
A33: =Matchlista!F77&" – "&Matchlista!G77 -> Rosenfors IK – Rödsle Bk9 2 | B33: =TEXT(HOUR(Matchlista!B77),"00")&":"&TEXT(MINUTE(Matchlista!B77),"00")&"–"&TEXT(HOUR(Matchlista!C77),"00")&":"&TEXT(MINUTE(Matchlista!C77),"00") -> 12:45–13:05 | C33: =Matchlista!D77 -> Bilteknik
A34: =Matchlista!G97&" – "&Matchlista!F97 -> Rosenfors IK – Rödsle Bk9 1 | B34: =TEXT(HOUR(Matchlista!B97),"00")&":"&TEXT(MINUTE(Matchlista!B97),"00")&"–"&TEXT(HOUR(Matchlista!C97),"00")&":"&TEXT(MINUTE(Matchlista!C97),"00") -> 13:35–13:55 | C34: =Matchlista!D97 -> Ica Maxi
A35: =Matchlista!F117&" – "&Matchlista!G117 -> Rosenfors IK – Tyresö Strand FC | B35: =TEXT(HOUR(Matchlista!B117),"00")&":"&TEXT(MINUTE(Matchlista!B117),"00")&"–"&TEXT(HOUR(Matchlista!C117),"00")&":"&TEXT(MINUTE(Matchlista!C117),"00") -> 14:50–15:10 | C35: =Matchlista!D117 -> Yta
A37: Flickor 2017
A38: Rödsle Bk9 1
A39: Match | B39: Tid | C39: Plan
A40: =Matchlista!G68&" – "&Matchlista!F68 -> Rödsle Bk9 1 – Tyresö strand FC | B40: =TEXT(HOUR(Matchlista!B68),"00")&":"&TEXT(MINUTE(Matchlista!B68),"00")&"–"&TEXT(HOUR(Matchlista!C68),"00")&":"&TEXT(MINUTE(Matchlista!C68),"00") -> 12:20–12:40 | C40: =Matchlista!D68 -> Bilteknik
A41: =Matchlista!F97&" – "&Matchlista!G97 -> Rödsle Bk9 1 – Rosenfors IK | B41: =TEXT(HOUR(Matchlista!B97),"00")&":"&TEXT(MINUTE(Matchlista!B97),"00")&"–"&TEXT(HOUR(Matchlista!C97),"00")&":"&TEXT(MINUTE(Matchlista!C97),"00") -> 13:35–13:55 | C41: =Matchlista!D97 -> Ica Maxi
A42: =Matchlista!F111&" – "&Matchlista!G111 -> Rödsle Bk9 1 – IFK Västervik | B42: =TEXT(HOUR(Matchlista!B111),"00")&":"&TEXT(MINUTE(Matchlista!B111),"00")&"–"&TEXT(HOUR(Matchlista!C111),"00")&":"&TEXT(MINUTE(Matchlista!C111),"00") -> 14:25–14:45 | C42: =Matchlista!D111 -> Bilteknik
A43: =Matchlista!G119&" – "&Matchlista!F119 -> Rödsle Bk9 1 – IFK Västervik 2 | B43: =TEXT(HOUR(Matchlista!B119),"00")&":"&TEXT(MINUTE(Matchlista!B119),"00")&"–"&TEXT(HOUR(Matchlista!C119),"00")&":"&TEXT(MINUTE(Matchlista!C119),"00") -> 15:15–15:35 | C43: =Matchlista!D119 -> Intersport
A45: Flickor 2017
A46: Rödsle Bk9 2
A47: Match | B47: Tid | C47: Plan
A48: =Matchlista!G58&" – "&Matchlista!F58 -> Rödsle Bk9 2 – Tjust IF | B48: =TEXT(HOUR(Matchlista!B58),"00")&":"&TEXT(MINUTE(Matchlista!B58),"00")&"–"&TEXT(HOUR(Matchlista!C58),"00")&":"&TEXT(MINUTE(Matchlista!C58),"00") -> 11:55–12:15 | C48: =Matchlista!D58 -> Bilteknik
A49: =Matchlista!G77&" – "&Matchlista!F77 -> Rödsle Bk9 2 – Rosenfors IK | B49: =TEXT(HOUR(Matchlista!B77),"00")&":"&TEXT(MINUTE(Matchlista!B77),"00")&"–"&TEXT(HOUR(Matchlista!C77),"00")&":"&TEXT(MINUTE(Matchlista!C77),"00") -> 12:45–13:05 | C49: =Matchlista!D77 -> Bilteknik
A50: Rödsle Bk9 2 – IFK Västervik | B50: 13:35–13:55 | C50: Bilteknik
A51: =Matchlista!F115&" – "&Matchlista!G115 -> Rödsle Bk9 2 – Hultsfred FK | B51: =TEXT(HOUR(Matchlista!B115),"00")&":"&TEXT(MINUTE(Matchlista!B115),"00")&"–"&TEXT(HOUR(Matchlista!C115),"00")&":"&TEXT(MINUTE(Matchlista!C115),"00") -> 14:50–15:10 | C51: =Matchlista!D115 -> Bilteknik
A53: Flickor 2017
A54: Rödsle Bk9 3
A55: Match | B55: Tid | C55: Plan
A56: =Matchlista!F52&" – "&Matchlista!G52 -> Rödsle BK9 3 – Tyresö Strand FC | B56: =TEXT(HOUR(Matchlista!B52),"00")&":"&TEXT(MINUTE(Matchlista!B52),"00")&"–"&TEXT(HOUR(Matchlista!C52),"00")&":"&TEXT(MINUTE(Matchlista!C52),"00") -> 11:30–11:50 | C56: =Matchlista!D52 -> Jojjen
A57: =Matchlista!G90&" – "&Matchlista!F90 -> Rödsle Bk9 3 – Tjust IF | B57: =TEXT(HOUR(Matchlista!B90),"00")&":"&TEXT(MINUTE(Matchlista!B90),"00")&"–"&TEXT(HOUR(Matchlista!C90),"00")&":"&TEXT(MINUTE(Matchlista!C90),"00") -> 13:10–13:30 | C57: =Matchlista!D90 -> Intersport
A58: =Matchlista!G105&" – "&Matchlista!F105 -> Rödsle Bk9 3 – IFK Västervik 2 | B58: =TEXT(HOUR(Matchlista!B105),"00")&":"&TEXT(MINUTE(Matchlista!B105),"00")&"–"&TEXT(HOUR(Matchlista!C105),"00")&":"&TEXT(MINUTE(Matchlista!C105),"00") -> 14:00–14:20 | C58: =Matchlista!D105 -> Jojjen
A59: =Matchlista!G116&" – "&Matchlista!F116 -> Rödsle Bk9 3 – Västerviks FF | B59: =TEXT(HOUR(Matchlista!B116),"00")&":"&TEXT(MINUTE(Matchlista!B116),"00")&"–"&TEXT(HOUR(Matchlista!C116),"00")&":"&TEXT(MINUTE(Matchlista!C116),"00") -> 14:50–15:10 | C59: =Matchlista!D116 -> Jojjen
A61: Flickor 2017
A62: Tjust IF
A63: Match | B63: Tid | C63: Plan
A64: =Matchlista!G58&" – "&Matchlista!F58 -> Rödsle Bk9 2 – Tjust IF | B64: =TEXT(HOUR(Matchlista!B58),"00")&":"&TEXT(MINUTE(Matchlista!B58),"00")&"–"&TEXT(HOUR(Matchlista!C58),"00")&":"&TEXT(MINUTE(Matchlista!C58),"00") -> 11:55–12:15 | C64: =Matchlista!D58 -> Bilteknik
A65: =Matchlista!F90&" – "&Matchlista!G90 -> Tjust IF – Rödsle Bk9 3 | B65: =TEXT(HOUR(Matchlista!B90),"00")&":"&TEXT(MINUTE(Matchlista!B90),"00")&"–"&TEXT(HOUR(Matchlista!C90),"00")&":"&TEXT(MINUTE(Matchlista!C90),"00") -> 13:10–13:30 | C65: =Matchlista!D90 -> Intersport
A66: =Matchlista!F104&" – "&Matchlista!G104 -> Tjust IF – Hultsfred FK | B66: =TEXT(HOUR(Matchlista!B104),"00")&":"&TEXT(MINUTE(Matchlista!B104),"00")&"–"&TEXT(HOUR(Matchlista!C104),"00")&":"&TEXT(MINUTE(Matchlista!C104),"00") -> 14:00–14:20 | C66: =Matchlista!D104 -> Jeansbolaget
A67: =Matchlista!F118&" – "&Matchlista!G118 -> Tjust IF – IFK Västervik | B67: =TEXT(HOUR(Matchlista!B118),"00")&":"&TEXT(MINUTE(Matchlista!B118),"00")&"–"&TEXT(HOUR(Matchlista!C118),"00")&":"&TEXT(MINUTE(Matchlista!C118),"00") -> 15:15–15:35 | C67: =Matchlista!D118 -> Jeansbolaget
A69: Flickor 2017
A70: Tyresö strand FC
A71: Match | B71: Tid | C71: Plan
A72: =Matchlista!F52&" – "&Matchlista!G52 -> Rödsle BK9 3 – Tyresö Strand FC | B72: =TEXT(HOUR(Matchlista!B52),"00")&":"&TEXT(MINUTE(Matchlista!B52),"00")&"–"&TEXT(HOUR(Matchlista!C52),"00")&":"&TEXT(MINUTE(Matchlista!C52),"00") -> 11:30–11:50 | C72: =Matchlista!D52 -> Jojjen
A73: =Matchlista!F68&" – "&Matchlista!G68 -> Tyresö strand FC – Rödsle Bk9 1 | B73: =TEXT(HOUR(Matchlista!B68),"00")&":"&TEXT(MINUTE(Matchlista!B68),"00")&"–"&TEXT(HOUR(Matchlista!C68),"00")&":"&TEXT(MINUTE(Matchlista!C68),"00") -> 12:20–12:40 | C73: =Matchlista!D68 -> Bilteknik
A74: =Matchlista!G89&" – "&Matchlista!F89 -> Tyresö strand FC – Västerviks FF | B74: =TEXT(HOUR(Matchlista!B89),"00")&":"&TEXT(MINUTE(Matchlista!B89),"00")&"–"&TEXT(HOUR(Matchlista!C89),"00")&":"&TEXT(MINUTE(Matchlista!C89),"00") -> 13:10–13:30 | C74: =Matchlista!D89 -> Jojjen
A75: Rosenfors IK – Tyresö Strand FC | B75: 14:50–15:10 | C75: Yta
A77: Flickor 2017
A78: Västerviks FF
A79: Match | B79: Tid | C79: Plan
A80: =Matchlista!G51&" – "&Matchlista!F51 -> Västerviks FF – Hultsfred FK | B80: =TEXT(HOUR(Matchlista!B51),"00")&":"&TEXT(MINUTE(Matchlista!B51),"00")&"–"&TEXT(HOUR(Matchlista!C51),"00")&":"&TEXT(MINUTE(Matchlista!C51),"00") -> 11:30–11:50 | C80: =Matchlista!D51 -> Jeansbolaget
A81: Västerviks FF – IFK Västervik | B81: 12:20–12:40 | C81: Intersport
A82: =Matchlista!F89&" – "&Matchlista!G89 -> Västerviks FF – Tyresö strand FC | B82: =TEXT(HOUR(Matchlista!B89),"00")&":"&TEXT(MINUTE(Matchlista!B89),"00")&"–"&TEXT(HOUR(Matchlista!C89),"00")&":"&TEXT(MINUTE(Matchlista!C89),"00") -> 13:10–13:30 | C82: =Matchlista!D89 -> Jojjen
A83: =Matchlista!F116&" – "&Matchlista!G116 -> Västerviks FF – Rödsle Bk9 3 | B83: =TEXT(HOUR(Matchlista!B116),"00")&":"&TEXT(MINUTE(Matchlista!B116),"00")&"–"&TEXT(HOUR(Matchlista!C116),"00")&":"&TEXT(MINUTE(Matchlista!C116),"00") -> 14:50–15:10 | C83: =Matchlista!D116 -> Jojjen

Sheet P18
A1: P18 · Pojkar 2018
A3: 12 september 2026 · 5-manna · Tid avser avspark–slutsignal
A5: Pojkar 2018
A6: Ankarsrums IS
A7: Match | B7: Tid | C7: Plan
A8: =Matchlista!G8&" – "&Matchlista!F8 -> Ankarsrums IS – Västerviks FF 2 | B8: =TEXT(HOUR(Matchlista!B8),"00")&":"&TEXT(MINUTE(Matchlista!B8),"00")&"–"&TEXT(HOUR(Matchlista!C8),"00")&":"&TEXT(MINUTE(Matchlista!C8),"00") -> 09:00–09:20 | C8: =Matchlista!D8 -> Ica Maxi
A9: =Matchlista!F13&" – "&Matchlista!G13 -> Ankarsrums IS – IFK Västervik 2 | B9: =TEXT(HOUR(Matchlista!B13),"00")&":"&TEXT(MINUTE(Matchlista!B13),"00")&"–"&TEXT(HOUR(Matchlista!C13),"00")&":"&TEXT(MINUTE(Matchlista!C13),"00") -> 09:50–10:10 | C9: =Matchlista!D13 -> Bilteknik
A10: =Matchlista!F29&" – "&Matchlista!G29 -> Ankarsrums IS – Oskarshamns AIK 1 | B10: =TEXT(HOUR(Matchlista!B29),"00")&":"&TEXT(MINUTE(Matchlista!B29),"00")&"–"&TEXT(HOUR(Matchlista!C29),"00")&":"&TEXT(MINUTE(Matchlista!C29),"00") -> 10:40–11:00 | C10: =Matchlista!D29 -> Bilteknik
A11: =Matchlista!G61&" – "&Matchlista!F61 -> Ankarsrums IS – Fårbo FF 1 | B11: =TEXT(HOUR(Matchlista!B61),"00")&":"&TEXT(MINUTE(Matchlista!B61),"00")&"–"&TEXT(HOUR(Matchlista!C61),"00")&":"&TEXT(MINUTE(Matchlista!C61),"00") -> 11:55–12:15 | C11: =Matchlista!D61 -> Jojjen
A13: Pojkar 2018
A14: Fårbo FF 1
A15: Match | B15: Tid | C15: Plan
A16: =Matchlista!F6&" – "&Matchlista!G6 -> Fårbo FF 1 – Vimmerby IF 1 | B16: =TEXT(HOUR(Matchlista!B6),"00")&":"&TEXT(MINUTE(Matchlista!B6),"00")&"–"&TEXT(HOUR(Matchlista!C6),"00")&":"&TEXT(MINUTE(Matchlista!C6),"00") -> 09:00–09:20 | C16: =Matchlista!D6 -> Ahlsell
A17: =Matchlista!G14&" – "&Matchlista!F14 -> Fårbo FF 1 – Västerviks FF 2 | B17: =TEXT(HOUR(Matchlista!B14),"00")&":"&TEXT(MINUTE(Matchlista!B14),"00")&"–"&TEXT(HOUR(Matchlista!C14),"00")&":"&TEXT(MINUTE(Matchlista!C14),"00") -> 09:50–10:10 | C17: =Matchlista!D14 -> Ica Maxi
A18: =Matchlista!F35&" – "&Matchlista!G35 -> Fårbo FF 1 – IFK Västervik 2 | B18: =TEXT(HOUR(Matchlista!B35),"00")&":"&TEXT(MINUTE(Matchlista!B35),"00")&"–"&TEXT(HOUR(Matchlista!C35),"00")&":"&TEXT(MINUTE(Matchlista!C35),"00") -> 10:40–11:00 | C18: =Matchlista!D35 -> Yta
A19: =Matchlista!F61&" – "&Matchlista!G61 -> Fårbo FF 1 – Ankarsrums IS | B19: =TEXT(HOUR(Matchlista!B61),"00")&":"&TEXT(MINUTE(Matchlista!B61),"00")&"–"&TEXT(HOUR(Matchlista!C61),"00")&":"&TEXT(MINUTE(Matchlista!C61),"00") -> 11:55–12:15 | C19: =Matchlista!D61 -> Jojjen
A21: Pojkar 2018
A22: Fårbo FF 2
A23: Match | B23: Tid | C23: Plan
A24: =Matchlista!F10&" – "&Matchlista!G10 -> Fårbo FF 2 – IFK Västervik 3 | B24: =TEXT(HOUR(Matchlista!B10),"00")&":"&TEXT(MINUTE(Matchlista!B10),"00")&"–"&TEXT(HOUR(Matchlista!C10),"00")&":"&TEXT(MINUTE(Matchlista!C10),"00") -> 09:00–09:20 | C24: =Matchlista!D10 -> Jojjen
A25: =Matchlista!G25&" – "&Matchlista!F25 -> Fårbo FF 2 – Oskarshamns AIK 2 | B25: =TEXT(HOUR(Matchlista!B25),"00")&":"&TEXT(MINUTE(Matchlista!B25),"00")&"–"&TEXT(HOUR(Matchlista!C25),"00")&":"&TEXT(MINUTE(Matchlista!C25),"00") -> 10:15–10:35 | C25: =Matchlista!D25 -> Intersport
A26: =Matchlista!G53&" – "&Matchlista!F53 -> Fårbo FF 2 – Vimmerby IF 2 | B26: =TEXT(HOUR(Matchlista!B53),"00")&":"&TEXT(MINUTE(Matchlista!B53),"00")&"–"&TEXT(HOUR(Matchlista!C53),"00")&":"&TEXT(MINUTE(Matchlista!C53),"00") -> 11:30–11:50 | C26: =Matchlista!D53 -> Intersport
A27: =Matchlista!F71&" – "&Matchlista!G71 -> Fårbo FF 2 – Mönsterås GOIF 1 | B27: =TEXT(HOUR(Matchlista!B71),"00")&":"&TEXT(MINUTE(Matchlista!B71),"00")&"–"&TEXT(HOUR(Matchlista!C71),"00")&":"&TEXT(MINUTE(Matchlista!C71),"00") -> 12:20–12:40 | C27: =Matchlista!D71 -> Jojjen
A29: Pojkar 2018
A30: Gunnebo IF
A31: Match | B31: Tid | C31: Plan
A32: =Matchlista!F11&" – "&Matchlista!G11 -> Gunnebo IF – Mönsterås GOIF 2 | B32: =TEXT(HOUR(Matchlista!B11),"00")&":"&TEXT(MINUTE(Matchlista!B11),"00")&"–"&TEXT(HOUR(Matchlista!C11),"00")&":"&TEXT(MINUTE(Matchlista!C11),"00") -> 09:00–09:20 | C32: =Matchlista!D11 -> Yta
A33: =Matchlista!F19&" – "&Matchlista!G19 -> Gunnebo IF – IFK Västervik 4 | B33: =TEXT(HOUR(Matchlista!B19),"00")&":"&TEXT(MINUTE(Matchlista!B19),"00")&"–"&TEXT(HOUR(Matchlista!C19),"00")&":"&TEXT(MINUTE(Matchlista!C19),"00") -> 09:50–10:10 | C33: =Matchlista!D19 -> Yta
A34: =Matchlista!G33&" – "&Matchlista!F33 -> Gunnebo IF – IFK Västervik 1 | B34: =TEXT(HOUR(Matchlista!B33),"00")&":"&TEXT(MINUTE(Matchlista!B33),"00")&"–"&TEXT(HOUR(Matchlista!C33),"00")&":"&TEXT(MINUTE(Matchlista!C33),"00") -> 10:40–11:00 | C34: =Matchlista!D33 -> Intersport
A35: =Matchlista!G64&" – "&Matchlista!F64 -> Gunnebo IF – Västerviks FF 1 | B35: =TEXT(HOUR(Matchlista!B64),"00")&":"&TEXT(MINUTE(Matchlista!B64),"00")&"–"&TEXT(HOUR(Matchlista!C64),"00")&":"&TEXT(MINUTE(Matchlista!C64),"00") -> 11:55–12:15 | C35: =Matchlista!D64 -> Yta
A37: Pojkar 2018
A38: IFK Västervik 1
A39: Match | B39: Tid | C39: Plan
A40: =Matchlista!G15&" – "&Matchlista!F15 -> IFK Västervik 1 – Västerviks FF 1 | B40: =TEXT(HOUR(Matchlista!B15),"00")&":"&TEXT(MINUTE(Matchlista!B15),"00")&"–"&TEXT(HOUR(Matchlista!C15),"00")&":"&TEXT(MINUTE(Matchlista!C15),"00") -> 09:50–10:10 | C40: =Matchlista!D15 -> Jeansbolaget
A41: =Matchlista!F33&" – "&Matchlista!G33 -> IFK Västervik 1 – Gunnebo IF | B41: =TEXT(HOUR(Matchlista!B33),"00")&":"&TEXT(MINUTE(Matchlista!B33),"00")&"–"&TEXT(HOUR(Matchlista!C33),"00")&":"&TEXT(MINUTE(Matchlista!C33),"00") -> 10:40–11:00 | C41: =Matchlista!D33 -> Intersport
A42: =Matchlista!F54&" – "&Matchlista!G54 -> IFK Västervik 1 – Oskarshamns AIK 3 | B42: =TEXT(HOUR(Matchlista!B54),"00")&":"&TEXT(MINUTE(Matchlista!B54),"00")&"–"&TEXT(HOUR(Matchlista!C54),"00")&":"&TEXT(MINUTE(Matchlista!C54),"00") -> 11:30–11:50 | C42: =Matchlista!D54 -> Sparbanken Spira
A43: =Matchlista!G80&" – "&Matchlista!F80 -> IFK Västervik 1 – Mönsterås GOIF 2 | B43: =TEXT(HOUR(Matchlista!B80),"00")&":"&TEXT(MINUTE(Matchlista!B80),"00")&"–"&TEXT(HOUR(Matchlista!C80),"00")&":"&TEXT(MINUTE(Matchlista!C80),"00") -> 12:45–13:05 | C43: =Matchlista!D80 -> Jojjen
A45: Pojkar 2018
A46: IFK Västervik 2
A47: Match | B47: Tid | C47: Plan
A48: =Matchlista!G7&" – "&Matchlista!F7 -> IFK Västervik 2 – Oskarshamns AIK 1 | B48: =TEXT(HOUR(Matchlista!B7),"00")&":"&TEXT(MINUTE(Matchlista!B7),"00")&"–"&TEXT(HOUR(Matchlista!C7),"00")&":"&TEXT(MINUTE(Matchlista!C7),"00") -> 09:00–09:20 | C48: =Matchlista!D7 -> Bilteknik
A49: =Matchlista!G13&" – "&Matchlista!F13 -> IFK Västervik 2 – Ankarsrums IS | B49: =TEXT(HOUR(Matchlista!B13),"00")&":"&TEXT(MINUTE(Matchlista!B13),"00")&"–"&TEXT(HOUR(Matchlista!C13),"00")&":"&TEXT(MINUTE(Matchlista!C13),"00") -> 09:50–10:10 | C49: =Matchlista!D13 -> Bilteknik
A50: =Matchlista!G35&" – "&Matchlista!F35 -> IFK Västervik 2 – Fårbo FF 1 | B50: =TEXT(HOUR(Matchlista!B35),"00")&":"&TEXT(MINUTE(Matchlista!B35),"00")&"–"&TEXT(HOUR(Matchlista!C35),"00")&":"&TEXT(MINUTE(Matchlista!C35),"00") -> 10:40–11:00 | C50: =Matchlista!D35 -> Yta
A51: =Matchlista!F69&" – "&Matchlista!G69 -> IFK Västervik 2 – Vimmerby IF 1 | B51: =TEXT(HOUR(Matchlista!B69),"00")&":"&TEXT(MINUTE(Matchlista!B69),"00")&"–"&TEXT(HOUR(Matchlista!C69),"00")&":"&TEXT(MINUTE(Matchlista!C69),"00") -> 12:20–12:40 | C51: =Matchlista!D69 -> Ica Maxi
A53: Pojkar 2018
A54: IFK Västervik 3
A55: Match | B55: Tid | C55: Plan
A56: =Matchlista!G10&" – "&Matchlista!F10 -> IFK Västervik 3 – Fårbo FF 2 | B56: =TEXT(HOUR(Matchlista!B10),"00")&":"&TEXT(MINUTE(Matchlista!B10),"00")&"–"&TEXT(HOUR(Matchlista!C10),"00")&":"&TEXT(MINUTE(Matchlista!C10),"00") -> 09:00–09:20 | C56: =Matchlista!D10 -> Jojjen
A57: =Matchlista!F16&" – "&Matchlista!G16 -> IFK Västervik 3 – Mönsterås GOIF 1 | B57: =TEXT(HOUR(Matchlista!B16),"00")&":"&TEXT(MINUTE(Matchlista!B16),"00")&"–"&TEXT(HOUR(Matchlista!C16),"00")&":"&TEXT(MINUTE(Matchlista!C16),"00") -> 09:50–10:10 | C57: =Matchlista!D16 -> Jojjen
A58: =Matchlista!G32&" – "&Matchlista!F32 -> IFK Västervik 3 – Vimmerby IF 2 | B58: =TEXT(HOUR(Matchlista!B32),"00")&":"&TEXT(MINUTE(Matchlista!B32),"00")&"–"&TEXT(HOUR(Matchlista!C32),"00")&":"&TEXT(MINUTE(Matchlista!C32),"00") -> 10:40–11:00 | C58: =Matchlista!D32 -> Jojjen
A59: =Matchlista!F70&" – "&Matchlista!G70 -> IFK Västervik 3 – Oskarshamns AIK 2 | B59: =TEXT(HOUR(Matchlista!B70),"00")&":"&TEXT(MINUTE(Matchlista!B70),"00")&"–"&TEXT(HOUR(Matchlista!C70),"00")&":"&TEXT(MINUTE(Matchlista!C70),"00") -> 12:20–12:40 | C59: =Matchlista!D70 -> Jeansbolaget
A61: Pojkar 2018
A62: IFK Västervik 4
A63: Match | B63: Tid | C63: Plan
A64: =Matchlista!F9&" – "&Matchlista!G9 -> IFK Västervik 4 – Västerviks FF 1 | B64: =TEXT(HOUR(Matchlista!B9),"00")&":"&TEXT(MINUTE(Matchlista!B9),"00")&"–"&TEXT(HOUR(Matchlista!C9),"00")&":"&TEXT(MINUTE(Matchlista!C9),"00") -> 09:00–09:20 | C64: =Matchlista!D9 -> Jeansbolaget
A65: =Matchlista!G19&" – "&Matchlista!F19 -> IFK Västervik 4 – Gunnebo IF | B65: =TEXT(HOUR(Matchlista!B19),"00")&":"&TEXT(MINUTE(Matchlista!B19),"00")&"–"&TEXT(HOUR(Matchlista!C19),"00")&":"&TEXT(MINUTE(Matchlista!C19),"00") -> 09:50–10:10 | C65: =Matchlista!D19 -> Yta
A66: =Matchlista!F45&" – "&Matchlista!G45 -> IFK Västervik 4 – Mönsterås GOIF 2 | B66: =TEXT(HOUR(Matchlista!B45),"00")&":"&TEXT(MINUTE(Matchlista!B45),"00")&"–"&TEXT(HOUR(Matchlista!C45),"00")&":"&TEXT(MINUTE(Matchlista!C45),"00") -> 11:05–11:25 | C66: =Matchlista!D45 -> Yta
A67: =Matchlista!F79&" – "&Matchlista!G79 -> IFK Västervik 4 – Oskarshamns AIK 3 | B67: =TEXT(HOUR(Matchlista!B79),"00")&":"&TEXT(MINUTE(Matchlista!B79),"00")&"–"&TEXT(HOUR(Matchlista!C79),"00")&":"&TEXT(MINUTE(Matchlista!C79),"00") -> 12:45–13:05 | C67: =Matchlista!D79 -> Jeansbolaget
A69: Pojkar 2018
A70: Mönsterås GOIF 1
A71: Match | B71: Tid | C71: Plan
A72: =Matchlista!G16&" – "&Matchlista!F16 -> Mönsterås GOIF 1 – IFK Västervik 3 | B72: =TEXT(HOUR(Matchlista!B16),"00")&":"&TEXT(MINUTE(Matchlista!B16),"00")&"–"&TEXT(HOUR(Matchlista!C16),"00")&":"&TEXT(MINUTE(Matchlista!C16),"00") -> 09:50–10:10 | C72: =Matchlista!D16 -> Jojjen
A73: =Matchlista!F42&" – "&Matchlista!G42 -> Mönsterås GOIF 1 – Oskarshamns AIK 2 | B73: =TEXT(HOUR(Matchlista!B42),"00")&":"&TEXT(MINUTE(Matchlista!B42),"00")&"–"&TEXT(HOUR(Matchlista!C42),"00")&":"&TEXT(MINUTE(Matchlista!C42),"00") -> 11:05–11:25 | C73: =Matchlista!D42 -> Jojjen
A74: =Matchlista!G71&" – "&Matchlista!F71 -> Mönsterås GOIF 1 – Fårbo FF 2 | B74: =TEXT(HOUR(Matchlista!B71),"00")&":"&TEXT(MINUTE(Matchlista!B71),"00")&"–"&TEXT(HOUR(Matchlista!C71),"00")&":"&TEXT(MINUTE(Matchlista!C71),"00") -> 12:20–12:40 | C74: =Matchlista!D71 -> Jojjen
A75: =Matchlista!F87&" – "&Matchlista!G87 -> Mönsterås GOIF 1 – Vimmerby IF 2 | B75: =TEXT(HOUR(Matchlista!B87),"00")&":"&TEXT(MINUTE(Matchlista!B87),"00")&"–"&TEXT(HOUR(Matchlista!C87),"00")&":"&TEXT(MINUTE(Matchlista!C87),"00") -> 13:10–13:30 | C75: =Matchlista!D87 -> Ica Maxi
A77: Pojkar 2018
A78: Mönsterås GOIF 2
A79: Match | B79: Tid | C79: Plan
A80: =Matchlista!G11&" – "&Matchlista!F11 -> Mönsterås GOIF 2 – Gunnebo IF | B80: =TEXT(HOUR(Matchlista!B11),"00")&":"&TEXT(MINUTE(Matchlista!B11),"00")&"–"&TEXT(HOUR(Matchlista!C11),"00")&":"&TEXT(MINUTE(Matchlista!C11),"00") -> 09:00–09:20 | C80: =Matchlista!D11 -> Yta
A81: =Matchlista!F18&" – "&Matchlista!G18 -> Mönsterås GOIF 2 – Oskarshamns AIK 3 | B81: =TEXT(HOUR(Matchlista!B18),"00")&":"&TEXT(MINUTE(Matchlista!B18),"00")&"–"&TEXT(HOUR(Matchlista!C18),"00")&":"&TEXT(MINUTE(Matchlista!C18),"00") -> 09:50–10:10 | C81: =Matchlista!D18 -> Sparbanken Spira
A82: =Matchlista!G45&" – "&Matchlista!F45 -> Mönsterås GOIF 2 – IFK Västervik 4 | B82: =TEXT(HOUR(Matchlista!B45),"00")&":"&TEXT(MINUTE(Matchlista!B45),"00")&"–"&TEXT(HOUR(Matchlista!C45),"00")&":"&TEXT(MINUTE(Matchlista!C45),"00") -> 11:05–11:25 | C82: =Matchlista!D45 -> Yta
A83: =Matchlista!F80&" – "&Matchlista!G80 -> Mönsterås GOIF 2 – IFK Västervik 1 | B83: =TEXT(HOUR(Matchlista!B80),"00")&":"&TEXT(MINUTE(Matchlista!B80),"00")&"–"&TEXT(HOUR(Matchlista!C80),"00")&":"&TEXT(MINUTE(Matchlista!C80),"00") -> 12:45–13:05 | C83: =Matchlista!D80 -> Jojjen
A85: Pojkar 2018
A86: Oskarshamns AIK 1
A87: Match | B87: Tid | C87: Plan
A88: =Matchlista!F7&" – "&Matchlista!G7 -> Oskarshamns AIK 1 – IFK Västervik 2 | B88: =TEXT(HOUR(Matchlista!B7),"00")&":"&TEXT(MINUTE(Matchlista!B7),"00")&"–"&TEXT(HOUR(Matchlista!C7),"00")&":"&TEXT(MINUTE(Matchlista!C7),"00") -> 09:00–09:20 | C88: =Matchlista!D7 -> Bilteknik
A89: =Matchlista!G17&" – "&Matchlista!F17 -> Oskarshamns AIK 1 – Vimmerby IF 1 | B89: =TEXT(HOUR(Matchlista!B17),"00")&":"&TEXT(MINUTE(Matchlista!B17),"00")&"–"&TEXT(HOUR(Matchlista!C17),"00")&":"&TEXT(MINUTE(Matchlista!C17),"00") -> 09:50–10:10 | C89: =Matchlista!D17 -> Intersport
A90: =Matchlista!G29&" – "&Matchlista!F29 -> Oskarshamns AIK 1 – Ankarsrums IS | B90: =TEXT(HOUR(Matchlista!B29),"00")&":"&TEXT(MINUTE(Matchlista!B29),"00")&"–"&TEXT(HOUR(Matchlista!C29),"00")&":"&TEXT(MINUTE(Matchlista!C29),"00") -> 10:40–11:00 | C90: =Matchlista!D29 -> Bilteknik
A91: =Matchlista!F73&" – "&Matchlista!G73 -> Oskarshamns AIK 1 – Västerviks FF 2 | B91: =TEXT(HOUR(Matchlista!B73),"00")&":"&TEXT(MINUTE(Matchlista!B73),"00")&"–"&TEXT(HOUR(Matchlista!C73),"00")&":"&TEXT(MINUTE(Matchlista!C73),"00") -> 12:20–12:40 | C91: =Matchlista!D73 -> Sparbanken Spira
A93: Pojkar 2018
A94: Oskarshamns AIK 2
A95: Match | B95: Tid | C95: Plan
A96: =Matchlista!F12&" – "&Matchlista!G12 -> Oskarshamns AIK 2 – Vimmerby IF 2 | B96: =TEXT(HOUR(Matchlista!B12),"00")&":"&TEXT(MINUTE(Matchlista!B12),"00")&"–"&TEXT(HOUR(Matchlista!C12),"00")&":"&TEXT(MINUTE(Matchlista!C12),"00") -> 09:25–09:45 | C96: =Matchlista!D12 -> Yta
A97: =Matchlista!F25&" – "&Matchlista!G25 -> Oskarshamns AIK 2 – Fårbo FF 2 | B97: =TEXT(HOUR(Matchlista!B25),"00")&":"&TEXT(MINUTE(Matchlista!B25),"00")&"–"&TEXT(HOUR(Matchlista!C25),"00")&":"&TEXT(MINUTE(Matchlista!C25),"00") -> 10:15–10:35 | C97: =Matchlista!D25 -> Intersport
A98: =Matchlista!G42&" – "&Matchlista!F42 -> Oskarshamns AIK 2 – Mönsterås GOIF 1 | B98: =TEXT(HOUR(Matchlista!B42),"00")&":"&TEXT(MINUTE(Matchlista!B42),"00")&"–"&TEXT(HOUR(Matchlista!C42),"00")&":"&TEXT(MINUTE(Matchlista!C42),"00") -> 11:05–11:25 | C98: =Matchlista!D42 -> Jojjen
A99: =Matchlista!G70&" – "&Matchlista!F70 -> Oskarshamns AIK 2 – IFK Västervik 3 | B99: =TEXT(HOUR(Matchlista!B70),"00")&":"&TEXT(MINUTE(Matchlista!B70),"00")&"–"&TEXT(HOUR(Matchlista!C70),"00")&":"&TEXT(MINUTE(Matchlista!C70),"00") -> 12:20–12:40 | C99: =Matchlista!D70 -> Jeansbolaget
A101: Pojkar 2018
A102: Oskarshamns AIK 3
A103: Match | B103: Tid | C103: Plan
A104: =Matchlista!G18&" – "&Matchlista!F18 -> Oskarshamns AIK 3 – Mönsterås GOIF 2 | B104: =TEXT(HOUR(Matchlista!B18),"00")&":"&TEXT(MINUTE(Matchlista!B18),"00")&"–"&TEXT(HOUR(Matchlista!C18),"00")&":"&TEXT(MINUTE(Matchlista!C18),"00") -> 09:50–10:10 | C104: =Matchlista!D18 -> Sparbanken Spira
A105: =Matchlista!F31&" – "&Matchlista!G31 -> Oskarshamns AIK 3 – Västerviks FF 1 | B105: =TEXT(HOUR(Matchlista!B31),"00")&":"&TEXT(MINUTE(Matchlista!B31),"00")&"–"&TEXT(HOUR(Matchlista!C31),"00")&":"&TEXT(MINUTE(Matchlista!C31),"00") -> 10:40–11:00 | C105: =Matchlista!D31 -> Jeansbolaget
A106: =Matchlista!G54&" – "&Matchlista!F54 -> Oskarshamns AIK 3 – IFK Västervik 1 | B106: =TEXT(HOUR(Matchlista!B54),"00")&":"&TEXT(MINUTE(Matchlista!B54),"00")&"–"&TEXT(HOUR(Matchlista!C54),"00")&":"&TEXT(MINUTE(Matchlista!C54),"00") -> 11:30–11:50 | C106: =Matchlista!D54 -> Sparbanken Spira
A107: =Matchlista!G79&" – "&Matchlista!F79 -> Oskarshamns AIK 3 – IFK Västervik 4 | B107: =TEXT(HOUR(Matchlista!B79),"00")&":"&TEXT(MINUTE(Matchlista!B79),"00")&"–"&TEXT(HOUR(Matchlista!C79),"00")&":"&TEXT(MINUTE(Matchlista!C79),"00") -> 12:45–13:05 | C107: =Matchlista!D79 -> Jeansbolaget
A109: Pojkar 2018
A110: Vimmerby IF 1
A111: Match | B111: Tid | C111: Plan
A112: =Matchlista!G6&" – "&Matchlista!F6 -> Vimmerby IF 1 – Fårbo FF 1 | B112: =TEXT(HOUR(Matchlista!B6),"00")&":"&TEXT(MINUTE(Matchlista!B6),"00")&"–"&TEXT(HOUR(Matchlista!C6),"00")&":"&TEXT(MINUTE(Matchlista!C6),"00") -> 09:00–09:20 | C112: =Matchlista!D6 -> Ahlsell
A113: =Matchlista!F17&" – "&Matchlista!G17 -> Vimmerby IF 1 – Oskarshamns AIK 1 | B113: =TEXT(HOUR(Matchlista!B17),"00")&":"&TEXT(MINUTE(Matchlista!B17),"00")&"–"&TEXT(HOUR(Matchlista!C17),"00")&":"&TEXT(MINUTE(Matchlista!C17),"00") -> 09:50–10:10 | C113: =Matchlista!D17 -> Intersport
A114: =Matchlista!F39&" – "&Matchlista!G39 -> Vimmerby IF 1 – Västerviks FF 2 | B114: =TEXT(HOUR(Matchlista!B39),"00")&":"&TEXT(MINUTE(Matchlista!B39),"00")&"–"&TEXT(HOUR(Matchlista!C39),"00")&":"&TEXT(MINUTE(Matchlista!C39),"00") -> 11:05–11:25 | C114: =Matchlista!D39 -> Bilteknik
A115: =Matchlista!G69&" – "&Matchlista!F69 -> Vimmerby IF 1 – IFK Västervik 2 | B115: =TEXT(HOUR(Matchlista!B69),"00")&":"&TEXT(MINUTE(Matchlista!B69),"00")&"–"&TEXT(HOUR(Matchlista!C69),"00")&":"&TEXT(MINUTE(Matchlista!C69),"00") -> 12:20–12:40 | C115: =Matchlista!D69 -> Ica Maxi
...

Sheet F18
A1: F18 · Flickor 2018
A3: 12 september 2026 · 5-manna · Tid avser avspark–slutsignal
A5: Flickor 2018
A6: Hultsfred FK
A7: Match | B7: Tid | C7: Plan
A8: =Matchlista!F28&" – "&Matchlista!G28 -> Hultsfred FK – Tyresö strand FC 2 | B8: =TEXT(HOUR(Matchlista!B28),"00")&":"&TEXT(MINUTE(Matchlista!B28),"00")&"–"&TEXT(HOUR(Matchlista!C28),"00")&":"&TEXT(MINUTE(Matchlista!C28),"00") -> 10:25–10:45 | C8: =Matchlista!D28 -> Ahlsell
A9: =Matchlista!F55&" – "&Matchlista!G55 -> Hultsfred FK – Tjust IF | B9: =TEXT(HOUR(Matchlista!B55),"00")&":"&TEXT(MINUTE(Matchlista!B55),"00")&"–"&TEXT(HOUR(Matchlista!C55),"00")&":"&TEXT(MINUTE(Matchlista!C55),"00") -> 11:30–11:50 | C9: =Matchlista!D55 -> Yta
A10: =Matchlista!G92&" – "&Matchlista!F92 -> Hultsfred FK – Vimmerby IF 1 | B10: =TEXT(HOUR(Matchlista!B92),"00")&":"&TEXT(MINUTE(Matchlista!B92),"00")&"–"&TEXT(HOUR(Matchlista!C92),"00")&":"&TEXT(MINUTE(Matchlista!C92),"00") -> 13:10–13:30 | C10: =Matchlista!D92 -> Yta
A11: =Matchlista!G103&" – "&Matchlista!F103 -> Hultsfred FK – Västerviks FF 2 | B11: =TEXT(HOUR(Matchlista!B103),"00")&":"&TEXT(MINUTE(Matchlista!B103),"00")&"–"&TEXT(HOUR(Matchlista!C103),"00")&":"&TEXT(MINUTE(Matchlista!C103),"00") -> 14:00–14:20 | C11: =Matchlista!D103 -> Bilteknik
A13: Flickor 2018
A14: IFK Västervik
A15: Match | B15: Tid | C15: Plan
A16: =Matchlista!G27&" – "&Matchlista!F27 -> IFK Västervik – Vimmerby IF 2 | B16: =TEXT(HOUR(Matchlista!B27),"00")&":"&TEXT(MINUTE(Matchlista!B27),"00")&"–"&TEXT(HOUR(Matchlista!C27),"00")&":"&TEXT(MINUTE(Matchlista!C27),"00") -> 10:15–10:35 | C16: =Matchlista!D27 -> Yta
A17: =Matchlista!F44&" – "&Matchlista!G44 -> IFK Västervik – Vimmerby IF 1 | B17: =TEXT(HOUR(Matchlista!B44),"00")&":"&TEXT(MINUTE(Matchlista!B44),"00")&"–"&TEXT(HOUR(Matchlista!C44),"00")&":"&TEXT(MINUTE(Matchlista!C44),"00") -> 11:05–11:25 | C17: =Matchlista!D44 -> Sparbanken Spira
A18: =Matchlista!G60&" – "&Matchlista!F60 -> IFK Västervik – Västerviks FF 1 | B18: =TEXT(HOUR(Matchlista!B60),"00")&":"&TEXT(MINUTE(Matchlista!B60),"00")&"–"&TEXT(HOUR(Matchlista!C60),"00")&":"&TEXT(MINUTE(Matchlista!C60),"00") -> 11:55–12:15 | C18: =Matchlista!D60 -> Jeansbolaget
A19: =Matchlista!F93&" – "&Matchlista!G93 -> IFK Västervik – Tyresö strand FC 1 | B19: =TEXT(HOUR(Matchlista!B93),"00")&":"&TEXT(MINUTE(Matchlista!B93),"00")&"–"&TEXT(HOUR(Matchlista!C93),"00")&":"&TEXT(MINUTE(Matchlista!C93),"00") -> 13:15–13:35 | C19: =Matchlista!D93 -> Ahlsell
A21: Flickor 2018
A22: Tjust IF
A23: Match | B23: Tid | C23: Plan
A24: =Matchlista!G34&" – "&Matchlista!F34 -> Tjust IF – Västerviks FF 1 | B24: =TEXT(HOUR(Matchlista!B34),"00")&":"&TEXT(MINUTE(Matchlista!B34),"00")&"–"&TEXT(HOUR(Matchlista!C34),"00")&":"&TEXT(MINUTE(Matchlista!C34),"00") -> 10:40–11:00 | C24: =Matchlista!D34 -> Sparbanken Spira
A25: =Matchlista!G55&" – "&Matchlista!F55 -> Tjust IF – Hultsfred FK | B25: =TEXT(HOUR(Matchlista!B55),"00")&":"&TEXT(MINUTE(Matchlista!B55),"00")&"–"&TEXT(HOUR(Matchlista!C55),"00")&":"&TEXT(MINUTE(Matchlista!C55),"00") -> 11:30–11:50 | C25: =Matchlista!D55 -> Yta
A26: =Matchlista!F67&" – "&Matchlista!G67 -> Tjust IF – Tyresö strand FC 1 | B26: =TEXT(HOUR(Matchlista!B67),"00")&":"&TEXT(MINUTE(Matchlista!B67),"00")&"–"&TEXT(HOUR(Matchlista!C67),"00")&":"&TEXT(MINUTE(Matchlista!C67),"00") -> 12:20–12:40 | C26: =Matchlista!D67 -> Ahlsell
A27: =Matchlista!F102&" – "&Matchlista!G102 -> Tjust IF – Vimmerby IF 2 | B27: =TEXT(HOUR(Matchlista!B102),"00")&":"&TEXT(MINUTE(Matchlista!B102),"00")&"–"&TEXT(HOUR(Matchlista!C102),"00")&":"&TEXT(MINUTE(Matchlista!C102),"00") -> 13:40–14:00 | C27: =Matchlista!D102 -> Yta
A29: Flickor 2018
A30: Tyresö strand FC 1
A31: Match | B31: Tid | C31: Plan
A32: =Matchlista!F20&" – "&Matchlista!G20 -> Tyresö strand FC 1 – Vimmerby IF 1 | B32: =TEXT(HOUR(Matchlista!B20),"00")&":"&TEXT(MINUTE(Matchlista!B20),"00")&"–"&TEXT(HOUR(Matchlista!C20),"00")&":"&TEXT(MINUTE(Matchlista!C20),"00") -> 10:00–10:20 | C32: =Matchlista!D20 -> Ahlsell
A33: =Matchlista!F36&" – "&Matchlista!G36 -> Tyresö strand FC 1 – Västerviks FF 2 | B33: =TEXT(HOUR(Matchlista!B36),"00")&":"&TEXT(MINUTE(Matchlista!B36),"00")&"–"&TEXT(HOUR(Matchlista!C36),"00")&":"&TEXT(MINUTE(Matchlista!C36),"00") -> 10:50–11:10 | C33: =Matchlista!D36 -> Ahlsell
A34: =Matchlista!G67&" – "&Matchlista!F67 -> Tyresö strand FC 1 – Tjust IF | B34: =TEXT(HOUR(Matchlista!B67),"00")&":"&TEXT(MINUTE(Matchlista!B67),"00")&"–"&TEXT(HOUR(Matchlista!C67),"00")&":"&TEXT(MINUTE(Matchlista!C67),"00") -> 12:20–12:40 | C34: =Matchlista!D67 -> Ahlsell
A35: =Matchlista!G93&" – "&Matchlista!F93 -> Tyresö strand FC 1 – IFK Västervik | B35: =TEXT(HOUR(Matchlista!B93),"00")&":"&TEXT(MINUTE(Matchlista!B93),"00")&"–"&TEXT(HOUR(Matchlista!C93),"00")&":"&TEXT(MINUTE(Matchlista!C93),"00") -> 13:15–13:35 | C35: =Matchlista!D93 -> Ahlsell
A37: Flickor 2018
A38: Tyresö strand FC 2
A39: Match | B39: Tid | C39: Plan
A40: =Matchlista!G28&" – "&Matchlista!F28 -> Tyresö strand FC 2 – Hultsfred FK | B40: =TEXT(HOUR(Matchlista!B28),"00")&":"&TEXT(MINUTE(Matchlista!B28),"00")&"–"&TEXT(HOUR(Matchlista!C28),"00")&":"&TEXT(MINUTE(Matchlista!C28),"00") -> 10:25–10:45 | C40: =Matchlista!D28 -> Ahlsell
A41: =Matchlista!F46&" – "&Matchlista!G46 -> Tyresö strand FC 2 – Vimmerby IF 2 | B41: =TEXT(HOUR(Matchlista!B46),"00")&":"&TEXT(MINUTE(Matchlista!B46),"00")&"–"&TEXT(HOUR(Matchlista!C46),"00")&":"&TEXT(MINUTE(Matchlista!C46),"00") -> 11:15–11:35 | C41: =Matchlista!D46 -> Ahlsell
A42: =Matchlista!G76&" – "&Matchlista!F76 -> Tyresö strand FC 2 – Västerviks FF 2 | B42: =TEXT(HOUR(Matchlista!B76),"00")&":"&TEXT(MINUTE(Matchlista!B76),"00")&"–"&TEXT(HOUR(Matchlista!C76),"00")&":"&TEXT(MINUTE(Matchlista!C76),"00") -> 12:45–13:05 | C42: =Matchlista!D76 -> Ahlsell
A43: =Matchlista!F101&" – "&Matchlista!G101 -> Tyresö strand FC 2 – Västerviks FF 1 | B43: =TEXT(HOUR(Matchlista!B101),"00")&":"&TEXT(MINUTE(Matchlista!B101),"00")&"–"&TEXT(HOUR(Matchlista!C101),"00")&":"&TEXT(MINUTE(Matchlista!C101),"00") -> 13:40–14:00 | C43: =Matchlista!D101 -> Ahlsell
A45: Flickor 2018
A46: Vimmerby IF 1
A47: Match | B47: Tid | C47: Plan
A48: =Matchlista!G20&" – "&Matchlista!F20 -> Vimmerby IF 1 – Tyresö strand FC 1 | B48: =TEXT(HOUR(Matchlista!B20),"00")&":"&TEXT(MINUTE(Matchlista!B20),"00")&"–"&TEXT(HOUR(Matchlista!C20),"00")&":"&TEXT(MINUTE(Matchlista!C20),"00") -> 10:00–10:20 | C48: =Matchlista!D20 -> Ahlsell
A49: =Matchlista!G44&" – "&Matchlista!F44 -> Vimmerby IF 1 – IFK Västervik | B49: =TEXT(HOUR(Matchlista!B44),"00")&":"&TEXT(MINUTE(Matchlista!B44),"00")&"–"&TEXT(HOUR(Matchlista!C44),"00")&":"&TEXT(MINUTE(Matchlista!C44),"00") -> 11:05–11:25 | C49: =Matchlista!D44 -> Sparbanken Spira
A50: =Matchlista!F63&" – "&Matchlista!G63 -> Vimmerby IF 1 – Västerviks FF 2 | B50: =TEXT(HOUR(Matchlista!B63),"00")&":"&TEXT(MINUTE(Matchlista!B63),"00")&"–"&TEXT(HOUR(Matchlista!C63),"00")&":"&TEXT(MINUTE(Matchlista!C63),"00") -> 11:55–12:15 | C50: =Matchlista!D63 -> Sparbanken Spira
A51: =Matchlista!F92&" – "&Matchlista!G92 -> Vimmerby IF 1 – Hultsfred FK | B51: =TEXT(HOUR(Matchlista!B92),"00")&":"&TEXT(MINUTE(Matchlista!B92),"00")&"–"&TEXT(HOUR(Matchlista!C92),"00")&":"&TEXT(MINUTE(Matchlista!C92),"00") -> 13:10–13:30 | C51: =Matchlista!D92 -> Yta
A53: Flickor 2018
A54: Vimmerby IF 2
A55: Match | B55: Tid | C55: Plan
A56: =Matchlista!F27&" – "&Matchlista!G27 -> Vimmerby IF 2 – IFK Västervik | B56: =TEXT(HOUR(Matchlista!B27),"00")&":"&TEXT(MINUTE(Matchlista!B27),"00")&"–"&TEXT(HOUR(Matchlista!C27),"00")&":"&TEXT(MINUTE(Matchlista!C27),"00") -> 10:15–10:35 | C56: =Matchlista!D27 -> Yta
A57: =Matchlista!G46&" – "&Matchlista!F46 -> Vimmerby IF 2 – Tyresö strand FC 2 | B57: =TEXT(HOUR(Matchlista!B46),"00")&":"&TEXT(MINUTE(Matchlista!B46),"00")&"–"&TEXT(HOUR(Matchlista!C46),"00")&":"&TEXT(MINUTE(Matchlista!C46),"00") -> 11:15–11:35 | C57: =Matchlista!D46 -> Ahlsell
A58: =Matchlista!F83&" – "&Matchlista!G83 -> Vimmerby IF 2 – Västerviks FF 1 | B58: =TEXT(HOUR(Matchlista!B83),"00")&":"&TEXT(MINUTE(Matchlista!B83),"00")&"–"&TEXT(HOUR(Matchlista!C83),"00")&":"&TEXT(MINUTE(Matchlista!C83),"00") -> 12:45–13:05 | C58: =Matchlista!D83 -> Yta
A59: =Matchlista!G102&" – "&Matchlista!F102 -> Vimmerby IF 2 – Tjust IF | B59: =TEXT(HOUR(Matchlista!B102),"00")&":"&TEXT(MINUTE(Matchlista!B102),"00")&"–"&TEXT(HOUR(Matchlista!C102),"00")&":"&TEXT(MINUTE(Matchlista!C102),"00") -> 13:40–14:00 | C59: =Matchlista!D102 -> Yta
A61: Flickor 2018
A62: Västerviks FF 1
A63: Match | B63: Tid | C63: Plan
A64: =Matchlista!F34&" – "&Matchlista!G34 -> Västerviks FF 1 – Tjust IF | B64: =TEXT(HOUR(Matchlista!B34),"00")&":"&TEXT(MINUTE(Matchlista!B34),"00")&"–"&TEXT(HOUR(Matchlista!C34),"00")&":"&TEXT(MINUTE(Matchlista!C34),"00") -> 10:40–11:00 | C64: =Matchlista!D34 -> Sparbanken Spira
A65: =Matchlista!F60&" – "&Matchlista!G60 -> Västerviks FF 1 – IFK Västervik | B65: =TEXT(HOUR(Matchlista!B60),"00")&":"&TEXT(MINUTE(Matchlista!B60),"00")&"–"&TEXT(HOUR(Matchlista!C60),"00")&":"&TEXT(MINUTE(Matchlista!C60),"00") -> 11:55–12:15 | C65: =Matchlista!D60 -> Jeansbolaget
A66: =Matchlista!G83&" – "&Matchlista!F83 -> Västerviks FF 1 – Vimmerby IF 2 | B66: =TEXT(HOUR(Matchlista!B83),"00")&":"&TEXT(MINUTE(Matchlista!B83),"00")&"–"&TEXT(HOUR(Matchlista!C83),"00")&":"&TEXT(MINUTE(Matchlista!C83),"00") -> 12:45–13:05 | C66: =Matchlista!D83 -> Yta
A67: =Matchlista!G101&" – "&Matchlista!F101 -> Västerviks FF 1 – Tyresö strand FC 2 | B67: =TEXT(HOUR(Matchlista!B101),"00")&":"&TEXT(MINUTE(Matchlista!B101),"00")&"–"&TEXT(HOUR(Matchlista!C101),"00")&":"&TEXT(MINUTE(Matchlista!C101),"00") -> 13:40–14:00 | C67: =Matchlista!D101 -> Ahlsell
A69: Flickor 2018
A70: Västerviks FF 2
A71: Match | B71: Tid | C71: Plan
A72: =Matchlista!G36&" – "&Matchlista!F36 -> Västerviks FF 2 – Tyresö strand FC 1 | B72: =TEXT(HOUR(Matchlista!B36),"00")&":"&TEXT(MINUTE(Matchlista!B36),"00")&"–"&TEXT(HOUR(Matchlista!C36),"00")&":"&TEXT(MINUTE(Matchlista!C36),"00") -> 10:50–11:10 | C72: =Matchlista!D36 -> Ahlsell
A73: =Matchlista!G63&" – "&Matchlista!F63 -> Västerviks FF 2 – Vimmerby IF 1 | B73: =TEXT(HOUR(Matchlista!B63),"00")&":"&TEXT(MINUTE(Matchlista!B63),"00")&"–"&TEXT(HOUR(Matchlista!C63),"00")&":"&TEXT(MINUTE(Matchlista!C63),"00") -> 11:55–12:15 | C73: =Matchlista!D63 -> Sparbanken Spira
A74: =Matchlista!F76&" – "&Matchlista!G76 -> Västerviks FF 2 – Tyresö strand FC 2 | B74: =TEXT(HOUR(Matchlista!B76),"00")&":"&TEXT(MINUTE(Matchlista!B76),"00")&"–"&TEXT(HOUR(Matchlista!C76),"00")&":"&TEXT(MINUTE(Matchlista!C76),"00") -> 12:45–13:05 | C74: =Matchlista!D76 -> Ahlsell
A75: =Matchlista!F103&" – "&Matchlista!G103 -> Västerviks FF 2 – Hultsfred FK | B75: =TEXT(HOUR(Matchlista!B103),"00")&":"&TEXT(MINUTE(Matchlista!B103),"00")&"–"&TEXT(HOUR(Matchlista!C103),"00")&":"&TEXT(MINUTE(Matchlista!C103),"00") -> 14:00–14:20 | C75: =Matchlista!D103 -> Bilteknik

Sheet P19
A1: P19 · Pojkar 2019
A3: 12 september 2026 · 5-manna · Tid avser avspark–slutsignal
A5: Pojkar 2019
A6: IFK Västervik 1
A7: Match | B7: Tid | C7: Plan
A8: =Matchlista!G24&" – "&Matchlista!F24 -> IFK Västervik 1 – Rimforsa IF | B8: =TEXT(HOUR(Matchlista!B24),"00")&":"&TEXT(MINUTE(Matchlista!B24),"00")&"–"&TEXT(HOUR(Matchlista!C24),"00")&":"&TEXT(MINUTE(Matchlista!C24),"00") -> 10:15–10:35 | C8: =Matchlista!D24 -> Jeansbolaget
A9: =Matchlista!F43&" – "&Matchlista!G43 -> IFK Västervik 1 – Söderköpings IK 2 | B9: =TEXT(HOUR(Matchlista!B43),"00")&":"&TEXT(MINUTE(Matchlista!B43),"00")&"–"&TEXT(HOUR(Matchlista!C43),"00")&":"&TEXT(MINUTE(Matchlista!C43),"00") -> 11:05–11:25 | C9: =Matchlista!D43 -> Intersport
A10: =Matchlista!G81&" – "&Matchlista!F81 -> IFK Västervik 1 – Oskarshamns AIk 2 | B10: =TEXT(HOUR(Matchlista!B81),"00")&":"&TEXT(MINUTE(Matchlista!B81),"00")&"–"&TEXT(HOUR(Matchlista!C81),"00")&":"&TEXT(MINUTE(Matchlista!C81),"00") -> 12:45–13:05 | C10: =Matchlista!D81 -> Intersport
A11: =Matchlista!F98&" – "&Matchlista!G98 -> IFK Västervik 1 – Söderköpings IK 1 | B11: =TEXT(HOUR(Matchlista!B98),"00")&":"&TEXT(MINUTE(Matchlista!B98),"00")&"–"&TEXT(HOUR(Matchlista!C98),"00")&":"&TEXT(MINUTE(Matchlista!C98),"00") -> 13:35–13:55 | C11: =Matchlista!D98 -> Jojjen
A13: Pojkar 2019
A14: IFK Västervik 2
A15: Match | B15: Tid | C15: Plan
A16: =Matchlista!G23&" – "&Matchlista!F23 -> IFK Västervik 2 – IFK Västervik 3 | B16: =TEXT(HOUR(Matchlista!B23),"00")&":"&TEXT(MINUTE(Matchlista!B23),"00")&"–"&TEXT(HOUR(Matchlista!C23),"00")&":"&TEXT(MINUTE(Matchlista!C23),"00") -> 10:15–10:35 | C16: =Matchlista!D23 -> Ica Maxi
A17: =Matchlista!F41&" – "&Matchlista!G41 -> IFK Västervik 2 – Oskarshamns AIk 2 | B17: =TEXT(HOUR(Matchlista!B41),"00")&":"&TEXT(MINUTE(Matchlista!B41),"00")&"–"&TEXT(HOUR(Matchlista!C41),"00")&":"&TEXT(MINUTE(Matchlista!C41),"00") -> 11:05–11:25 | C17: =Matchlista!D41 -> Jeansbolaget
A18: =Matchlista!F78&" – "&Matchlista!G78 -> IFK Västervik 2 – Söderköpings IK 2 | B18: =TEXT(HOUR(Matchlista!B78),"00")&":"&TEXT(MINUTE(Matchlista!B78),"00")&"–"&TEXT(HOUR(Matchlista!C78),"00")&":"&TEXT(MINUTE(Matchlista!C78),"00") -> 12:45–13:05 | C18: =Matchlista!D78 -> Ica Maxi
A19: =Matchlista!G100&" – "&Matchlista!F100 -> IFK Västervik 2 – Oskarshamns AIk 1 | B19: =TEXT(HOUR(Matchlista!B100),"00")&":"&TEXT(MINUTE(Matchlista!B100),"00")&"–"&TEXT(HOUR(Matchlista!C100),"00")&":"&TEXT(MINUTE(Matchlista!C100),"00") -> 13:35–13:55 | C19: =Matchlista!D100 -> Sparbanken Spira
A21: Pojkar 2019
A22: IFK Västervik 3
A23: Match | B23: Tid | C23: Plan
A24: =Matchlista!F23&" – "&Matchlista!G23 -> IFK Västervik 3 – IFK Västervik 2 | B24: =TEXT(HOUR(Matchlista!B23),"00")&":"&TEXT(MINUTE(Matchlista!B23),"00")&"–"&TEXT(HOUR(Matchlista!C23),"00")&":"&TEXT(MINUTE(Matchlista!C23),"00") -> 10:15–10:35 | C24: =Matchlista!D23 -> Ica Maxi
A25: =Matchlista!G59&" – "&Matchlista!F59 -> IFK Västervik 3 – Oskarshamns AIk 1 | B25: =TEXT(HOUR(Matchlista!B59),"00")&":"&TEXT(MINUTE(Matchlista!B59),"00")&"–"&TEXT(HOUR(Matchlista!C59),"00")&":"&TEXT(MINUTE(Matchlista!C59),"00") -> 11:55–12:15 | C25: =Matchlista!D59 -> Ica Maxi
A26: =Matchlista!G91&" – "&Matchlista!F91 -> IFK Västervik 3 – Rimforsa IF | B26: =TEXT(HOUR(Matchlista!B91),"00")&":"&TEXT(MINUTE(Matchlista!B91),"00")&"–"&TEXT(HOUR(Matchlista!C91),"00")&":"&TEXT(MINUTE(Matchlista!C91),"00") -> 13:10–13:30 | C26: =Matchlista!D91 -> Sparbanken Spira
A27: =Matchlista!F110&" – "&Matchlista!G110 -> IFK Västervik 3 – Söderköpings IK 1 | B27: =TEXT(HOUR(Matchlista!B110),"00")&":"&TEXT(MINUTE(Matchlista!B110),"00")&"–"&TEXT(HOUR(Matchlista!C110),"00")&":"&TEXT(MINUTE(Matchlista!C110),"00") -> 14:25–14:45 | C27: =Matchlista!D110 -> Ahlsell
A29: Pojkar 2019
A30: Oskarshamns AIk 1
A31: Match | B31: Tid | C31: Plan
A32: =Matchlista!G30&" – "&Matchlista!F30 -> Oskarshamns AIk 1 – Söderköpings IK 1 | B32: =TEXT(HOUR(Matchlista!B30),"00")&":"&TEXT(MINUTE(Matchlista!B30),"00")&"–"&TEXT(HOUR(Matchlista!C30),"00")&":"&TEXT(MINUTE(Matchlista!C30),"00") -> 10:40–11:00 | C32: =Matchlista!D30 -> Ica Maxi
A33: =Matchlista!F59&" – "&Matchlista!G59 -> Oskarshamns AIk 1 – IFK Västervik 3 | B33: =TEXT(HOUR(Matchlista!B59),"00")&":"&TEXT(MINUTE(Matchlista!B59),"00")&"–"&TEXT(HOUR(Matchlista!C59),"00")&":"&TEXT(MINUTE(Matchlista!C59),"00") -> 11:55–12:15 | C33: =Matchlista!D59 -> Ica Maxi
A34: =Matchlista!F100&" – "&Matchlista!G100 -> Oskarshamns AIk 1 – IFK Västervik 2 | B34: =TEXT(HOUR(Matchlista!B100),"00")&":"&TEXT(MINUTE(Matchlista!B100),"00")&"–"&TEXT(HOUR(Matchlista!C100),"00")&":"&TEXT(MINUTE(Matchlista!C100),"00") -> 13:35–13:55 | C34: =Matchlista!D100 -> Sparbanken Spira
A35: =Matchlista!G113&" – "&Matchlista!F113 -> Oskarshamns AIk 1 – Söderköpings IK 2 | B35: =TEXT(HOUR(Matchlista!B113),"00")&":"&TEXT(MINUTE(Matchlista!B113),"00")&"–"&TEXT(HOUR(Matchlista!C113),"00")&":"&TEXT(MINUTE(Matchlista!C113),"00") -> 14:25–14:45 | C35: =Matchlista!D113 -> Sparbanken Spira
A37: Pojkar 2019
A38: Oskarshamns AIk 2
A39: Match | B39: Tid | C39: Plan
A40: =Matchlista!G41&" – "&Matchlista!F41 -> Oskarshamns AIk 2 – IFK Västervik 2 | B40: =TEXT(HOUR(Matchlista!B41),"00")&":"&TEXT(MINUTE(Matchlista!B41),"00")&"–"&TEXT(HOUR(Matchlista!C41),"00")&":"&TEXT(MINUTE(Matchlista!C41),"00") -> 11:05–11:25 | C40: =Matchlista!D41 -> Jeansbolaget
A41: =Matchlista!F81&" – "&Matchlista!G81 -> Oskarshamns AIk 2 – IFK Västervik 1 | B41: =TEXT(HOUR(Matchlista!B81),"00")&":"&TEXT(MINUTE(Matchlista!B81),"00")&"–"&TEXT(HOUR(Matchlista!C81),"00")&":"&TEXT(MINUTE(Matchlista!C81),"00") -> 12:45–13:05 | C41: =Matchlista!D81 -> Intersport
A42: =Matchlista!G99&" – "&Matchlista!F99 -> Oskarshamns AIk 2 – Söderköpings IK 2 | B42: =TEXT(HOUR(Matchlista!B99),"00")&":"&TEXT(MINUTE(Matchlista!B99),"00")&"–"&TEXT(HOUR(Matchlista!C99),"00")&":"&TEXT(MINUTE(Matchlista!C99),"00") -> 13:35–13:55 | C42: =Matchlista!D99 -> Intersport
A43: =Matchlista!F112&" – "&Matchlista!G112 -> Oskarshamns AIk 2 – Rimforsa IF | B43: =TEXT(HOUR(Matchlista!B112),"00")&":"&TEXT(MINUTE(Matchlista!B112),"00")&"–"&TEXT(HOUR(Matchlista!C112),"00")&":"&TEXT(MINUTE(Matchlista!C112),"00") -> 14:25–14:45 | C43: =Matchlista!D112 -> Ica Maxi
A45: Pojkar 2019
A46: Rimforsa IF
A47: Match | B47: Tid | C47: Plan
A48: =Matchlista!F24&" – "&Matchlista!G24 -> Rimforsa IF – IFK Västervik 1 | B48: =TEXT(HOUR(Matchlista!B24),"00")&":"&TEXT(MINUTE(Matchlista!B24),"00")&"–"&TEXT(HOUR(Matchlista!C24),"00")&":"&TEXT(MINUTE(Matchlista!C24),"00") -> 10:15–10:35 | C48: =Matchlista!D24 -> Jeansbolaget
A49: =Matchlista!G57&" – "&Matchlista!F57 -> Rimforsa IF – Söderköpings IK 1 | B49: =TEXT(HOUR(Matchlista!B57),"00")&":"&TEXT(MINUTE(Matchlista!B57),"00")&"–"&TEXT(HOUR(Matchlista!C57),"00")&":"&TEXT(MINUTE(Matchlista!C57),"00") -> 11:55–12:15 | C49: =Matchlista!D57 -> Ahlsell
A50: =Matchlista!F91&" – "&Matchlista!G91 -> Rimforsa IF – IFK Västervik 3 | B50: =TEXT(HOUR(Matchlista!B91),"00")&":"&TEXT(MINUTE(Matchlista!B91),"00")&"–"&TEXT(HOUR(Matchlista!C91),"00")&":"&TEXT(MINUTE(Matchlista!C91),"00") -> 13:10–13:30 | C50: =Matchlista!D91 -> Sparbanken Spira
A51: =Matchlista!G112&" – "&Matchlista!F112 -> Rimforsa IF – Oskarshamns AIk 2 | B51: =TEXT(HOUR(Matchlista!B112),"00")&":"&TEXT(MINUTE(Matchlista!B112),"00")&"–"&TEXT(HOUR(Matchlista!C112),"00")&":"&TEXT(MINUTE(Matchlista!C112),"00") -> 14:25–14:45 | C51: =Matchlista!D112 -> Ica Maxi
A53: Pojkar 2019
A54: Söderköpings IK 1
A55: Match | B55: Tid | C55: Plan
A56: =Matchlista!F30&" – "&Matchlista!G30 -> Söderköpings IK 1 – Oskarshamns AIk 1 | B56: =TEXT(HOUR(Matchlista!B30),"00")&":"&TEXT(MINUTE(Matchlista!B30),"00")&"–"&TEXT(HOUR(Matchlista!C30),"00")&":"&TEXT(MINUTE(Matchlista!C30),"00") -> 10:40–11:00 | C56: =Matchlista!D30 -> Ica Maxi
A57: =Matchlista!F57&" – "&Matchlista!G57 -> Söderköpings IK 1 – Rimforsa IF | B57: =TEXT(HOUR(Matchlista!B57),"00")&":"&TEXT(MINUTE(Matchlista!B57),"00")&"–"&TEXT(HOUR(Matchlista!C57),"00")&":"&TEXT(MINUTE(Matchlista!C57),"00") -> 11:55–12:15 | C57: =Matchlista!D57 -> Ahlsell
A58: =Matchlista!G98&" – "&Matchlista!F98 -> Söderköpings IK 1 – IFK Västervik 1 | B58: =TEXT(HOUR(Matchlista!B98),"00")&":"&TEXT(MINUTE(Matchlista!B98),"00")&"–"&TEXT(HOUR(Matchlista!C98),"00")&":"&TEXT(MINUTE(Matchlista!C98),"00") -> 13:35–13:55 | C58: =Matchlista!D98 -> Jojjen
A59: =Matchlista!G110&" – "&Matchlista!F110 -> Söderköpings IK 1 – IFK Västervik 3 | B59: =TEXT(HOUR(Matchlista!B110),"00")&":"&TEXT(MINUTE(Matchlista!B110),"00")&"–"&TEXT(HOUR(Matchlista!C110),"00")&":"&TEXT(MINUTE(Matchlista!C110),"00") -> 14:25–14:45 | C59: =Matchlista!D110 -> Ahlsell
A61: Pojkar 2019
A62: Söderköpings IK 2
A63: Match | B63: Tid | C63: Plan
A64: =Matchlista!G43&" – "&Matchlista!F43 -> Söderköpings IK 2 – IFK Västervik 1 | B64: =TEXT(HOUR(Matchlista!B43),"00")&":"&TEXT(MINUTE(Matchlista!B43),"00")&"–"&TEXT(HOUR(Matchlista!C43),"00")&":"&TEXT(MINUTE(Matchlista!C43),"00") -> 11:05–11:25 | C64: =Matchlista!D43 -> Intersport
A65: =Matchlista!G78&" – "&Matchlista!F78 -> Söderköpings IK 2 – IFK Västervik 2 | B65: =TEXT(HOUR(Matchlista!B78),"00")&":"&TEXT(MINUTE(Matchlista!B78),"00")&"–"&TEXT(HOUR(Matchlista!C78),"00")&":"&TEXT(MINUTE(Matchlista!C78),"00") -> 12:45–13:05 | C65: =Matchlista!D78 -> Ica Maxi
A66: =Matchlista!F99&" – "&Matchlista!G99 -> Söderköpings IK 2 – Oskarshamns AIk 2 | B66: =TEXT(HOUR(Matchlista!B99),"00")&":"&TEXT(MINUTE(Matchlista!B99),"00")&"–"&TEXT(HOUR(Matchlista!C99),"00")&":"&TEXT(MINUTE(Matchlista!C99),"00") -> 13:35–13:55 | C66: =Matchlista!D99 -> Intersport
A67: =Matchlista!F113&" – "&Matchlista!G113 -> Söderköpings IK 2 – Oskarshamns AIk 1 | B67: =TEXT(HOUR(Matchlista!B113),"00")&":"&TEXT(MINUTE(Matchlista!B113),"00")&"–"&TEXT(HOUR(Matchlista!C113),"00")&":"&TEXT(MINUTE(Matchlista!C113),"00") -> 14:25–14:45 | C67: =Matchlista!D113 -> Sparbanken Spira

Sheet F19
A1: F19 · Flickor 2019
A3: 12 september 2026 · 5-manna · Tid avser avspark–slutsignal
A5: Flickor 2019
A6: Hultsfreds FK
A7: Match | B7: Tid | C7: Plan
A8: =Matchlista!G22&" – "&Matchlista!F22 -> Hultsfreds FK – Rödsle BK | B8: =TEXT(HOUR(Matchlista!B22),"00")&":"&TEXT(MINUTE(Matchlista!B22),"00")&"–"&TEXT(HOUR(Matchlista!C22),"00")&":"&TEXT(MINUTE(Matchlista!C22),"00") -> 10:15–10:35 | C8: =Matchlista!D22 -> Bilteknik
A9: =Matchlista!F62&" – "&Matchlista!G62 -> Hultsfreds FK – Vimmerby IF | B9: =TEXT(HOUR(Matchlista!B62),"00")&":"&TEXT(MINUTE(Matchlista!B62),"00")&"–"&TEXT(HOUR(Matchlista!C62),"00")&":"&TEXT(MINUTE(Matchlista!C62),"00") -> 11:55–12:15 | C9: =Matchlista!D62 -> Intersport
A10: =Matchlista!F82&" – "&Matchlista!G82 -> Hultsfreds FK – IFK Västervik | B10: =TEXT(HOUR(Matchlista!B82),"00")&":"&TEXT(MINUTE(Matchlista!B82),"00")&"–"&TEXT(HOUR(Matchlista!C82),"00")&":"&TEXT(MINUTE(Matchlista!C82),"00") -> 12:45–13:05 | C10: =Matchlista!D82 -> Sparbanken Spira
A11: =Matchlista!G107&" – "&Matchlista!F107 -> Hultsfreds FK – IF Eksjö Fotboll | B11: =TEXT(HOUR(Matchlista!B107),"00")&":"&TEXT(MINUTE(Matchlista!B107),"00")&"–"&TEXT(HOUR(Matchlista!C107),"00")&":"&TEXT(MINUTE(Matchlista!C107),"00") -> 13:35–13:55 | C11: =Matchlista!D107 -> Jeansbolaget
A13: Flickor 2019
A14: IF Eksjö Fotboll
A15: Match | B15: Tid | C15: Plan
A16: =Matchlista!G26&" – "&Matchlista!F26 -> IF Eksjö Fotboll – IFK Västervik | B16: =TEXT(HOUR(Matchlista!B26),"00")&":"&TEXT(MINUTE(Matchlista!B26),"00")&"–"&TEXT(HOUR(Matchlista!C26),"00")&":"&TEXT(MINUTE(Matchlista!C26),"00") -> 10:15–10:35 | C16: =Matchlista!D26 -> Sparbanken Spira
A17: =Matchlista!G40&" – "&Matchlista!F40 -> IF Eksjö Fotboll – Vimmerby IF | B17: =TEXT(HOUR(Matchlista!B40),"00")&":"&TEXT(MINUTE(Matchlista!B40),"00")&"–"&TEXT(HOUR(Matchlista!C40),"00")&":"&TEXT(MINUTE(Matchlista!C40),"00") -> 11:05–11:25 | C17: =Matchlista!D40 -> Ica Maxi
A18: =Matchlista!F74&" – "&Matchlista!G74 -> IF Eksjö Fotboll – Rödsle BK | B18: =TEXT(HOUR(Matchlista!B74),"00")&":"&TEXT(MINUTE(Matchlista!B74),"00")&"–"&TEXT(HOUR(Matchlista!C74),"00")&":"&TEXT(MINUTE(Matchlista!C74),"00") -> 12:20–12:40 | C18: =Matchlista!D74 -> Yta
A19: =Matchlista!F107&" – "&Matchlista!G107 -> IF Eksjö Fotboll – Hultsfreds FK | B19: =TEXT(HOUR(Matchlista!B107),"00")&":"&TEXT(MINUTE(Matchlista!B107),"00")&"–"&TEXT(HOUR(Matchlista!C107),"00")&":"&TEXT(MINUTE(Matchlista!C107),"00") -> 13:35–13:55 | C19: =Matchlista!D107 -> Jeansbolaget
A21: Flickor 2019
A22: IFK Västervik
A23: Match | B23: Tid | C23: Plan
A24: =Matchlista!F26&" – "&Matchlista!G26 -> IFK Västervik – IF Eksjö Fotboll | B24: =TEXT(HOUR(Matchlista!B26),"00")&":"&TEXT(MINUTE(Matchlista!B26),"00")&"–"&TEXT(HOUR(Matchlista!C26),"00")&":"&TEXT(MINUTE(Matchlista!C26),"00") -> 10:15–10:35 | C24: =Matchlista!D26 -> Sparbanken Spira
A25: =Matchlista!F50&" – "&Matchlista!G50 -> IFK Västervik – Rödsle BK | B25: =TEXT(HOUR(Matchlista!B50),"00")&":"&TEXT(MINUTE(Matchlista!B50),"00")&"–"&TEXT(HOUR(Matchlista!C50),"00")&":"&TEXT(MINUTE(Matchlista!C50),"00") -> 11:30–11:50 | C25: =Matchlista!D50 -> Ica Maxi
A26: =Matchlista!G82&" – "&Matchlista!F82 -> IFK Västervik – Hultsfreds FK | B26: =TEXT(HOUR(Matchlista!B82),"00")&":"&TEXT(MINUTE(Matchlista!B82),"00")&"–"&TEXT(HOUR(Matchlista!C82),"00")&":"&TEXT(MINUTE(Matchlista!C82),"00") -> 12:45–13:05 | C26: =Matchlista!D82 -> Sparbanken Spira
A27: =Matchlista!G106&" – "&Matchlista!F106 -> IFK Västervik – Vimmerby IF | B27: =TEXT(HOUR(Matchlista!B106),"00")&":"&TEXT(MINUTE(Matchlista!B106),"00")&"–"&TEXT(HOUR(Matchlista!C106),"00")&":"&TEXT(MINUTE(Matchlista!C106),"00") -> 14:00–14:20 | C27: =Matchlista!D106 -> Intersport
A29: Flickor 2019
A30: Rödsle BK
A31: Match | B31: Tid | C31: Plan
A32: =Matchlista!F22&" – "&Matchlista!G22 -> Rödsle BK – Hultsfreds FK | B32: =TEXT(HOUR(Matchlista!B22),"00")&":"&TEXT(MINUTE(Matchlista!B22),"00")&"–"&TEXT(HOUR(Matchlista!C22),"00")&":"&TEXT(MINUTE(Matchlista!C22),"00") -> 10:15–10:35 | C32: =Matchlista!D22 -> Bilteknik
A33: =Matchlista!G50&" – "&Matchlista!F50 -> Rödsle BK – IFK Västervik | B33: =TEXT(HOUR(Matchlista!B50),"00")&":"&TEXT(MINUTE(Matchlista!B50),"00")&"–"&TEXT(HOUR(Matchlista!C50),"00")&":"&TEXT(MINUTE(Matchlista!C50),"00") -> 11:30–11:50 | C33: =Matchlista!D50 -> Ica Maxi
A34: =Matchlista!G74&" – "&Matchlista!F74 -> Rödsle BK – IF Eksjö Fotboll | B34: =TEXT(HOUR(Matchlista!B74),"00")&":"&TEXT(MINUTE(Matchlista!B74),"00")&"–"&TEXT(HOUR(Matchlista!C74),"00")&":"&TEXT(MINUTE(Matchlista!C74),"00") -> 12:20–12:40 | C34: =Matchlista!D74 -> Yta
A35: =Matchlista!F86&" – "&Matchlista!G86 -> Rödsle BK – Vimmerby IF | B35: =TEXT(HOUR(Matchlista!B86),"00")&":"&TEXT(MINUTE(Matchlista!B86),"00")&"–"&TEXT(HOUR(Matchlista!C86),"00")&":"&TEXT(MINUTE(Matchlista!C86),"00") -> 13:10–13:30 | C35: =Matchlista!D86 -> Bilteknik
A37: Flickor 2019
A38: Vimmerby IF
A39: Match | B39: Tid | C39: Plan
A40: =Matchlista!F40&" – "&Matchlista!G40 -> Vimmerby IF – IF Eksjö Fotboll | B40: =TEXT(HOUR(Matchlista!B40),"00")&":"&TEXT(MINUTE(Matchlista!B40),"00")&"–"&TEXT(HOUR(Matchlista!C40),"00")&":"&TEXT(MINUTE(Matchlista!C40),"00") -> 11:05–11:25 | C40: =Matchlista!D40 -> Ica Maxi
A41: =Matchlista!G62&" – "&Matchlista!F62 -> Vimmerby IF – Hultsfreds FK | B41: =TEXT(HOUR(Matchlista!B62),"00")&":"&TEXT(MINUTE(Matchlista!B62),"00")&"–"&TEXT(HOUR(Matchlista!C62),"00")&":"&TEXT(MINUTE(Matchlista!C62),"00") -> 11:55–12:15 | C41: =Matchlista!D62 -> Intersport
A42: =Matchlista!G86&" – "&Matchlista!F86 -> Vimmerby IF – Rödsle BK | B42: =TEXT(HOUR(Matchlista!B86),"00")&":"&TEXT(MINUTE(Matchlista!B86),"00")&"–"&TEXT(HOUR(Matchlista!C86),"00")&":"&TEXT(MINUTE(Matchlista!C86),"00") -> 13:10–13:30 | C42: =Matchlista!D86 -> Bilteknik
A43: =Matchlista!F106&" – "&Matchlista!G106 -> Vimmerby IF – IFK Västervik | B43: =TEXT(HOUR(Matchlista!B106),"00")&":"&TEXT(MINUTE(Matchlista!B106),"00")&"–"&TEXT(HOUR(Matchlista!C106),"00")&":"&TEXT(MINUTE(Matchlista!C106),"00") -> 14:00–14:20 | C43: =Matchlista!D106 -> Intersport
