Workbook

Sheet Info
A1: Lathund Bingolotto försäljning - Information
A2: Detta är en hjälp/lathund för att räkna ut hur mycket varje spelare ska betala till laget samt vilket summa som laget ska betala in till föreningen.
A3: - Fyll endast i de gröna cellerna i fliken "Försäljning".
A4: - Fyll i lagets namn, tex. "F2014".
A5: - Fyll i alla spelarnas namn samt antal sålda lotter och kalendrar för varje spelare.
A6: - Summan som respektive spelare ska betala till laget samt summan som laget ska föra över till föreningen är blåmarkerad.
A7: - Vinstsumman för laget (gulmarkerad) behåller laget på sitt lagkonto.
A10: Försäljningspris, vinst samt summa varje spelare ska bidra till föreningen med
B11: Pris [kr/st] | C11: Vinst [kr/st] | D11: Betala [kr/st]
A12: Enkel Bingolott | B12: 100 | C12: 38 | D12: =B12-C12 -> 62
A13: Dubbel Bingolott | B13: 200 | C13: 76 | D13: =B13-C13 -> 124
A14: Trippel Bingolott | B14: 300 | C14: 114 | D14: =B14-C14 -> 186
A15: Kalender | B15: 100 | C15: 50 | D15: =B15-C15 -> 50
A17: Summa till föreningen | B17: 400 | C17: kr/spelare

Sheet Försäljning
A1: Försäljning av Julbingolotter och Julkalendrar 2026 - IBF Örebro Ungdom
A2: Lag: | B2: PFxxxx
B4: Betala till föreningen
A5: Antal spelare i laget [st] | B5: Summa för sålda lotter och julkalendrar [kr] | C5: Summa för antal spelare [kr] | D5: Total summa att föra över till föreningen [kr] | E5: Total vinst för laget [kr]
A6: =COUNTA(A10:A49) -> 1 | B6: =B50*Info!D12+C50*Info!D13+D50*Info!D14+E50*Info!D15 -> 422 | C6: =A6*Info!B17 -> 400 | D6: =B6+C6 -> 822 | E6: =M50 -> 0
B8: Antal sålda Bingolotter och Kalendrar | F8: Betala för Bingolotter och Kalendrar
A9: Spelare | B9: Enkel Bingolotter [st] | C9: Dubbel Bingolotter [st] | D9: Trippel Bingolotter [st] | E9: Julkalendrar [st] | F9: Enkel Bingolotter [kr] | G9: Dubbel Bingolotter [kr] | H9: Trippel Bingolotter [kr] | I9: Julkalendrar [kr] | J9: Totalt [kr] | K9: Vinst för lotter & julkalendrar [kr] | L9: Friköp [kr] | M9: Vinst till laget per spelare [kr] | N9: Summa spelaren ska betala till laget [kr]
A10: Spelare 1 | B10: 1 | C10: 1 | D10: 1 | E10: 1 | F10: =B10*Info!$B$12 -> 100 | G10: =C10*Info!$B$13 -> 200 | H10: =D10*Info!$B$14 -> 300 | I10: =E10*Info!$B$15 -> 100 | J10: =SUM(F10:I10) -> 700 | K10: =B10*Info!$C$12+C10*Info!$C$13+D10*Info!$C$14+E10*Info!$C$15 -> 278 | L10: =IF(ISTEXT(A10),IF(Info!$B$17-Försäljning!K10<0,0,Info!$B$17-Försäljning!K10),0) -> 122 | M10: =(K10+L10)-IF(ISTEXT(A10),Info!$B$17,0) -> 0 | N10: =J10+L10 -> 822
F11: =B11*Info!$B$12 -> 0 | G11: =C11*Info!$B$13 -> 0 | H11: =D11*Info!$B$14 -> 0 | I11: =E11*Info!$B$15 -> 0 | J11: =SUM(F11:I11) -> 0 | K11: =B11*Info!$C$12+C11*Info!$C$13+E11*Info!$C$15 -> 0 | L11: =IF(ISTEXT(A11),IF(Info!$B$17-Försäljning!K11<0,0,Info!$B$17-Försäljning!K11),0) -> 0 | M11: =(K11+L11)-IF(ISTEXT(A11),Info!$B$17,0) -> 0 | N11: =J11+L11 -> 0
F12: =B12*Info!$B$12 -> 0 | G12: =C12*Info!$B$13 -> 0 | H12: =D12*Info!$B$14 -> 0 | I12: =E12*Info!$B$15 -> 0 | J12: =SUM(F12:I12) -> 0 | K12: =B12*Info!$C$12+C12*Info!$C$13+E12*Info!$C$15 -> 0 | L12: =IF(ISTEXT(A12),IF(Info!$B$17-Försäljning!K12<0,0,Info!$B$17-Försäljning!K12),0) -> 0 | M12: =(K12+L12)-IF(ISTEXT(A12),Info!$B$17,0) -> 0 | N12: =J12+L12 -> 0
F13: =B13*Info!$B$12 -> 0 | G13: =C13*Info!$B$13 -> 0 | H13: =D13*Info!$B$14 -> 0 | I13: =E13*Info!$B$15 -> 0 | J13: =SUM(F13:I13) -> 0 | K13: =B13*Info!$C$12+C13*Info!$C$13+E13*Info!$C$15 -> 0 | L13: =IF(ISTEXT(A13),IF(Info!$B$17-Försäljning!K13<0,0,Info!$B$17-Försäljning!K13),0) -> 0 | M13: =(K13+L13)-IF(ISTEXT(A13),Info!$B$17,0) -> 0 | N13: =J13+L13 -> 0
F14: =B14*Info!$B$12 -> 0 | G14: =C14*Info!$B$13 -> 0 | H14: =D14*Info!$B$14 -> 0 | I14: =E14*Info!$B$15 -> 0 | J14: =SUM(F14:I14) -> 0 | K14: =B14*Info!$C$12+C14*Info!$C$13+E14*Info!$C$15 -> 0 | L14: =IF(ISTEXT(A14),IF(Info!$B$17-Försäljning!K14<0,0,Info!$B$17-Försäljning!K14),0) -> 0 | M14: =(K14+L14)-IF(ISTEXT(A14),Info!$B$17,0) -> 0 | N14: =J14+L14 -> 0
F15: =B15*Info!$B$12 -> 0 | G15: =C15*Info!$B$13 -> 0 | H15: =D15*Info!$B$14 -> 0 | I15: =E15*Info!$B$15 -> 0 | J15: =SUM(F15:I15) -> 0 | K15: =B15*Info!$C$12+C15*Info!$C$13+E15*Info!$C$15 -> 0 | L15: =IF(ISTEXT(A15),IF(Info!$B$17-Försäljning!K15<0,0,Info!$B$17-Försäljning!K15),0) -> 0 | M15: =(K15+L15)-IF(ISTEXT(A15),Info!$B$17,0) -> 0 | N15: =J15+L15 -> 0
F16: =B16*Info!$B$12 -> 0 | G16: =C16*Info!$B$13 -> 0 | H16: =D16*Info!$B$14 -> 0 | I16: =E16*Info!$B$15 -> 0 | J16: =SUM(F16:I16) -> 0 | K16: =B16*Info!$C$12+C16*Info!$C$13+E16*Info!$C$15 -> 0 | L16: =IF(ISTEXT(A16),IF(Info!$B$17-Försäljning!K16<0,0,Info!$B$17-Försäljning!K16),0) -> 0 | M16: =(K16+L16)-IF(ISTEXT(A16),Info!$B$17,0) -> 0 | N16: =J16+L16 -> 0
F17: =B17*Info!$B$12 -> 0 | G17: =C17*Info!$B$13 -> 0 | H17: =D17*Info!$B$14 -> 0 | I17: =E17*Info!$B$15 -> 0 | J17: =SUM(F17:I17) -> 0 | K17: =B17*Info!$C$12+C17*Info!$C$13+E17*Info!$C$15 -> 0 | L17: =IF(ISTEXT(A17),IF(Info!$B$17-Försäljning!K17<0,0,Info!$B$17-Försäljning!K17),0) -> 0 | M17: =(K17+L17)-IF(ISTEXT(A17),Info!$B$17,0) -> 0 | N17: =J17+L17 -> 0
F18: =B18*Info!$B$12 -> 0 | G18: =C18*Info!$B$13 -> 0 | H18: =D18*Info!$B$14 -> 0 | I18: =E18*Info!$B$15 -> 0 | J18: =SUM(F18:I18) -> 0 | K18: =B18*Info!$C$12+C18*Info!$C$13+E18*Info!$C$15 -> 0 | L18: =IF(ISTEXT(A18),IF(Info!$B$17-Försäljning!K18<0,0,Info!$B$17-Försäljning!K18),0) -> 0 | M18: =(K18+L18)-IF(ISTEXT(A18),Info!$B$17,0) -> 0 | N18: =J18+L18 -> 0
F19: =B19*Info!$B$12 -> 0 | G19: =C19*Info!$B$13 -> 0 | H19: =D19*Info!$B$14 -> 0 | I19: =E19*Info!$B$15 -> 0 | J19: =SUM(F19:I19) -> 0 | K19: =B19*Info!$C$12+C19*Info!$C$13+E19*Info!$C$15 -> 0 | L19: =IF(ISTEXT(A19),IF(Info!$B$17-Försäljning!K19<0,0,Info!$B$17-Försäljning!K19),0) -> 0 | M19: =(K19+L19)-IF(ISTEXT(A19),Info!$B$17,0) -> 0 | N19: =J19+L19 -> 0
F20: =B20*Info!$B$12 -> 0 | G20: =C20*Info!$B$13 -> 0 | H20: =D20*Info!$B$14 -> 0 | I20: =E20*Info!$B$15 -> 0 | J20: =SUM(F20:I20) -> 0 | K20: =B20*Info!$C$12+C20*Info!$C$13+E20*Info!$C$15 -> 0 | L20: =IF(ISTEXT(A20),IF(Info!$B$17-Försäljning!K20<0,0,Info!$B$17-Försäljning!K20),0) -> 0 | M20: =(K20+L20)-IF(ISTEXT(A20),Info!$B$17,0) -> 0 | N20: =J20+L20 -> 0
F21: =B21*Info!$B$12 -> 0 | G21: =C21*Info!$B$13 -> 0 | H21: =D21*Info!$B$14 -> 0 | I21: =E21*Info!$B$15 -> 0 | J21: =SUM(F21:I21) -> 0 | K21: =B21*Info!$C$12+C21*Info!$C$13+E21*Info!$C$15 -> 0 | L21: =IF(ISTEXT(A21),IF(Info!$B$17-Försäljning!K21<0,0,Info!$B$17-Försäljning!K21),0) -> 0 | M21: =(K21+L21)-IF(ISTEXT(A21),Info!$B$17,0) -> 0 | N21: =J21+L21 -> 0
F22: =B22*Info!$B$12 -> 0 | G22: =C22*Info!$B$13 -> 0 | H22: =D22*Info!$B$14 -> 0 | I22: =E22*Info!$B$15 -> 0 | J22: =SUM(F22:I22) -> 0 | K22: =B22*Info!$C$12+C22*Info!$C$13+E22*Info!$C$15 -> 0 | L22: =IF(ISTEXT(A22),IF(Info!$B$17-Försäljning!K22<0,0,Info!$B$17-Försäljning!K22),0) -> 0 | M22: =(K22+L22)-IF(ISTEXT(A22),Info!$B$17,0) -> 0 | N22: =J22+L22 -> 0
... F49: =B49*Info!$B$12 -> 0 | G49: =C49*Info!$B$13 -> 0 | H49: =D49*Info!$B$14 -> 0 | I49: =E49*Info!$B$15 -> 0 | J49: =SUM(F49:I49) -> 0 | K49: =B49*Info!$C$12+C49*Info!$C$13+E49*Info!$C$15 -> 0 | L49: =IF(ISTEXT(A49),IF(Info!$B$17-Försäljning!K49<0,0,Info!$B$17-Försäljning!K49),0) -> 0 | M49: =(K49+L49)-IF(ISTEXT(A49),Info!$B$17,0) -> 0 | N49: =J49+L49 -> 0
A50: Totalt | B50: =SUM(B10:B49) -> 1 | C50: =SUM(C10:C49) -> 1 | D50: =SUM(D10:D49) -> 1 | E50: =SUM(E10:E49) -> 1 | F50: =SUM(F10:F49) -> 100 | G50: =SUM(G10:G49) -> 200 | H50: =SUM(H10:H49) -> 300 | I50: =SUM(I10:I49) -> 100 | ... N50: =SUM(N10:N49) -> 822
