Workbook

Sheet Veckoschema
A1: Halltec – veckoschema
A2: Tid | B2: Måndag | C2: Tisdag | D2: Onsdag | E2: Torsdag | F2: Fredag
A3: 16:30-17:20 | B3: U8 | C3: U10 | D3: U9 | E3: U8 | F3: U16 region
A4: 17:30-18:20 | B4: F10/12 | C4: U9 | D4: U10 | E4: U11 | F4: U10
A5: 18:30-19:20 | B5: U12 | C5: U11 | D5: U11 | E5: U12 | F5: F10/12
A6: 19:30-20:20 | B6: U13 | C6: U14 | D6: U13 | E6: U14 | F6: U13
A7: 20:30-21:20 | B7: U16 region | C7: U15/16 | D7: U14 | E7: J18 | F7: STÄNGT
A8: 21:30-22:20 | B8: J18 | C8: J20 div 1 | E8: J20 region vid match | F8: STÄNGT
A10: Falu Express – veckoschema
A11: Tid | B11: Måndag | C11: Tisdag | D11: Onsdag | E11: Torsdag | F11: Fredag
A12: 16:00-16:50 | F12: J18
A13: 17:00-17:50 | D13: J20 region | E13: U16 Region | F13: J20 Region
A14: 18:00-18:50 | B14: U15/16 | C14: Match A-lag tränar om | D14: J20 div 1 | E14: J20 Div 1 | F14: Match/ J20 Div 1
A15: 19:00-19:50 | B15: A-lag | C15: Match de inte har match | D15: J18 | E15: A-lag | F15: Match
A16: 20:00-20:50 | B16: J20 Region | C16: Match | D16: U15/16 | E16: Reservtid/ U15/16 vid matchfritt | F16: Match
A17: 21:00-21:50 | B17: Ockra | C17: Reservtid | D17: Ockra | E17: Reservtid/ j20 reg matchfritt | F17: -
A18: 22:00-22:50

Sheet Veckoschema innan bandyis
A1: Halltec – veckoschema
A2: Tid | B2: Måndag | C2: Tisdag | D2: Onsdag | E2: Torsdag | F2: Fredag
A3: 16:30-17:20 | B3: U8 | C3: U10 | D3: U9 | E3: U12 | F3: U16 region
A4: 17:30-18:20 | B4: F10/12 | C4: U13 | D4: U10 | E4: BANDY | F4: U11
A5: 18:30-19:20 | B5: BANDY | C5: U15/16 | D5: U11 | E5: BANDY | F5: BANDY
A6: 19:30-20:20 | B6: BANDY | C6: BANDY | D6: U13 | E6: U14 | F6: BANDY
A7: 20:30-21:20 | B7: U16 region | C7: BANDY | D7: U14 | E7: BANDY | F7: STÄNGT
A8: 21:30-22:20 | B8: J18 | C8: J20 div 1 | D8: J20 region | E8: BANDY | F8: STÄNGT
A10: Falu Express – veckoschema
A11: Tid | B11: Måndag | C11: Tisdag | D11: Onsdag | E11: Torsdag | F11: Fredag
A12: 16:00-16:50 | F12: J18
A13: 17:00-17:50 | D13: J20 div 1 | E13: U16 Region | F13: J20 Region
A14: 18:00-18:50 | B14: U15/16 | C14: Match A-lag tränar om | D14: U12 | E14: J20 div 1 | F14: Match
A15: 19:00-19:50 | B15: A-lag | C15: Match de inte har match | D15: J18 | E15: A-lag | F15: Match
A16: 20:00-20:50 | B16: J20 Region | C16: Match | D16: U15/16 | F16: Match
A17: 21:00-21:50 | B17: Ockra | D17: Ockra | F17: -
A18: 22:00-22:50 | F18: Matcher Ockra
F19: 16/10, 30/10, 20/11, 1/12, 4/12, 18/12, 8/1, 22/1, 5/2
F21: Falu IF matcher 11/12, 18/12, 12/2, 19/2, 26/2

Sheet Helg
A1: Tid | B1: Halltec | C1: Falu Express
A2: Lör 08:00-08:50 | C2: Veteraner
A3: Lör 09:00-10:15 | C3: Hockeyskolan
A4: Lör 10:30-11:20
A5: Lör 11:00-12:20
A6: Lör 13:30-14:50
A7: Lör 15:00-15:50
A8: Lör 16:00-16:50
A9: Lör 17:30-19:30
A11: Sön 08:00-08:50
A12: Sön 09:00-10:15
A13: Sön 10:30-11:20
A14: Sön 11:00-12:20
A15: Sön 13:30-14:50
A16: Sön 15:00-15:50
A17: 16.30-17.20 | B17: U12 | C17: U14 16.00-16.50
A18: 17.30-19.00 | B18: U 16 reg | C18: A-lag (80 min) 17:00-18:20
A19: sön 19.30 | B19: dam rek.

Sheet Helg innan bandy öppnat
A1: Tid | B1: Halltec | C1: Falu Express
A2: Lör 08:00-08:50 | C2: Veteraner
A3: Lör 09:00-10:15 | C3: Hockeyskolan
A4: Lör 10:30-11:20
A5: Lör 11:00-12:20
A6: Lör 13:30-14:50
A7: Lör 15:00-15:50
A8: Lör 16:00-16:50
A9: Lör 17:30-19:30
A11: Sön 08:00-08:50
A12: Sön 09:00-10:15
A13: Sön 10:30-11:20
A14: Sön 11:00-12:20
A15: Sön 13:30-14:50
A16: Sön 15:00-15:50
A17: Sön 16:00-16:50 | B17: U16 reg 16-17.20 | C17: U14 16.00-16.50
A18: Sön 17:30-19:30 | B18: BANDY | C18: A-lag (80 min) 17.00-18.20
A19: Sön 19.30-20.20 | B19: dam rek.

Sheet Pass per lag när bandy öppnat
A1: Antal träningspass per lag – Veckoschema och Helg
A2: Baserat på flikarna Veckoschema och Helg. Matchnoteringar, reservtid, isvård, stängt och bandy är exkluderade.
A4: Lag | B4: Halltec | C4: Falu Express | D4: Vardagar | E4: Helg | F4: Totalt | G4: Ska ha
A5: Hockeyskolan | B5: =COUNTIF(Veckoschema!B$3:F$8,"Hockeyskolan")+COUNTIF(Helg!B$2:B$18,"Hockeyskolan") -> 0 | C5: =COUNTIF(Veckoschema!B$12:F$18,"Hockeyskolan")+COUNTIF(Helg!C$2:C$18,"Hockeyskolan") -> 1 | D5: =COUNTIF(Veckoschema!B$3:F$8,"Hockeyskolan")+COUNTIF(Veckoschema!B$12:F$18,"Hockeyskolan") -> 0 | E5: =COUNTIF(Helg!B$2:C$18,"Hockeyskolan") -> 1 | F5: =B5+C5 -> 1 | G5: 1
A6: U8 | B6: =COUNTIF(Veckoschema!B$3:F$8,"U8")+COUNTIF(Helg!B$2:B$18,"U8") -> 2 | C6: =COUNTIF(Veckoschema!B$12:F$18,"U8")+COUNTIF(Helg!C$2:C$18,"U8") -> 0 | D6: =COUNTIF(Veckoschema!B$3:F$8,"U8")+COUNTIF(Veckoschema!B$12:F$18,"U8") -> 2 | E6: =COUNTIF(Helg!B$2:C$18,"U8") -> 0 | F6: =B6+C6 -> 2 | G6: 1-2
A7: U9 | B7: =COUNTIF(Veckoschema!B$3:F$8,"U9")+COUNTIF(Helg!B$2:B$18,"U9") -> 2 | C7: =COUNTIF(Veckoschema!B$12:F$18,"U9")+COUNTIF(Helg!C$2:C$18,"U9") -> 0 | D7: =COUNTIF(Veckoschema!B$3:F$8,"U9")+COUNTIF(Veckoschema!B$12:F$18,"U9") -> 2 | E7: =COUNTIF(Helg!B$2:C$18,"U9") -> 0 | F7: =B7+C7 -> 2 | G7: 1-2
A8: U10 | B8: =COUNTIF(Veckoschema!B$3:F$8,"U10")+COUNTIF(Helg!B$2:B$18,"U10") -> 3 | C8: =COUNTIF(Veckoschema!B$12:F$18,"U10")+COUNTIF(Helg!C$2:C$18,"U10") -> 0 | D8: =COUNTIF(Veckoschema!B$3:F$8,"U10")+COUNTIF(Veckoschema!B$12:F$18,"U10") -> 3 | E8: =COUNTIF(Helg!B$2:C$18,"U10") -> 0 | F8: =B8+C8 -> 3 | G8: 2-3
A9: U11 | B9: =COUNTIF(Veckoschema!B$3:F$8,"U11")+COUNTIF(Helg!B$2:B$18,"U11") -> 3 | C9: =COUNTIF(Veckoschema!B$12:F$18,"U11")+COUNTIF(Helg!C$2:C$18,"U11") -> 0 | D9: =COUNTIF(Veckoschema!B$3:F$8,"U11")+COUNTIF(Veckoschema!B$12:F$18,"U11") -> 3 | E9: =COUNTIF(Helg!B$2:C$18,"U11") -> 0 | F9: =B9+C9 -> 3 | G9: 2-3
A10: U12 | B10: =COUNTIF(Veckoschema!B$3:F$8,"U12")+COUNTIF(Helg!B$2:B$18,"U12") -> 3 | C10: =COUNTIF(Veckoschema!B$12:F$18,"U12")+COUNTIF(Helg!C$2:C$18,"U12") -> 0 | D10: =COUNTIF(Veckoschema!B$3:F$8,"U12")+COUNTIF(Veckoschema!B$12:F$18,"U12") -> 2 | E10: =COUNTIF(Helg!B$2:C$18,"U12") -> 1 | F10: =B10+C10 -> 3 | G10: 2-3
A11: U13 | B11: =COUNTIF(Veckoschema!B$3:F$8,"U13")+COUNTIF(Helg!B$2:B$18,"U13") -> 3 | C11: =COUNTIF(Veckoschema!B$12:F$18,"U13")+COUNTIF(Helg!C$2:C$18,"U13") -> 0 | D11: =COUNTIF(Veckoschema!B$3:F$8,"U13")+COUNTIF(Veckoschema!B$12:F$18,"U13") -> 3 | E11: =COUNTIF(Helg!B$2:C$18,"U13") -> 0 | F11: =B11+C11 -> 3 | G11: 3-4
A12: U14 | B12: =COUNTIF(Veckoschema!B$3:F$8,"U14")+COUNTIF(Helg!B$2:B$18,"U14") -> 3 | C12: =COUNTIF(Veckoschema!B$12:F$18,"U14")+COUNTIF(Helg!C$2:C$18,"U14") -> 0 | D12: =COUNTIF(Veckoschema!B$3:F$8,"U14")+COUNTIF(Veckoschema!B$12:F$18,"U14") -> 3 | E12: =COUNTIF(Helg!B$2:C$18,"U14") -> 0 | F12: =B12+C12 -> 3 | G12: 3-4
A13: U15/16 | B13: =COUNTIF(Veckoschema!B$3:F$8,"U15/16")+COUNTIF(Helg!B$2:B$18,"U15/16") -> 1 | C13: =COUNTIF(Veckoschema!B$12:F$18,"U15/16")+COUNTIF(Helg!C$2:C$18,"U15/16") -> 2 | D13: =COUNTIF(Veckoschema!B$3:F$8,"U15/16")+COUNTIF(Veckoschema!B$12:F$18,"U15/16") -> 3 | E13: =COUNTIF(Helg!B$2:C$18,"U15/16") -> 0 | F13: =B13+C13 -> 3 | G13: 3-4
A14: U16 Region | B14: =COUNTIF(Veckoschema!B$3:F$8,"U16 region")+COUNTIF(Helg!B$2:B$18,"U 16 reg") -> 3 | C14: =COUNTIF(Veckoschema!B$12:F$18,"U16 region")+COUNTIF(Helg!C$2:C$18,"U 16 reg") -> 1 | D14: =COUNTIF(Veckoschema!B$3:F$8,"U16 region")+COUNTIF(Veckoschema!B$12:F$18,"U16 region") -> 3 | E14: =COUNTIF(Helg!B$2:C$18,"U 16 reg") -> 1 | F14: =B14+C14 -> 4 | G14: 3-4
A15: F10/12 | B15: =COUNTIF(Veckoschema!B$3:F$8,"F10/12")+COUNTIF(Helg!B$2:B$18,"F10/12") -> 2 | C15: =COUNTIF(Veckoschema!B$12:F$18,"F10/12")+COUNTIF(Helg!C$2:C$18,"F10/12") -> 0 | D15: =COUNTIF(Veckoschema!B$3:F$8,"F10/12")+COUNTIF(Veckoschema!B$12:F$18,"F10/12") -> 2 | E15: =COUNTIF(Helg!B$2:C$18,"F10/12") -> 0 | F15: =B15+C15 -> 2 | G15: 1-2
A16: J18 | B16: =COUNTIF(Veckoschema!B$3:F$8,"J18*")+COUNTIF(Helg!B$2:B$18,"J18*") -> 2 | C16: =COUNTIF(Veckoschema!B$12:F$18,"J18*")+COUNTIF(Helg!C$2:C$18,"J18*") -> 2 | D16: =COUNTIF(Veckoschema!B$3:F$8,"J18*")+COUNTIF(Veckoschema!B$12:F$18,"J18*") -> 4 | E16: =COUNTIF(Helg!B$2:C$18,"J18*") -> 0 | F16: =B16+C16 -> 4 | G16: 3-4
A17: J20 Region | B17: =COUNTIF(Veckoschema!B$3:F$8,"J20 reg*")+COUNTIF(Helg!B$2:B$18,"J20 reg*") -> 1 | C17: =COUNTIF(Veckoschema!B$12:F$18,"J20 reg*")+COUNTIF(Helg!C$2:C$18,"J20 reg*") -> 3 | D17: =COUNTIF(Veckoschema!B$3:F$8,"J20 reg*")+COUNTIF(Veckoschema!B$12:F$18,"J20 reg*") -> 4 | E17: =COUNTIF(Helg!B$2:C$18,"J20 reg*") -> 0 | F17: =B17+C17 -> 4 | G17: 3-4
A18: J20 Div 1 | B18: =COUNTIF(Veckoschema!B$3:F$8,"J20 div 1")+COUNTIF(Helg!B$2:B$18,"J20 div 1") -> 1 | C18: =COUNTIF(Veckoschema!B$12:F$18,"J20 div 1")+COUNTIF(Helg!C$2:C$18,"J20 div 1") -> 2 | D18: =COUNTIF(Veckoschema!B$3:F$8,"J20 div 1")+COUNTIF(Veckoschema!B$12:F$18,"J20 div 1") -> 3 | E18: =COUNTIF(Helg!B$2:C$18,"J20 div 1") -> 0 | F18: =B18+C18 -> 3 | G18: 3-4
A19: A-lag | B19: =COUNTIF(Veckoschema!B$3:F$8,"A-lag*")+COUNTIF(Helg!B$2:B$18,"A-lag*") -> 0 | C19: =COUNTIF(Veckoschema!B$12:F$18,"A-lag*")+COUNTIF(Helg!C$2:C$18,"A-lag*") -> 3 | D19: =COUNTIF(Veckoschema!B$3:F$8,"A-lag*")+COUNTIF(Veckoschema!B$12:F$18,"A-lag*") -> 2 | E19: =COUNTIF(Helg!B$2:C$18,"A-lag*") -> 1 | F19: =B19+C19 -> 3 | G19: 3-4
A20: Ockra | B20: =COUNTIF(Veckoschema!B$3:F$8,"Ockra")+COUNTIF(Helg!B$2:B$18,"Ockra") -> 0 | C20: =COUNTIF(Veckoschema!B$12:F$18,"Ockra")+COUNTIF(Helg!C$2:C$18,"Ockra") -> 2 | D20: =COUNTIF(Veckoschema!B$3:F$8,"Ockra")+COUNTIF(Veckoschema!B$12:F$18,"Ockra") -> 2 | E20: =COUNTIF(Helg!B$2:C$18,"Ockra") -> 0 | F20: =B20+C20 -> 2 | G20: 2
A21: Veteraner | B21: =COUNTIF(Veckoschema!B$3:F$8,"Veteraner")+COUNTIF(Helg!B$2:B$18,"Veteraner") -> 0 | C21: =COUNTIF(Veckoschema!B$12:F$18,"Veteraner")+COUNTIF(Helg!C$2:C$18,"Veteraner") -> 1 | D21: =COUNTIF(Veckoschema!B$3:F$8,"Veteraner")+COUNTIF(Veckoschema!B$12:F$18,"Veteraner") -> 0 | E21: =COUNTIF(Helg!B$2:C$18,"Veteraner") -> 1 | F21: =B21+C21 -> 1 | G21: 1
A22: Dam rekreation | B22: =COUNTIF(Veckoschema!B$3:F$8,"Dam rekreation*")+COUNTIF(Helg!B$2:B$18,"Dam rekreation*") -> 0 | C22: =COUNTIF(Veckoschema!B$12:F$18,"Dam rekreation*")+COUNTIF(Helg!C$2:C$18,"Dam rekreation*") -> 0 | D22: =COUNTIF(Veckoschema!B$3:F$8,"Dam rekreation*")+COUNTIF(Veckoschema!B$12:F$18,"Dam rekreation*") -> 0 | E22: =COUNTIF(Helg!B$2:C$18,"Dam rekreation*") -> 0 | F22: =B22+C22 -> 0 | G22: 1
A23: Totalt | B23: =SUM(B5:B22) -> 29 | C23: =SUM(C5:C22) -> 17 | D23: =SUM(D5:D22) -> 41 | E23: =SUM(E5:E22) -> 5 | F23: =SUM(F5:F22) -> 46

Sheet Pass per lag innan bandy öppnat
A1: Antal träningspass per lag – innan bandyisen öppnat
A2: Baserat på flikarna Veckoschema innan bandyis och Helg innan bandy öppnat. Matchnoteringar, reservtid, isvård, stängt och bandy är exkluderade.
A4: Lag | B4: Halltec | C4: Falu Express | D4: Vardagar | E4: Helg | F4: Totalt | G4: Ska ha
A5: Hockeyskolan | B5: =COUNTIF('Veckoschema innan bandyis'!B$3:F$8,"Hockeyskolan")+COUNTIF('Helg innan bandy öppnat'!B$2:B$19,"Hockeyskolan") -> 0 | C5: =COUNTIF('Veckoschema innan bandyis'!B$12:F$18,"Hockeyskolan")+COUNTIF('Helg innan bandy öppnat'!C$2:C$19,"Hockeyskolan") -> 1 | D5: =COUNTIF('Veckoschema innan bandyis'!B$3:F$8,"Hockeyskolan")+COUNTIF('Veckoschema innan bandyis'!B$12:F$18,"Hockeyskolan") -> 0 | E5: =COUNTIF('Helg innan bandy öppnat'!B$2:C$19,"Hockeyskolan") -> 1 | F5: =B5+C5 -> 1 | G5: 1
A6: U8 | B6: =COUNTIF('Veckoschema innan bandyis'!B$3:F$8,"U8")+COUNTIF('Helg innan bandy öppnat'!B$2:B$19,"U8") -> 1 | C6: =COUNTIF('Veckoschema innan bandyis'!B$12:F$18,"U8")+COUNTIF('Helg innan bandy öppnat'!C$2:C$19,"U8") -> 0 | D6: =COUNTIF('Veckoschema innan bandyis'!B$3:F$8,"U8")+COUNTIF('Veckoschema innan bandyis'!B$12:F$18,"U8") -> 1 | E6: =COUNTIF('Helg innan bandy öppnat'!B$2:C$19,"U8") -> 0 | F6: =B6+C6 -> 1 | G6: 1-2
A7: U9 | B7: =COUNTIF('Veckoschema innan bandyis'!B$3:F$8,"U9")+COUNTIF('Helg innan bandy öppnat'!B$2:B$19,"U9") -> 1 | C7: =COUNTIF('Veckoschema innan bandyis'!B$12:F$18,"U9")+COUNTIF('Helg innan bandy öppnat'!C$2:C$19,"U9") -> 0 | D7: =COUNTIF('Veckoschema innan bandyis'!B$3:F$8,"U9")+COUNTIF('Veckoschema innan bandyis'!B$12:F$18,"U9") -> 1 | E7: =COUNTIF('Helg innan bandy öppnat'!B$2:C$19,"U9") -> 0 | F7: =B7+C7 -> 1 | G7: 1-2
A8: U10 | B8: =COUNTIF('Veckoschema innan bandyis'!B$3:F$8,"U10")+COUNTIF('Helg innan bandy öppnat'!B$2:B$19,"U10") -> 2 | C8: =COUNTIF('Veckoschema innan bandyis'!B$12:F$18,"U10")+COUNTIF('Helg innan bandy öppnat'!C$2:C$19,"U10") -> 0 | D8: =COUNTIF('Veckoschema innan bandyis'!B$3:F$8,"U10")+COUNTIF('Veckoschema innan bandyis'!B$12:F$18,"U10") -> 2 | E8: =COUNTIF('Helg innan bandy öppnat'!B$2:C$19,"U10") -> 0 | F8: =B8+C8 -> 2 | G8: 2-3
A9: U11 | B9: =COUNTIF('Veckoschema innan bandyis'!B$3:F$8,"U11")+COUNTIF('Helg innan bandy öppnat'!B$2:B$19,"U11") -> 2 | C9: =COUNTIF('Veckoschema innan bandyis'!B$12:F$18,"U11")+COUNTIF('Helg innan bandy öppnat'!C$2:C$19,"U11") -> 0 | D9: =COUNTIF('Veckoschema innan bandyis'!B$3:F$8,"U11")+COUNTIF('Veckoschema innan bandyis'!B$12:F$18,"U11") -> 2 | E9: =COUNTIF('Helg innan bandy öppnat'!B$2:C$19,"U11") -> 0 | F9: =B9+C9 -> 2 | G9: 2-3
A10: U12 | B10: =COUNTIF('Veckoschema innan bandyis'!B$3:F$8,"U12")+COUNTIF('Helg innan bandy öppnat'!B$2:B$19,"u12") -> 1 | C10: =COUNTIF('Veckoschema innan bandyis'!B$12:F$18,"U12")+COUNTIF('Helg innan bandy öppnat'!C$2:C$19,"u12") -> 1 | D10: =COUNTIF('Veckoschema innan bandyis'!B$3:F$8,"U12")+COUNTIF('Veckoschema innan bandyis'!B$12:F$18,"U12") -> 2 | E10: =COUNTIF('Helg innan bandy öppnat'!B$2:C$19,"u12") -> 0 | F10: =B10+C10 -> 2 | G10: 2-3
A11: U13 | B11: =COUNTIF('Veckoschema innan bandyis'!B$3:F$8,"U13")+COUNTIF('Helg innan bandy öppnat'!B$2:B$19,"U13") -> 2 | C11: =COUNTIF('Veckoschema innan bandyis'!B$12:F$18,"U13")+COUNTIF('Helg innan bandy öppnat'!C$2:C$19,"U13") -> 0 | D11: =COUNTIF('Veckoschema innan bandyis'!B$3:F$8,"U13")+COUNTIF('Veckoschema innan bandyis'!B$12:F$18,"U13") -> 2 | E11: =COUNTIF('Helg innan bandy öppnat'!B$2:C$19,"U13") -> 0 | F11: =B11+C11 -> 2 | G11: 3-4
A12: U14 | B12: =COUNTIF('Veckoschema innan bandyis'!B$3:F$8,"U14")+COUNTIF('Helg innan bandy öppnat'!B$2:B$19,"U14") -> 2 | C12: =COUNTIF('Veckoschema innan bandyis'!B$12:F$18,"U14")+COUNTIF('Helg innan bandy öppnat'!C$2:C$19,"U14") -> 0 | D12: =COUNTIF('Veckoschema innan bandyis'!B$3:F$8,"U14")+COUNTIF('Veckoschema innan bandyis'!B$12:F$18,"U14") -> 2 | E12: =COUNTIF('Helg innan bandy öppnat'!B$2:C$19,"U14") -> 0 | F12: =B12+C12 -> 2 | G12: 3-4
A13: U15/16 | B13: =COUNTIF('Veckoschema innan bandyis'!B$3:F$8,"U15/16")+COUNTIF('Helg innan bandy öppnat'!B$2:B$19,"U15/16") -> 1 | C13: =COUNTIF('Veckoschema innan bandyis'!B$12:F$18,"U15/16")+COUNTIF('Helg innan bandy öppnat'!C$2:C$19,"U15/16") -> 2 | D13: =COUNTIF('Veckoschema innan bandyis'!B$3:F$8,"U15/16")+COUNTIF('Veckoschema innan bandyis'!B$12:F$18,"U15/16") -> 3 | E13: =COUNTIF('Helg innan bandy öppnat'!B$2:C$19,"U15/16") -> 0 | F13: =B13+C13 -> 3 | G13: 3-4
A14: U16 Region | B14: =COUNTIF('Veckoschema innan bandyis'!B$3:F$8,"U16 region")+COUNTIF('Helg innan bandy öppnat'!B$2:B$19,"U16 region") -> 2 | C14: =COUNTIF('Veckoschema innan bandyis'!B$12:F$18,"U16 region")+COUNTIF('Helg innan bandy öppnat'!C$2:C$19,"U16 region") -> 1 | D14: =COUNTIF('Veckoschema innan bandyis'!B$3:F$8,"U16 region")+COUNTIF('Veckoschema innan bandyis'!B$12:F$18,"U16 region") -> 3 | E14: =COUNTIF('Helg innan bandy öppnat'!B$2:C$19,"U16 region") -> 0 | F14: =B14+C14 -> 3 | G14: 3-4
A15: F10/12 | B15: =COUNTIF('Veckoschema innan bandyis'!B$3:F$8,"F10/12")+COUNTIF('Helg innan bandy öppnat'!B$2:B$19,"F10/12") -> 1 | C15: =COUNTIF('Veckoschema innan bandyis'!B$12:F$18,"F10/12")+COUNTIF('Helg innan bandy öppnat'!C$2:C$19,"F10/12") -> 0 | D15: =COUNTIF('Veckoschema innan bandyis'!B$3:F$8,"F10/12")+COUNTIF('Veckoschema innan bandyis'!B$12:F$18,"F10/12") -> 1 | E15: =COUNTIF('Helg innan bandy öppnat'!B$2:C$19,"F10/12") -> 0 | F15: =B15+C15 -> 1 | G15: 1-2
A16: J18 | B16: =COUNTIF('Veckoschema innan bandyis'!B$3:F$8,"J18*")+COUNTIF('Helg innan bandy öppnat'!B$2:B$19,"J18*") -> 1 | C16: =COUNTIF('Veckoschema innan bandyis'!B$12:F$18,"J18*")+COUNTIF('Helg innan bandy öppnat'!C$2:C$19,"J18*") -> 2 | D16: =COUNTIF('Veckoschema innan bandyis'!B$3:F$8,"J18*")+COUNTIF('Veckoschema innan bandyis'!B$12:F$18,"J18*") -> 3 | E16: =COUNTIF('Helg innan bandy öppnat'!B$2:C$19,"J18*") -> 0 | F16: =B16+C16 -> 3 | G16: 3-4
A17: J20 Region | B17: =COUNTIF('Veckoschema innan bandyis'!B$3:F$8,"J20 region")+COUNTIF('Helg innan bandy öppnat'!B$2:B$19,"J20 region") -> 1 | C17: =COUNTIF('Veckoschema innan bandyis'!B$12:F$18,"J20 region")+COUNTIF('Helg innan bandy öppnat'!C$2:C$19,"J20 region") -> 2 | D17: =COUNTIF('Veckoschema innan bandyis'!B$3:F$8,"J20 region")+COUNTIF('Veckoschema innan bandyis'!B$12:F$18,"J20 region") -> 3 | E17: =COUNTIF('Helg innan bandy öppnat'!B$2:C$19,"J20 region") -> 0 | F17: =B17+C17 -> 3 | G17: 3-4
A18: J20 Div 1 | B18: =COUNTIF('Veckoschema innan bandyis'!B$3:F$8,"J20 div 1")+COUNTIF('Helg innan bandy öppnat'!B$2:B$19,"J20 div 1") -> 1 | C18: =COUNTIF('Veckoschema innan bandyis'!B$12:F$18,"J20 div 1")+COUNTIF('Helg innan bandy öppnat'!C$2:C$19,"J20 div 1") -> 2 | D18: =COUNTIF('Veckoschema innan bandyis'!B$3:F$8,"J20 div 1")+COUNTIF('Veckoschema innan bandyis'!B$12:F$18,"J20 div 1") -> 3 | E18: =COUNTIF('Helg innan bandy öppnat'!B$2:C$19,"J20 div 1") -> 0 | F18: =B18+C18 -> 3 | G18: 3-4
A19: A-lag | B19: =COUNTIF('Veckoschema innan bandyis'!B$3:F$8,"A-lag*")+COUNTIF('Helg innan bandy öppnat'!B$2:B$19,"A-lag*") -> 0 | C19: =COUNTIF('Veckoschema innan bandyis'!B$12:F$18,"A-lag*")+COUNTIF('Helg innan bandy öppnat'!C$2:C$19,"A-lag*") -> 3 | D19: =COUNTIF('Veckoschema innan bandyis'!B$3:F$8,"A-lag*")+COUNTIF('Veckoschema innan bandyis'!B$12:F$18,"A-lag*") -> 2 | E19: =COUNTIF('Helg innan bandy öppnat'!B$2:C$19,"A-lag*") -> 1 | F19: =B19+C19 -> 3 | G19: 3-4
A20: Ockra | B20: =COUNTIF('Veckoschema innan bandyis'!B$3:F$8,"Ockra")+COUNTIF('Helg innan bandy öppnat'!B$2:B$19,"Ockra") -> 0 | C20: =COUNTIF('Veckoschema innan bandyis'!B$12:F$18,"Ockra")+COUNTIF('Helg innan bandy öppnat'!C$2:C$19,"Ockra") -> 2 | D20: =COUNTIF('Veckoschema innan bandyis'!B$3:F$8,"Ockra")+COUNTIF('Veckoschema innan bandyis'!B$12:F$18,"Ockra") -> 2 | E20: =COUNTIF('Helg innan bandy öppnat'!B$2:C$19,"Ockra") -> 0 | F20: =B20+C20 -> 2 | G20: 2
A21: Veteraner | B21: =COUNTIF('Veckoschema innan bandyis'!B$3:F$8,"Veteraner")+COUNTIF('Helg innan bandy öppnat'!B$2:B$19,"Veteraner") -> 0 | C21: =COUNTIF('Veckoschema innan bandyis'!B$12:F$18,"Veteraner")+COUNTIF('Helg innan bandy öppnat'!C$2:C$19,"Veteraner") -> 1 | D21: =COUNTIF('Veckoschema innan bandyis'!B$3:F$8,"Veteraner")+COUNTIF('Veckoschema innan bandyis'!B$12:F$18,"Veteraner") -> 0 | E21: =COUNTIF('Helg innan bandy öppnat'!B$2:C$19,"Veteraner") -> 1 | F21: =B21+C21 -> 1 | G21: 1
A22: Dam rekreation | B22: =COUNTIF('Veckoschema innan bandyis'!B$3:F$8,"Dam rekreation*")+COUNTIF('Helg innan bandy öppnat'!B$2:B$19,"Dam rekreation*") -> 0 | C22: =COUNTIF('Veckoschema innan bandyis'!B$12:F$18,"Dam rekreation*")+COUNTIF('Helg innan bandy öppnat'!C$2:C$19,"Dam rekreation*") -> 0 | D22: =COUNTIF('Veckoschema innan bandyis'!B$3:F$8,"Dam rekreation*")+COUNTIF('Veckoschema innan bandyis'!B$12:F$18,"Dam rekreation*") -> 0 | E22: =COUNTIF('Helg innan bandy öppnat'!B$2:C$19,"Dam rekreation*") -> 0 | F22: 1 | G22: 1
A23: Totalt | B23: =SUM(B5:B22) -> 18 | C23: =SUM(C5:C22) -> 17 | D23: =SUM(D5:D22) -> 32 | E23: =SUM(E5:E22) -> 3 | F23: =SUM(F5:F22) -> 36
