Workbook

Sheet Arbetspass
A1: Arbetspass – Bergs IK JAS, hemmamatcher 2026/27
A3: Omg | B3: Datum | C3: Dag | D3: Tid | E3: Motståndare | F3: Hall | G3: Entré | H3: Kiosk 1 | I3: Kiosk 2 | J3: Speaker | K3: Filmning | L3: Sekretariat 1 | M3: Sekretariat 2 | N3: Bemannat (av 7) | O3: Kommentar
A4: 2 | B4: 46299 | C4: sön | D4: 18:30 | E4: Jönköpings IK Utveckling | F4: Vasa Arena | G4: Andreas Ryd | H4: Oskar Weinoff | I4: Ludvig Hoppe | J4: Filip Wall-Åhman | K4: Hampus Sjöström | L4: William Jackson | M4: Melker Martinsson | N4: =COUNTA(G4:M4) -> 7
A5: 3 | B5: 46305 | C5: lör | D5: 16:30 | E5: Fagerhult Habo IBK Ungdom | F5: Ljungsbro Sporthall | G5: Vide Selse | H5: Ludvig Hoppe | I5: Hampus Sjöström | J5: Eric Harrby Borgö | K5: Olle Saranpää | L5: Theo Stridh | M5: Oskar Weinoff | N5: =COUNTA(G5:M5) -> 7
A6: 5 | B6: 46323 | C6: ons | D6: 19:30 | E6: KFUM Jönköping | F6: Ljungsbro Sporthall | G6: Elliot Hammerman Broström | H6: Melker Warnroth | I6: Olle Saranpää | J6: Filip Wall-Åhman | K6: Melker Martinsson | L6: Olof Bergström | M6: Ted Jörholt | N6: =COUNTA(G6:M6) -> 7
A7: 7 | B7: 46348 | C7: sön | D7: 17:00 | E7: Linköping IBK Ungdom | F7: Vasa Arena | G7: Arvid Nehler | H7: Vide Selse | I7: Andreas Ryd | J7: Eric Harrby Borgö | K7: Oskar Weinoff | L7: Ludvig Hoppe | M7: Hampus Sjöström | N7: =COUNTA(G7:M7) -> 7
A8: 9 | B8: 46361 | C8: lör | D8: 16:15 | E8: Vetlanda IBF | F8: Ljungsbro Sporthall | G8: William Jackson | H8: Elliot Hammerman Broström | I8: Melker Martinsson | J8: Filip Wall-Åhman | K8: Theo Stridh | L8: Melker Warnroth | M8: Olle Saranpää | N8: =COUNTA(G8:M8) -> 7
A9: 10 | B9: 46374 | C9: fre | D9: 19:30 | E9: Solfjäderstaden IBK | F9: Ljungsbro Sporthall | G9: Ludvig Hoppe | H9: Arvid Nehler | I9: Oskar Weinoff | J9: Eric Harrby Borgö | K9: Olof Bergström | L9: Ted Jörholt | M9: Andreas Ryd | N9: =COUNTA(G9:M9) -> 7
A10: 15 | B10: 46423 | C10: fre | D10: 19:30 | E10: Hovslätts IK | F10: Ljungsbro Sporthall | G10: Olle Saranpää | H10: William Jackson | I10: Theo Stridh | J10: Filip Wall-Åhman | K10: Melker Warnroth | L10: Hampus Sjöström | M10: Vide Selse | N10: =COUNTA(G10:M10) -> 7
A11: 17 | B11: 46452 | C11: lör | D11: 17:00 | E11: IBK Lockerud Mariestad | F11: Ljungsbro Sporthall | G11: Ted Jörholt | H11: Melker Martinsson | I11: Olof Bergström | J11: Eric Harrby Borgö | K11: Andreas Ryd | L11: Arvid Nehler | M11: Elliot Hammerman Broström | N11: =COUNTA(G11:M11) -> 7
F13: Totalt bemannade pass (av 56): | N13: =SUM(N4:N11) -> 56

Sheet Fördelning
A1: Pass per familj
A3: Familj (spelare) | B3: Antal pass | C3: Sekretariat | D3: Kiosk | E3: Entré | F3: Speaker | G3: Filmning
A4: Elliot Hammerman Broström | B4: =IF($A4="","",COUNTIF(Arbetspass!$G$4:$M$11,$A4)) -> 3 | C4: =IF($A4="","",COUNTIF(Arbetspass!$L$4:$M$11,$A4)) -> 1 | D4: =IF($A4="","",COUNTIF(Arbetspass!$H$4:$I$11,$A4)) -> 1 | E4: =IF($A4="","",COUNTIF(Arbetspass!$G$4:$G$11,$A4)) -> 1 | F4: =IF($A4="","",COUNTIF(Arbetspass!$J$4:$J$11,$A4)) -> 0 | G4: =IF($A4="","",COUNTIF(Arbetspass!$K$4:$K$11,$A4)) -> 0
A5: Melker Martinsson | B5: =IF($A5="","",COUNTIF(Arbetspass!$G$4:$M$11,$A5)) -> 4 | C5: =IF($A5="","",COUNTIF(Arbetspass!$L$4:$M$11,$A5)) -> 1 | D5: =IF($A5="","",COUNTIF(Arbetspass!$H$4:$I$11,$A5)) -> 2 | E5: =IF($A5="","",COUNTIF(Arbetspass!$G$4:$G$11,$A5)) -> 0 | F5: =IF($A5="","",COUNTIF(Arbetspass!$J$4:$J$11,$A5)) -> 0 | G5: =IF($A5="","",COUNTIF(Arbetspass!$K$4:$K$11,$A5)) -> 1
A6: Olof Bergström | B6: =IF($A6="","",COUNTIF(Arbetspass!$G$4:$M$11,$A6)) -> 3 | C6: =IF($A6="","",COUNTIF(Arbetspass!$L$4:$M$11,$A6)) -> 1 | D6: =IF($A6="","",COUNTIF(Arbetspass!$H$4:$I$11,$A6)) -> 1 | E6: =IF($A6="","",COUNTIF(Arbetspass!$G$4:$G$11,$A6)) -> 0 | F6: =IF($A6="","",COUNTIF(Arbetspass!$J$4:$J$11,$A6)) -> 0 | G6: =IF($A6="","",COUNTIF(Arbetspass!$K$4:$K$11,$A6)) -> 1
A7: Ted Jörholt | B7: =IF($A7="","",COUNTIF(Arbetspass!$G$4:$M$11,$A7)) -> 3 | C7: =IF($A7="","",COUNTIF(Arbetspass!$L$4:$M$11,$A7)) -> 2 | D7: =IF($A7="","",COUNTIF(Arbetspass!$H$4:$I$11,$A7)) -> 0 | E7: =IF($A7="","",COUNTIF(Arbetspass!$G$4:$G$11,$A7)) -> 1 | F7: =IF($A7="","",COUNTIF(Arbetspass!$J$4:$J$11,$A7)) -> 0 | G7: =IF($A7="","",COUNTIF(Arbetspass!$K$4:$K$11,$A7)) -> 0
A8: Filip Wall-Åhman | B8: =IF($A8="","",COUNTIF(Arbetspass!$G$4:$M$11,$A8)) -> 4 | C8: =IF($A8="","",COUNTIF(Arbetspass!$L$4:$M$11,$A8)) -> 0 | D8: =IF($A8="","",COUNTIF(Arbetspass!$H$4:$I$11,$A8)) -> 0 | E8: =IF($A8="","",COUNTIF(Arbetspass!$G$4:$G$11,$A8)) -> 0 | F8: =IF($A8="","",COUNTIF(Arbetspass!$J$4:$J$11,$A8)) -> 4 | G8: =IF($A8="","",COUNTIF(Arbetspass!$K$4:$K$11,$A8)) -> 0
A9: Andreas Ryd | B9: =IF($A9="","",COUNTIF(Arbetspass!$G$4:$M$11,$A9)) -> 4 | C9: =IF($A9="","",COUNTIF(Arbetspass!$L$4:$M$11,$A9)) -> 1 | D9: =IF($A9="","",COUNTIF(Arbetspass!$H$4:$I$11,$A9)) -> 1 | E9: =IF($A9="","",COUNTIF(Arbetspass!$G$4:$G$11,$A9)) -> 1 | F9: =IF($A9="","",COUNTIF(Arbetspass!$J$4:$J$11,$A9)) -> 0 | G9: =IF($A9="","",COUNTIF(Arbetspass!$K$4:$K$11,$A9)) -> 1
A10: Arvid Nehler | B10: =IF($A10="","",COUNTIF(Arbetspass!$G$4:$M$11,$A10)) -> 3 | C10: =IF($A10="","",COUNTIF(Arbetspass!$L$4:$M$11,$A10)) -> 1 | D10: =IF($A10="","",COUNTIF(Arbetspass!$H$4:$I$11,$A10)) -> 1 | E10: =IF($A10="","",COUNTIF(Arbetspass!$G$4:$G$11,$A10)) -> 1 | F10: =IF($A10="","",COUNTIF(Arbetspass!$J$4:$J$11,$A10)) -> 0 | G10: =IF($A10="","",COUNTIF(Arbetspass!$K$4:$K$11,$A10)) -> 0
A11: Oskar Weinoff | B11: =IF($A11="","",COUNTIF(Arbetspass!$G$4:$M$11,$A11)) -> 4 | C11: =IF($A11="","",COUNTIF(Arbetspass!$L$4:$M$11,$A11)) -> 1 | D11: =IF($A11="","",COUNTIF(Arbetspass!$H$4:$I$11,$A11)) -> 2 | E11: =IF($A11="","",COUNTIF(Arbetspass!$G$4:$G$11,$A11)) -> 0 | F11: =IF($A11="","",COUNTIF(Arbetspass!$J$4:$J$11,$A11)) -> 0 | G11: =IF($A11="","",COUNTIF(Arbetspass!$K$4:$K$11,$A11)) -> 1
A12: Ludvig Hoppe | B12: =IF($A12="","",COUNTIF(Arbetspass!$G$4:$M$11,$A12)) -> 4 | C12: =IF($A12="","",COUNTIF(Arbetspass!$L$4:$M$11,$A12)) -> 1 | D12: =IF($A12="","",COUNTIF(Arbetspass!$H$4:$I$11,$A12)) -> 2 | E12: =IF($A12="","",COUNTIF(Arbetspass!$G$4:$G$11,$A12)) -> 1 | F12: =IF($A12="","",COUNTIF(Arbetspass!$J$4:$J$11,$A12)) -> 0 | G12: =IF($A12="","",COUNTIF(Arbetspass!$K$4:$K$11,$A12)) -> 0
A13: Hampus Sjöström | B13: =IF($A13="","",COUNTIF(Arbetspass!$G$4:$M$11,$A13)) -> 4 | C13: =IF($A13="","",COUNTIF(Arbetspass!$L$4:$M$11,$A13)) -> 2 | D13: =IF($A13="","",COUNTIF(Arbetspass!$H$4:$I$11,$A13)) -> 1 | E13: =IF($A13="","",COUNTIF(Arbetspass!$G$4:$G$11,$A13)) -> 0 | F13: =IF($A13="","",COUNTIF(Arbetspass!$J$4:$J$11,$A13)) -> 0 | G13: =IF($A13="","",COUNTIF(Arbetspass!$K$4:$K$11,$A13)) -> 1
A14: Eric Harrby Borgö | B14: =IF($A14="","",COUNTIF(Arbetspass!$G$4:$M$11,$A14)) -> 4 | C14: =IF($A14="","",COUNTIF(Arbetspass!$L$4:$M$11,$A14)) -> 0 | D14: =IF($A14="","",COUNTIF(Arbetspass!$H$4:$I$11,$A14)) -> 0 | E14: =IF($A14="","",COUNTIF(Arbetspass!$G$4:$G$11,$A14)) -> 0 | F14: =IF($A14="","",COUNTIF(Arbetspass!$J$4:$J$11,$A14)) -> 4 | G14: =IF($A14="","",COUNTIF(Arbetspass!$K$4:$K$11,$A14)) -> 0
A15: Vide Selse | B15: =IF($A15="","",COUNTIF(Arbetspass!$G$4:$M$11,$A15)) -> 3 | C15: =IF($A15="","",COUNTIF(Arbetspass!$L$4:$M$11,$A15)) -> 1 | D15: =IF($A15="","",COUNTIF(Arbetspass!$H$4:$I$11,$A15)) -> 1 | E15: =IF($A15="","",COUNTIF(Arbetspass!$G$4:$G$11,$A15)) -> 1 | F15: =IF($A15="","",COUNTIF(Arbetspass!$J$4:$J$11,$A15)) -> 0 | G15: =IF($A15="","",COUNTIF(Arbetspass!$K$4:$K$11,$A15)) -> 0
... A19: Olle Saranpää | B19: =IF($A19="","",COUNTIF(Arbetspass!$G$4:$M$11,$A19)) -> 4 | C19: =IF($A19="","",COUNTIF(Arbetspass!$L$4:$M$11,$A19)) -> 1 | D19: =IF($A19="","",COUNTIF(Arbetspass!$H$4:$I$11,$A19)) -> 1 | E19: =IF($A19="","",COUNTIF(Arbetspass!$G$4:$G$11,$A19)) -> 1 | F19: =IF($A19="","",COUNTIF(Arbetspass!$J$4:$J$11,$A19)) -> 0 | G19: =IF($A19="","",COUNTIF(Arbetspass!$K$4:$K$11,$A19)) -> 1
A21: Summa | B21: =SUM(B4:B19) -> 56 | C21: =SUM(C4:C19) -> 16 | D21: =SUM(D4:D19) -> 16 | E21: =SUM(E4:E19) -> 8 | F21: =SUM(F4:F19) -> 8 | G21: =SUM(G4:G19) -> 8

Sheet Roller
A1: Roller per hemmamatch
A3: Roll | B3: Antal per match | C3: Pass över säsongen | D3: Not
A4: Entré | B4: 1 | C4: =B4*8 -> 8
A5: Kiosk | B5: 2 | C5: =B5*8 -> 16
A6: Speaker | B6: 1 | C6: =B6*8 -> 8 | D6: Fast fördelning: Filip Wall-Åhman och Eric Harrby Borgö, varannan match
A7: Filmning | B7: 1 | C7: =B7*8 -> 8
A8: Sekretariat | B8: 2 | C8: =B8*8 -> 16 | D8: Sköter även musiken
A9: Summa per match | B9: =SUM(B4:B8) -> 7 | C9: =SUM(C4:C8) -> 56
