Workbook

Sheet ÖVERSIKT
A1: Deltagare | B1: 26 sep. Råsta Park | C1: 3 okt. Ulriksdalshallen | D1: 17 okt Talbacka KAN FLYTTAS | E1: 27 okt Läktar- värd | F1: 7 nov Ullriksdalshallen | G1: 21 nov Ulriksdalshallen | H1: 28 nov Ulriksdalshallen KAN FLYTTAS | I1: 5 dec Ullriksdalshallen | J1: 12 dec Tallbacka KAN FLYTTAS | K1: TOTALT
A2: Anders Lockner (Antonia) | B2: =IF(COUNTIF('26 sep.'!A3:A7, A2)>0, 1, "") | C2: 1 | D2: =IF(COUNTIF('27 okt'!A3:A11, A2)>0, 1, "") | F2: =IF(COUNTIF('7 nov'!A3:A11, A2)>0, 1, "") | G2: =IF(COUNTIF('datum ej satt'!A3:A15, A2)>0, 1, "") | H2: =IF(COUNTIF('10 JAN'!A3:A11, A2)>0, 1, "") | I2: =IF(COUNTIF('12 dec'!A3:A11, A2)>0, 1, "") | K2: =SUM(B2:J3) -> 2
A3: Alem Sereke (Antonia) | B3: =IF(COUNTIF('26 sep.'!A3:A7, A3)>0, 1, "") | C3: =IF(COUNTIF('3 okt'!A3:A7, A3)>0, 1, "") | D3: =IF(COUNTIF('27 okt'!A3:A11, A3)>0, 1, "") | E3: =IF(COUNTIF('17 okt'!A3:A11, A3)>0, 1, "") | F3: =IF(COUNTIF('7 nov'!A3:A11, A3)>0, 1, "") | G3: =IF(COUNTIF('datum ej satt'!A3:A15, A3)>0, 1, "") | I3: 1
A4: Mike Matusiak (Blanka) | L4: Tränare
A5: Ilona Nieznalska-Matusiak (Blanka) | B5: =IF(COUNTIF('26 sep.'!A3:A7, A5)>0, 1, "") | C5: =IF(COUNTIF('3 okt'!A3:A7, A5)>0, 1, "") | D5: =IF(COUNTIF('27 okt'!A3:A11, A5)>0, 1, "") | E5: =IF(COUNTIF('17 okt'!A3:A11, A5)>0, 1, "") | F5: =IF(COUNTIF('7 nov'!A3:A11, A5)>0, 1, "") | G5: =IF(COUNTIF('datum ej satt'!A3:A15, A5)>0, 1, "") | H5: =IF(COUNTIF('10 JAN'!A3:A11, A5)>0, 1, "") | I5: =IF(COUNTIF('12 dec'!A3:A11, A5)>0, 1, "") | K5: =SUM(B5:J5) -> 0
A6: Martin Taranger (Bonnie) | B6: =IF(COUNTIF('26 sep.'!A3:A7, A6)>0, 1, "") | C6: =IF(COUNTIF('3 okt'!A3:A7, A6)>0, 1, "") | D6: =IF(COUNTIF('27 okt'!A3:A11, A6)>0, 1, "") | E6: =IF(COUNTIF('17 okt'!A3:A11, A6)>0, 1, "") | F6: =IF(COUNTIF('7 nov'!A3:A11, A6)>0, 1, "") | G6: =IF(COUNTIF('datum ej satt'!A3:A15, A6)>0, 1, "") | H6: =IF(COUNTIF('10 JAN'!A3:A11, A6)>0, 1, "") | I6: =IF(COUNTIF('12 dec'!A3:A11, A6)>0, 1, "") | K6: =SUM(B6:J7) -> 0 | L6: Tränare
A7: Fam Taranger (Bonnie) | B7: =IF(COUNTIF('26 sep.'!A3:A7, A7)>0, 1, "") | C7: =IF(COUNTIF('3 okt'!A3:A7, A7)>0, 1, "") | D7: =IF(COUNTIF('27 okt'!A3:A11, A7)>0, 1, "") | E7: =IF(COUNTIF('17 okt'!A3:A11, A7)>0, 1, "") | F7: =IF(COUNTIF('7 nov'!A3:A11, A7)>0, 1, "") | G7: =IF(COUNTIF('datum ej satt'!A3:A15, A7)>0, 1, "") | H7: =IF(COUNTIF('10 JAN'!A3:A11, A7)>0, 1, "") | I7: =IF(COUNTIF('12 dec'!A3:A11, A7)>0, 1, "") | L7: Lagledare
A8: Mikael Behm (Ebba) | B8: =IF(COUNTIF('26 sep.'!A3:A7, A8)>0, 1, "") | C8: =IF(COUNTIF('3 okt'!A3:A7, A8)>0, 1, "") | D8: =IF(COUNTIF('27 okt'!A3:A11, A8)>0, 1, "") | E8: =IF(COUNTIF('17 okt'!A3:A11, A8)>0, 1, "") | F8: =IF(COUNTIF('7 nov'!A3:A11, A8)>0, 1, "") | G8: =IF(COUNTIF('datum ej satt'!A3:A15, A8)>0, 1, "") | H8: =IF(COUNTIF('10 JAN'!A3:A11, A8)>0, 1, "") | I8: =IF(COUNTIF('12 dec'!A3:A11, A8)>0, 1, "") | K8: =SUM(B8:J9) -> 0 | L8: Tränare
A9: Klara Behm (Ebba) | B9: =IF(COUNTIF('26 sep.'!A3:A7, A9)>0, 1, "") | C9: =IF(COUNTIF('3 okt'!A3:A7, A9)>0, 1, "") | D9: =IF(COUNTIF('27 okt'!A3:A11, A9)>0, 1, "") | E9: =IF(COUNTIF('17 okt'!A3:A11, A9)>0, 1, "") | F9: =IF(COUNTIF('7 nov'!A3:A11, A9)>0, 1, "") | G9: =IF(COUNTIF('datum ej satt'!A3:A15, A9)>0, 1, "") | H9: =IF(COUNTIF('10 JAN'!A3:A11, A9)>0, 1, "") | I9: =IF(COUNTIF('12 dec'!A3:A11, A9)>0, 1, "")
A10: Caroline Ridderheim (Ebba och Tyra) | B10: 1 | C10: =IF(COUNTIF('3 okt'!A3:A7, A10)>0, 1, "") | D10: =IF(COUNTIF('27 okt'!A3:A11, A10)>0, 1, "") | E10: =IF(COUNTIF('17 okt'!A3:A11, A10)>0, 1, "") | F10: =IF(COUNTIF('7 nov'!A3:A11, A10)>0, 1, "") | G10: =IF(COUNTIF('datum ej satt'!A3:A15, A10)>0, 1, "") | H10: =IF(COUNTIF('10 JAN'!A3:A11, A10)>0, 1, "") | K10: =SUM(B10:J11) -> 3
A11: Markus Ridderheim (Ebba och Tyra | B11: =IF(COUNTIF('26 sep.'!A3:A7, A11)>0, 1, "") | C11: =IF(COUNTIF('3 okt'!A3:A7, A11)>0, 1, "") | D11: 1 | E11: =IF(COUNTIF('17 okt'!A3:A11, A11)>0, 1, "") | F11: =IF(COUNTIF('7 nov'!A3:A11, A11)>0, 1, "") | G11: =IF(COUNTIF('datum ej satt'!A3:A15, A11)>0, 1, "") | H11: =IF(COUNTIF('10 JAN'!A3:A11, A11)>0, 1, "") | I11: 1
A12: Zandra Hamming (Ellen) | B12: =IF(COUNTIF('26 sep.'!A3:A7, A12)>0, 1, "") -> 1 | C12: =IF(COUNTIF('3 okt'!A3:A7, A12)>0, 1, "") | D12: =IF(COUNTIF('27 okt'!A3:A11, A12)>0, 1, "") | E12: =IF(COUNTIF('17 okt'!A3:A11, A12)>0, 1, "") | F12: =IF(COUNTIF('7 nov'!A3:A11, A12)>0, 1, "") | G12: =IF(COUNTIF('datum ej satt'!A3:A15, A12)>0, 1, "") | H12: =IF(COUNTIF('10 JAN'!A3:A11, A12)>0, 1, "") | I12: =IF(COUNTIF('12 dec'!A3:A11, A12)>0, 1, "") | K12: =SUM(B12:J13) -> 2
A13: Åsa Hamming (Ellen) | B13: =IF(COUNTIF('26 sep.'!A3:A7, A13)>0, 1, "") | C13: =IF(COUNTIF('3 okt'!A3:A7, A13)>0, 1, "") | E13: 1 | F13: =IF(COUNTIF('7 nov'!A3:A11, A13)>0, 1, "") | G13: =IF(COUNTIF('datum ej satt'!A3:A15, A13)>0, 1, "") | H13: =IF(COUNTIF('10 JAN'!A3:A11, A13)>0, 1, "") | I13: =IF(COUNTIF('12 dec'!A3:A11, A13)>0, 1, "")
A14: Alexandra Expert (Elsa) | B14: =IF(COUNTIF('26 sep.'!A3:A7, A14)>0, 1, "") | C14: =IF(COUNTIF('3 okt'!A3:A7, A14)>0, 1, "") -> 1 | D14: =IF(COUNTIF('27 okt'!A3:A11, A14)>0, 1, "") | E14: =IF(COUNTIF('17 okt'!A3:A11, A14)>0, 1, "") | F14: =IF(COUNTIF('7 nov'!A3:A11, A14)>0, 1, "") | G14: =IF(COUNTIF('datum ej satt'!A3:A15, A14)>0, 1, "") | I14: =IF(COUNTIF('12 dec'!A3:A11, A14)>0, 1, "") | K14: =SUM(B14:J15) -> 3
A15: Edvard Expert (Elsa) | B15: =IF(COUNTIF('26 sep.'!A3:A7, A15)>0, 1, "") | C15: =IF(COUNTIF('3 okt'!A3:A7, A15)>0, 1, "") | D15: =IF(COUNTIF('27 okt'!A3:A11, A15)>0, 1, "") | E15: =IF(COUNTIF('17 okt'!A3:A11, A15)>0, 1, "") | F15: =IF(COUNTIF('7 nov'!A3:A11, A15)>0, 1, "") | G15: 1 | H15: =IF(COUNTIF('10 JAN'!A3:A11, A15)>0, 1, "") | J15: 1
A16: Behiye Celebi (Gizem) | B16: =IF(COUNTIF('26 sep.'!A3:A7, A16)>0, 1, "") | C16: =IF(COUNTIF('3 okt'!A3:A7, A16)>0, 1, "") | F16: =IF(COUNTIF('7 nov'!A3:A11, A16)>0, 1, "") | G16: =IF(COUNTIF('datum ej satt'!A3:A15, A16)>0, 1, "") | H16: =IF(COUNTIF('10 JAN'!A3:A11, A16)>0, 1, "") | I16: =IF(COUNTIF('12 dec'!A3:A11, A16)>0, 1, "") | K16: =SUM(B16:J17) -> 2
A17: Ferit Celebi (Gizem) | B17: =IF(COUNTIF('26 sep.'!A3:A7, A17)>0, 1, "") | C17: =IF(COUNTIF('3 okt'!A3:A7, A17)>0, 1, "") | D17: 1 | E17: 1 | F17: =IF(COUNTIF('7 nov'!A3:A11, A17)>0, 1, "") | G17: =IF(COUNTIF('datum ej satt'!A3:A15, A17)>0, 1, "") | H17: =IF(COUNTIF('10 JAN'!A3:A11, A17)>0, 1, "") | I17: =IF(COUNTIF('12 dec'!A3:A11, A17)>0, 1, "")
A18: Eleonore Johansson (Mio) | B18: =IF(COUNTIF('26 sep.'!A3:A7, A18)>0, 1, "") -> 1 | C18: =IF(COUNTIF('3 okt'!A3:A7, A18)>0, 1, "") | D18: =IF(COUNTIF('27 okt'!A3:A11, A18)>0, 1, "") | E18: =IF(COUNTIF('17 okt'!A3:A11, A18)>0, 1, "") | F18: =IF(COUNTIF('7 nov'!A3:A11, A18)>0, 1, "") | G18: 1 | H18: =IF(COUNTIF('10 JAN'!A3:A11, A18)>0, 1, "") | I18: =IF(COUNTIF('12 dec'!A3:A11, A18)>0, 1, "") | K18: =SUM(B18:J19) -> 3 | L18: Cafeansv
A19: Jenny Johansson (Mio) | B19: =IF(COUNTIF('26 sep.'!A3:A7, A19)>0, 1, "") | C19: =IF(COUNTIF('3 okt'!A3:A7, A19)>0, 1, "") | D19: 1 | F19: =IF(COUNTIF('7 nov'!A3:A11, A19)>0, 1, "") | G19: =IF(COUNTIF('datum ej satt'!A3:A15, A19)>0, 1, "") | H19: =IF(COUNTIF('10 JAN'!A3:A11, A19)>0, 1, "") | I19: =IF(COUNTIF('12 dec'!A3:A11, A19)>0, 1, "")
A20: Reidner Vega (Natti) | B20: =IF(COUNTIF('26 sep.'!A3:A7, A20)>0, 1, "") -> 1 | C20: =IF(COUNTIF('3 okt'!A3:A7, A20)>0, 1, "") | D20: =IF(COUNTIF('27 okt'!A3:A11, A20)>0, 1, "") | E20: =IF(COUNTIF('17 okt'!A3:A11, A20)>0, 1, "") | F20: =IF(COUNTIF('7 nov'!A3:A11, A20)>0, 1, "") | G20: =IF(COUNTIF('datum ej satt'!A3:A15, A20)>0, 1, "") | H20: =IF(COUNTIF('10 JAN'!A3:A11, A20)>0, 1, "") | I20: =IF(COUNTIF('12 dec'!A3:A11, A20)>0, 1, "") | K20: =SUM(B20:J21) -> 2
A21: Jenny Öberg (Natti) | B21: =IF(COUNTIF('26 sep.'!A3:A7, A21)>0, 1, "") | C21: 1 | D21: =IF(COUNTIF('27 okt'!A3:A11, A21)>0, 1, "") | E21: =IF(COUNTIF('17 okt'!A3:A11, A21)>0, 1, "") | F21: =IF(COUNTIF('7 nov'!A3:A11, A21)>0, 1, "") | G21: =IF(COUNTIF('datum ej satt'!A3:A15, A21)>0, 1, "") | H21: =IF(COUNTIF('10 JAN'!A3:A11, A21)>0, 1, "") | I21: =IF(COUNTIF('12 dec'!A3:A11, A21)>0, 1, "")
A22: Daniel Lindblad (Penny) | B22: =IF(COUNTIF('26 sep.'!A3:A7, A22)>0, 1, "") | C22: =IF(COUNTIF('3 okt'!A3:A7, A22)>0, 1, "") | D22: =IF(COUNTIF('27 okt'!A3:A11, A22)>0, 1, "") | E22: =IF(COUNTIF('17 okt'!A3:A11, A22)>0, 1, "") | F22: =IF(COUNTIF('7 nov'!A3:A11, A22)>0, 1, "") | G22: =IF(COUNTIF('datum ej satt'!A3:A15, A22)>0, 1, "") | H22: =IF(COUNTIF('10 JAN'!A3:A11, A22)>0, 1, "") | I22: =IF(COUNTIF('12 dec'!A3:A11, A22)>0, 1, "") | K22: =SUM(B22:J23) -> 0 | L22: Tränare
A23: Malin Lindblad (Penny) | B23: =IF(COUNTIF('26 sep.'!A3:A7, A23)>0, 1, "") | C23: =IF(COUNTIF('3 okt'!A3:A7, A23)>0, 1, "") | D23: =IF(COUNTIF('27 okt'!A3:A11, A23)>0, 1, "") | E23: =IF(COUNTIF('17 okt'!A3:A11, A23)>0, 1, "") | F23: =IF(COUNTIF('7 nov'!A3:A11, A23)>0, 1, "") | G23: =IF(COUNTIF('datum ej satt'!A3:A15, A23)>0, 1, "") | H23: =IF(COUNTIF('10 JAN'!A3:A11, A23)>0, 1, "") | I23: =IF(COUNTIF('12 dec'!A3:A11, A23)>0, 1, "")
A24: Elin Öhgren Goude (Nova) | B24: =IF(COUNTIF('26 sep.'!A3:A7, A24)>0, 1, "") | C24: =IF(COUNTIF('3 okt'!A3:A7, A24)>0, 1, "") | D24: =IF(COUNTIF('27 okt'!A3:A11, A24)>0, 1, "") | E24: =IF(COUNTIF('17 okt'!A3:A11, A24)>0, 1, "") | F24: =IF(COUNTIF('7 nov'!A3:A11, A24)>0, 1, "") | H24: =IF(COUNTIF('10 JAN'!A3:A11, A24)>0, 1, "") | I24: 1 | K24: =SUM(B24:J25) -> 2
A25: Robert Goude (Nova) | B25: =IF(COUNTIF('26 sep.'!A3:A7, A25)>0, 1, "") | C25: =IF(COUNTIF('3 okt'!A3:A7, A25)>0, 1, "") | D25: =IF(COUNTIF('27 okt'!A3:A11, A25)>0, 1, "") | E25: =IF(COUNTIF('17 okt'!A3:A11, A25)>0, 1, "") | F25: =IF(COUNTIF('7 nov'!A3:A11, A25)>0, 1, "") | G25: 1 | H25: =IF(COUNTIF('10 JAN'!A3:A11, A25)>0, 1, "") | I25: =IF(COUNTIF('12 dec'!A3:A11, A25)>0, 1, "")
A26: Maya Wikstad (Alicia) | B26: =IF(COUNTIF('26 sep.'!A3:A7, A26)>0, 1, "") | C26: =IF(COUNTIF('3 okt'!A3:A7, A26)>0, 1, "") | D26: =IF(COUNTIF('27 okt'!A3:A11, A26)>0, 1, "") | E26: =IF(COUNTIF('17 okt'!A3:A11, A26)>0, 1, "") | F26: 1 | G26: =IF(COUNTIF('datum ej satt'!A3:A15, A26)>0, 1, "") | H26: =IF(COUNTIF('10 JAN'!A3:A11, A26)>0, 1, "") | I26: =IF(COUNTIF('12 dec'!A3:A11, A26)>0, 1, "") | K26: =SUM(B26:J27) -> 2
A27: Thomas Wikstad (Alicia) | B27: =IF(COUNTIF('26 sep.'!A3:A7, A27)>0, 1, "") | C27: =IF(COUNTIF('3 okt'!A3:A7, A27)>0, 1, "") | D27: =IF(COUNTIF('27 okt'!A3:A11, A27)>0, 1, "") | E27: =IF(COUNTIF('17 okt'!A3:A11, A27)>0, 1, "") | F27: =IF(COUNTIF('7 nov'!A3:A11, A27)>0, 1, "") | G27: 1 | H27: =IF(COUNTIF('10 JAN'!A3:A11, A27)>0, 1, "") | I27: =IF(COUNTIF('12 dec'!A3:A11, A27)>0, 1, "")
A28: Björn Tjälldin (Elise) | B28: =IF(COUNTIF('26 sep.'!A3:A7, A28)>0, 1, "") | C28: =IF(COUNTIF('3 okt'!A3:A7, A28)>0, 1, "") | E28: 1 | F28: =IF(COUNTIF('7 nov'!A3:A11, A28)>0, 1, "") | G28: =IF(COUNTIF('datum ej satt'!A3:A15, A28)>0, 1, "") | H28: =IF(COUNTIF('10 JAN'!A3:A11, A28)>0, 1, "") | I28: =IF(COUNTIF('12 dec'!A3:A11, A28)>0, 1, "") | K28: =SUM(B28:J29) -> 3
A29: Ellen Tjälldin (Elise) | B29: =IF(COUNTIF('26 sep.'!A3:A7, A29)>0, 1, "") | C29: =IF(COUNTIF('3 okt'!A3:A7, A29)>0, 1, "") | D29: =IF(COUNTIF('27 okt'!A3:A11, A29)>0, 1, "") | E29: =IF(COUNTIF('17 okt'!A3:A11, A29)>0, 1, "") | F29: 1 | G29: =IF(COUNTIF('datum ej satt'!A3:A15, A29)>0, 1, "") | H29: =IF(COUNTIF('10 JAN'!A3:A11, A29)>0, 1, "") | J29: 1
A30: Emma Palmqvist (Ellen) | B30: =IF(COUNTIF('26 sep.'!A3:A7, A30)>0, 1, "") | C30: 1 | D30: =IF(COUNTIF('27 okt'!A3:A11, A30)>0, 1, "") | E30: =IF(COUNTIF('17 okt'!A3:A11, A30)>0, 1, "") | F30: =IF(COUNTIF('7 nov'!A3:A11, A30)>0, 1, "") | G30: =IF(COUNTIF('datum ej satt'!A3:A15, A30)>0, 1, "") | H30: =IF(COUNTIF('10 JAN'!A3:A11, A30)>0, 1, "") | I30: =IF(COUNTIF('12 dec'!A3:A11, A30)>0, 1, "") | K30: =SUM(B30:J31) -> 2
A31: Michael Lindgren (Ellen) | B31: =IF(COUNTIF('26 sep.'!A3:A7, A31)>0, 1, "") | D31: =IF(COUNTIF('27 okt'!A3:A11, A31)>0, 1, "") | E31: =IF(COUNTIF('17 okt'!A3:A11, A31)>0, 1, "") | F31: =IF(COUNTIF('7 nov'!A3:A11, A31)>0, 1, "") | G31: =IF(COUNTIF('datum ej satt'!A3:A15, A31)>0, 1, "") | H31: =IF(COUNTIF('10 JAN'!A3:A11, A31)>0, 1, "") | I31: =IF(COUNTIF('12 dec'!A3:A11, A31)>0, 1, "") | J31: 1
A32: Elisabeth Saouma (Gabriella) | B32: =IF(COUNTIF('26 sep.'!A3:A7, A32)>0, 1, "") | C32: =IF(COUNTIF('3 okt'!A3:A7, A32)>0, 1, "") | D32: =IF(COUNTIF('27 okt'!A3:A11, A32)>0, 1, "") | E32: =IF(COUNTIF('17 okt'!A3:A11, A32)>0, 1, "") | F32: 1 | G32: =IF(COUNTIF('datum ej satt'!A3:A15, A32)>0, 1, "") | H32: =IF(COUNTIF('10 JAN'!A3:A11, A32)>0, 1, "") | I32: =IF(COUNTIF('12 dec'!A3:A11, A32)>0, 1, "") | J32: 1 | K32: =SUM(B32:J33) -> 3
A33: Issa Saouma (Gabriella) | B33: =IF(COUNTIF('26 sep.'!A3:A7, A33)>0, 1, "") | C33: =IF(COUNTIF('3 okt'!A3:A7, A33)>0, 1, "") | E33: 1 | F33: =IF(COUNTIF('7 nov'!A3:A11, A33)>0, 1, "") | G33: =IF(COUNTIF('datum ej satt'!A3:A15, A33)>0, 1, "") | H33: =IF(COUNTIF('10 JAN'!A3:A11, A33)>0, 1, "") | I33: =IF(COUNTIF('12 dec'!A3:A11, A33)>0, 1, "")
A34: Maurits Krantz (Lina) | B34: =IF(COUNTIF('26 sep.'!A3:A7, A34)>0, 1, "") | C34: 1 | D34: =IF(COUNTIF('27 okt'!A3:A11, A34)>0, 1, "") | E34: =IF(COUNTIF('17 okt'!A3:A11, A34)>0, 1, "") | F34: =IF(COUNTIF('7 nov'!A3:A11, A34)>0, 1, "") | G34: =IF(COUNTIF('datum ej satt'!A3:A15, A34)>0, 1, "") | H34: =IF(COUNTIF('10 JAN'!A3:A11, A34)>0, 1, "") | J34: 1 | K34: =SUM(B34:J35) -> 3
A35: Sandra Krantz (Lina) | B35: =IF(COUNTIF('26 sep.'!A3:A7, A35)>0, 1, "") | C35: =IF(COUNTIF('3 okt'!A3:A7, A35)>0, 1, "") | D35: =IF(COUNTIF('27 okt'!A3:A11, A35)>0, 1, "") | E35: =IF(COUNTIF('17 okt'!A3:A11, A35)>0, 1, "") | F35: 1 | G35: =IF(COUNTIF('datum ej satt'!A3:A15, A35)>0, 1, "") | H35: =IF(COUNTIF('10 JAN'!A3:A11, A35)>0, 1, "") | I35: =IF(COUNTIF('12 dec'!A3:A11, A35)>0, 1, "") | L35: Lagledare
A36: David Better (Olivia) | B36: =IF(COUNTIF('26 sep.'!A3:A7, A36)>0, 1, "") | C36: =IF(COUNTIF('3 okt'!A3:A7, A36)>0, 1, "") | D36: =IF(COUNTIF('27 okt'!A3:A11, A36)>0, 1, "") | E36: =IF(COUNTIF('17 okt'!A3:A11, A36)>0, 1, "") | F36: =IF(COUNTIF('7 nov'!A3:A11, A36)>0, 1, "") | I36: 1 | K36: =SUM(B36:J37) -> 2
A37: Sara Better (Olivia) | B37: =IF(COUNTIF('26 sep.'!A3:A7, A37)>0, 1, "") | C37: =IF(COUNTIF('3 okt'!A3:A7, A37)>0, 1, "") | D37: 1 | F37: =IF(COUNTIF('7 nov'!A3:A11, A37)>0, 1, "") | G37: =IF(COUNTIF('datum ej satt'!A3:A15, A37)>0, 1, "") | I37: =IF(COUNTIF('12 dec'!A3:A11, A37)>0, 1, "")
A38: Erosha Gashasson (Leona) | B38: 1 | I38: 1 | K38: 2
A39: Josefine S Tärnholm (Melanie) | G39: 1 | K39: 2 | L39: Ekonomi/försäljning
A40: Tobias Tärnholm (Melanie) | F40: 1 | L40: Ekonomi/försäljning
A41: Louise Westman (Lea) | D41: 1 | K41: 2
A42: Thomas Westman (Lea) | B42: =IF(COUNTIF('26 sep.'!A3:A7, A42)>0, 1, "") | C42: =IF(COUNTIF('3 okt'!A3:A7, A42)>0, 1, "") | E42: 1 | F42: =IF(COUNTIF('7 nov'!A3:A11, A42)>0, 1, "") | G42: =IF(COUNTIF('datum ej satt'!A3:A15, A42)>0, 1, "") | H42: =IF(COUNTIF('10 JAN'!A3:A11, A42)>0, 1, "") | I42: =IF(COUNTIF('12 dec'!A3:A11, A42)>0, 1, "")
B43: =SUM(B2:B42) -> 5 | C43: =SUM(C2:C42) -> 5 | D43: =SUM(D2:D42) -> 5 | E43: =SUM(E2:E42) -> 5 | F43: =SUM(F2:F42) -> 5 | G43: =SUM(G2:G42) -> 5 | H43: =SUM(H2:H42) -> 0 | I43: =SUM(I2:I42) -> 5 | J43: =SUM(J2:J42) -> 5

Sheet 26 sep.
A1: Råsta Park (nivå 1 och 2) 26 sep KL 11:20 - 14:30
A2: Namn | B2: Café+baka | C2: Matchvärd | D2: EMP | E2: Matchklocka
A3: Reidner Vega (Natti) | D3: 1
A4: Caroline Ridderheim (Tyra o Ebba) | B4: 1
A5: Zandra Hamming (Ellen) | C5: 1
A6: Erosha Gadhasson (Leona) | E6: 1
A7: Eleonore Johansson (Mio) | B7: 1

Sheet 3 okt
A1: Ulriksdalshallen (nivå 2 f14) 3 okt. KL 11:20 - 13:20
A2: Namn | B2: Café+baka | C2: Matchvärd | D2: EMP | E2: Matchklocka
A3: Anders Lockner (Antonia) | D3: 1
A4: Alexandra Expert (Elsa) | B4: 1
A5: Emma Palmqvist (Ellen) | C5: 1
A6: Jenny Öberg (Natti) | B6: 1
A7: Maurits Krantz (Lina) | E7: 1

Sheet 17 okt
A1: TALLBACKA (nivå 2 och 1) 17 okt 13:45-17:00 OBS! Kan flyttas pga krock med USM
A2: Namn | B2: Café | C2: Matchvärd | D2: EMP | E2: Matchklocka
A3: Ferit Celebi (Gizem) | D3: 1
A4: Louise Westman (Lea) | B4: 1
A5: Markus Ridderheim (Ebba o Tyra) | C5: 1
A6: Jenny Johansson (Mio) | E6: 1
A7: Sara Better (Olivia) | B7: 1

Sheet 27 okt
A1: Läktarvärd AIK IF-Elfsborg 27 okt fem personer
A2: Namn | B2: Läktarvärd
A3: Thomas Westman (Lea) | B3: 1
A4: Issa Saouma (Gabriella) | B4: 1
A5: Ferit Celebi (Gizem) | B5: 1
A6: Björn Tjälldin (Elise) | B6: 1
A7: Åsa Hamming (Ellen) | B7: 1
B12: =SUBTOTAL(109,Table134[Läktarvärd]) -> 5

Sheet 7 nov
A1: Ulriksdalshallen (nivå 2 och f14 nivå 2) 7 nov, 11:30-14:45
A2: Namn | B2: Café | C2: Matchvärd | D2: EMP | E2: Matchklocka
A3: Ellen Marie Tjälldin (Elise) | D3: 1
A4: Sandra Krantz (Lina) | C4: 1
A5: Tobias Tärnholm (Melanie) | E5: 1
A6: Elisabeth Saouma (Gabriella) | B6: 1
A7: Maya Wikstad (Alicia) | B7: 1

Sheet 21 nov
A1: Ulriksdalshallen (nivå 1) 21 nov 13:45 - 15:45
A2: Namn | B2: Café | C2: Matchvärd | D2: EMP | E2: Matchklocka
A3: Thomas Wikstad (Alicia) | B3: 1
A4: Robert Goude (Nova) | E4: 1
A5: Eleonore Johansson (Mio) | B5: 1
A6: Josefine S Tärnholm (Melanie) | C6: 1
A7: Edvard Expert (Elsa) | D7: 1

Sheet 28 nov
A1: Ulriksdalshallen (nivå 1, 2, f14, ) 21 nov 13:45 - 15:45 OBS! kan flyttas pga krock med Hellton CUP
A2: Namn | B2: Café | C2: Matchvärd | D2: EMP | E2: Matchklocka
B3: 1
E4: 1
B5: 1
C6: 1
D7: 1

Sheet 5 dec
A1: Ulriksdalshallen (nivå 2) 21 nov 15-17:00
A2: Namn | B2: Café | C2: Matchvärd | D2: EMP | E2: Matchklocka
A3: Alem Sereke (Antonia) | B3: 1
A4: Elin Ö Goude (Nova) | E4: 1
A5: Erosha Gashasson (Leona) | B5: 1
A6: Marcus Ridderheim (Ebba o Tyra) | C6: 1
A7: David Better (Olivia) | D7: 1

Sheet 12 dec
A1: Tallbacka (nivå 1) 12 dec 11:45 - 13:45 Kan flyttas pga krock med USM
A2: Namn | B2: Café | C2: Matchvärd | D2: EMP | E2: Matchklocka
A3: Elisabeth Saouma (Gabbie) | B3: 1
A4: Edvard Expert (Elsa) | E4: 1
A5: Ellen Tjälldin (Elise) | B5: 1
A6: Maurits Krantz (Lina) | C6: 1
A7: Micke Lindgren (Ellen) | D7: 1

Sheet datum ej satt
A1: VÄRDLAG SOLNAHALLEN 10 personer (varav 2-3 till cafét)Någon måste baka
A2: Namn | B2: Café | C2: Matchvärd
C3: 1
C4: 1
C5: 1
C6: 1
C7: 1
C8: 1
C9: 1
B10: 1
B11: 1
B12: 1

Sheet 10 JAN
A1: CAFÉ - TALLBACKA 10 JAN KL 8:00 - 13:30
A2: Namn | B2: Café | C2: Matchvärd | D2: EMP | E2: Matchklocka
D3: 1
B4: 1
C5: 1
B6: 1
E7: 1

Sheet EMP
A1: EMP | B1: Utbildad | C1: Anmäld till utb | D1: Kommentar
A2: Anders Lockner (Antonia) | B2: JA
A3: Alem Sereke (Antonia)
A4: Mike Matusiak (Blanka)
A5: Ilona Nieznalska-Matusiak (Blanka) | B5: JA
A6: Martin Taranger (Bonnie)
A7: Fam Taranger (Bonnie) | B7: JA
A8: Erosha Gadhasson (Leona) | B8: JA
A9: Mikael Behm (Ebba)
A10: Klara Behm (Ebba) | B10: JA
A11: Caroline Ridderheim (Ebba och Tyra) | B11: JA
A12: Markus Ridderheim
A13: Zandra Hamming (Ellen) | B13: JA
A14: Åsa Hamming (Ellen) | B14: JA
A15: Alexandra Expert (Elsa)
A16: Edvard Expert (Elsa) | B16: JA
A17: Behiye Celebi (Gizem)
A18: Ferit Celebi (Gizem) | B18: JA
A19: Thomas Westman (Lea)
A20: Louise Westman (Lea)
A23: Eleonore Johansson (Mio) | B23: JA
A24: Jenny Johansson (Mio) | B24: JA
A25: Reidner Vega (Natti) | B25: JA
A26: Jenny Öberg (Natti)
A27: Daniel Lindblad (Penny) | B27: JA
A28: Malin Lindblad (Penny)
A29: David Better (Olivia) | B29: JA
A30: Sara Better (Olivia)
A31: Elin Öhgren Goude (Nova) | B31: JA
A32: Robert Goude (Nova) | B32: JA
A33: Tobias Tärnholm (Melanie) | B33: JA
A34: Josefin S Tärnholm (Melanie)
A35: Maya Wikstad (Alicia) | B35: JA - giltig?
A36: Thomas Wikstad (Alicia)
A37: Björn Tjälldin (Elise)
A38: Ellen Marie Tjälldin (Elise) | B38: JA
A39: Emma Palmqvist (Ellen) | B39: JA
A40: Michael Lindgren (Ellen)
A41: Elisabeth Saouma (Gabriella)
A42: Issa Saouma (Gabriella)
A43: Maurits Krantz (Lina) | B43: JA
A44: Sandra Krantz (Lina)

Sheet Filma
A1: Datum | B1: Tid | C1: Tävling | D1: Hemmalag | E1: Bortalag | F1: Spelplats | G1: Filma
A2: 2025-10-11 | B2: 11:00 | C2: Flickor - F12 Öst F12 Nivå 3 Öst | D2: Bålsta IF F12 | E2: AIK 3 | F2: Gransäterskolan | G2: Georgios Varitimidis (Melina)
A3: 2025-10-11 | B3: 12:00 | C3: Flickor - F12 Öst F12 Nivå 3 Öst | D3: GT Söder HK Vit | E3: AIK 3 | F3: Gransäterskolan | G3: Georgios Varitimidis (Melina)
A4: 2025-10-11 | B4: 12:15 | C4: Flickor - F12 Öst F12 Nivå 1 Öst | D4: Haninge HK | E4: AIK | F4: Huddingehallen | G4: Thomas Wikstad (Alicia)
A5: 2025-10-11 | B5: 13:15 | C5: Flickor - F12 Öst F12 Nivå 2 Öst Norra | D5: AIK 2 | E5: HK Ceres Norrtälje | F5: Ulriksdalshallen | G5: Markus Ridderheim
A6: 2025-10-11 | B6: 13:35 | C6: Flickor - F12 Öst F12 Nivå 1 Öst | D6: Huddinge HK | E6: AIK | F6: Huddingehallen | G6: Thomas Wikstad (Alicia)
A7: 2025-10-11 | B7: 17:00 | C7: Flickor - F12 Öst F12 Nivå 2 Öst Norra | D7: AIK 2 | E7: Vassunda IF | F7: Ulriksdalshallen | G7: Markus Ridderheim
A8: 2025-10-18 | B8: 09:00 | C8: Östbollen - F12 Öst Omgång 1 | D8: Sollentuna HK | E8: AIK | F8: Sollentuna Sporthall A | G8: Issa Saouma (Gabriella)
A9: 2025-10-18 | B9: 11:45 | C9: Östbollen - F12 Öst Omgång 1 | D9: Kungsängens SK | E9: AIK | F9: Sollentuna Sporthall A | G9: Issa Saouma (Gabriella)
A10: 2025-10-18 | B10: 13:00 | C10: Östbollen - F12 Öst Omgång 1 | D10: AIK | E10: IK Bolton | F10: Sollentuna Sporthall A | G10: Issa Saouma (Gabriella)
A11: 2025-11-08 | B11: 09:00 | C11: Flickor - F12 Öst F12 Nivå 3 Öst | D11: AIK 3 | E11: Tyresö Handboll 2 | F11: Tallbackaskolan | G11: Aydin Cebe (Zin)
A12: 2025-11-08 | B12: 11:00 | C12: Flickor - F12 Öst F12 Nivå 3 Öst | D12: AIK 3 | E12: Årsta AIK HF Grön 2 | F12: Tallbackaskolan | G12: Aydin Cebe (Zin)
... A17: 2025-11-22 | B17: 10:45 | C17: Flickor - F12 Öst F12 Nivå 3 Öst | D17: AIK 3 | E17: Rimbo HK Roslagen | F17: Ulriksdalshallen | G17: Mokhtaria Djebbar (Nina)
A18: 2025-11-23 | B18: 08:05 | C18: Flickor - F12 Öst F12 Nivå 2 Öst Norra | D18: Vacant- Spånga HK | E18: AIK 2
A19: 2025-11-23 | B19: 10:30 | C19: Flickor - F12 Öst F12 Nivå 2 Öst Norra | D19: Skånela IF | E19: AIK 2 | F19: Ekhammarhallen | G19: Jenny Johansson (Mio)
A20: 2025-11-23 | B20: 13:00 | C20: Flickor - F12 Öst F12 Nivå 1 Öst | D20: AIK | E20: IK Bolton | F20: Gustavsbergs Sporthall | G20: Ellen Marie Tjälldin (Elise)
A21: 2025-11-23 | B21: 15:50 | C21: Flickor - F12 Öst F12 Nivå 1 Öst | D21: Gustavsbergs IF HK | E21: AIK | F21: Gustavsbergs Sporthall | G21: Ellen Marie Tjälldin (Elise)
A22: 2025-12-06 | B22: 09:30 | C22: Flickor - F12 Öst F12 Nivå 2 Öst Norra | D22: HK Ceres Norrtälje | E22: AIK 2 | F22: Långsjö Sporthall | G22: Zandra Hamming (Ellen)
A23: 2025-12-06 | B23: 11:10 | C23: Flickor - F12 Öst F12 Nivå 2 Öst Norra | D23: Vassunda IF | E23: AIK 2 | F23: Långsjö Sporthall | G23: Zandra Hamming (Ellen)
A24: 2025-12-06 | B24: 17:00 | C24: Flickor - F12 Öst F12 Nivå 3 Öst | D24: Vacant- Spånga HK 2 | E24: AIK 3
A25: 2025-12-07 | B25: 09:00 | C25: Flickor - F12 Öst F12 Nivå 1 Öst | D25: IK Bolton | E25: AIK | F25: Skanstullshallen | G25: Alexandra Expert (Elsa)
A26: 2025-12-07 | B26: 10:40 | C26: Flickor - F12 Öst F12 Nivå 1 Öst | D26: AIK | E26: Haninge HK | F26: Skanstullshallen | G26: Alexandra Expert (Elsa)
A27: 2026-01-10 | B27: 09:00 | C27: Flickor - F12 Öst F12 Nivå 3 Öst | D27: AIK 3 | E27: Kista SC KFUM | F27: Tallbackaskolan | G27: Daniel Lindblad (Penny)
A28: 2026-01-10 | B28: 09:45 | C28: Flickor - F12 Öst F12 Nivå 1 Öst | D28: AIK | E28: Skuru IK | F28: Tallbackaskolan | G28: Michael Lindgren (Ellen)
A29: 2026-01-10 | B29: 12:00 | C29: Flickor - F12 Öst F12 Nivå 3 Öst | D29: AIK 3 | E29: Tyresö Handboll 2 | F29: Tallbackaskolan | G29: Daniel Lindblad (Penny)
A30: 2026-01-10 | B30: 12:45 | C30: Flickor - F12 Öst F12 Nivå 1 Öst | D30: AIK | E30: Huddinge HK | F30: Tallbackaskolan | G30: Michael Lindgren (Ellen)
A31: 2026-01-11 | B31: 08:05 | C31: Flickor - F12 Öst F12 Nivå 2 Öst Norra | D31: Kungsängens SK 2 | E31: AIK 2 | F31: Ekhammarhallen | G31: David Better (Olivia)
A32: 2026-01-11 | B32: 13:15 | C32: Flickor - F12 Öst F12 Nivå 2 Öst Norra | D32: AIK 2 | E32: Skå IK | F32: Ekhammarhallen | G32: David Better (Olivia)
A33: 2026-01-24 | B33: 09:40 | C33: Flickor - F12 Öst F12 Nivå 1 Öst | D33: AIK | E33: Gustavsbergs IF HK | F33: Eriksdalshallen Stora | G33: Ferit Celebi (Gizem)
A34: 2026-01-24 | B34: 11:20 | C34: Flickor - F12 Öst F12 Nivå 1 Öst | D34: Hammarby IF HF | E34: AIK | F34: Eriksdalshallen Stora | G34: Ferit Celebi (Gizem)
A35: 2026-01-24 | B35: 16:15 | C35: Flickor - F12 Öst F12 Nivå 2 Öst Norra | D35: AIK 2 | E35: Skånela IF | F35: Tappströms Bollhall | G35: Reidner Vega (Natti)
A36: 2026-01-24 | B36: 17:15 | C36: Flickor - F12 Öst F12 Nivå 2 Öst Norra | D36: Sollentuna HK | E36: AIK 2 | F36: Tappströms Bollhall | G36: Reidner Vega (Natti)
... A49: 2026-03-21 | B49: 13:10 | C49: Flickor - F12 Öst F12 Nivå 1 Öst | D49: AIK | E49: Sannadals SK | F49: Charlottendalshallen | G49: Robert Goude (Nova)

Sheet Change Log
A1: Version | B1: Datum | C1: Nytt
A2: 1.2 | B2: 45786 | C2: Lagt till föräldrar som tillkommit. Huvudsaklingen föräldrar till Täby tjejer men även andra. Även tagit bort föräldrar till barn som slutat
A3: 1.3 | B3: 24/8/2025 | C3: Lagt till föräldrar som tillkommit. Tagit bort föräldrar till barn som slutat. Justerat deltagare på aktiviteter som varit. Lagt till kolumner för kommande aktiviteter. Lagt till en flik för EMP
A4: 1.4 | B4: 45926 | C4: Fördelat aktiviteter för säsongen 25/26 fram till 14 feb
